BEGIN:VCALENDAR
VERSION:2.0
PRODID:-//The Q - ECPv6.15.20//NONSGML v1.0//EN
CALSCALE:GREGORIAN
METHOD:PUBLISH
X-WR-CALNAME:The Q
X-ORIGINAL-URL:https://www.theq.au
X-WR-CALDESC:Events for The Q
REFRESH-INTERVAL;VALUE=DURATION:PT1H
X-Robots-Tag:noindex
X-PUBLISHED-TTL:PT1H
BEGIN:VTIMEZONE
TZID:Australia/Brisbane
BEGIN:STANDARD
TZOFFSETFROM:+1000
TZOFFSETTO:+1000
TZNAME:AEST
DTSTART:20270101T000000
END:STANDARD
END:VTIMEZONE
BEGIN:VEVENT
DTSTART;TZID=Australia/Brisbane:20281114T170000
DTEND;TZID=Australia/Brisbane:20281114T210000
DTSTAMP:20260423T203302
CREATED:20250818T045354Z
LAST-MODIFIED:20250818T045401Z
UID:10038507-1857834000-1857848400@www.theq.au
SUMMARY:Chicken Schnitty & Parmy Night
DESCRIPTION:Enjoy a succulent\, golden crumbed chicken schnitzel for just $18\, or make it a Parmy for $20!
URL:https://www.theq.au/event/chicken-schnitty-parmy-night-2/2028-11-14/
LOCATION:The Q\, 70 Ipswich Boonah Rd\, Purga\, QLD\, 4306\, Australia
CATEGORIES:All,Meal Specials
ATTACH;FMTTYPE=image/jpeg:https://www.theq.au/wp-content/uploads/2025/08/Untitled-design-9-1.jpg
END:VEVENT
BEGIN:VEVENT
DTSTART;TZID=Australia/Brisbane:20281114T190000
DTEND;TZID=Australia/Brisbane:20281114T210000
DTSTAMP:20260423T203302
CREATED:20250804T054750Z
LAST-MODIFIED:20250922T064935Z
UID:10039291-1857841200-1857848400@www.theq.au
SUMMARY:Trivia
DESCRIPTION:Bring your A-game to InnQUIZitive Trivia every Tuesday at The Q — kicking off from 7:00 PM and free to play!\n\nTest your knowledge\, win great prizes\, and enjoy epic dinner deals with $20 Parmi Night and $18 Schnitty Night.\n\nFirst place takes home a $100 voucher — so round up your team and get ready to dominate.\n\nBook a table to secure your spot!
URL:https://www.theq.au/event/trivia/2028-11-14/
LOCATION:The Q\, 70 Ipswich Boonah Rd\, Purga\, QLD\, 4306\, Australia
CATEGORIES:All,Trivia,Weekly Activities
ATTACH;FMTTYPE=image/jpeg:https://www.theq.au/wp-content/uploads/2025/08/Trivia-Website-Tile-500-x-520-px-1920-x-400-px-1.jpg
END:VEVENT
BEGIN:VEVENT
DTSTART;TZID=Australia/Brisbane:20281115T170000
DTEND;TZID=Australia/Brisbane:20281115T210000
DTSTAMP:20260423T203302
CREATED:20250815T021420Z
LAST-MODIFIED:20250818T014915Z
UID:10037264-1857920400-1857934800@www.theq.au
SUMMARY:Steak Night
DESCRIPTION:Sink your teeth into a 250g rump steak served with chips\, salad and your choice of sauce. All for just $20!
URL:https://www.theq.au/event/steak-night/2028-11-15/
LOCATION:The Q\, 70 Ipswich Boonah Rd\, Purga\, QLD\, 4306\, Australia
CATEGORIES:All,Meal Specials
ATTACH;FMTTYPE=image/jpeg:https://www.theq.au/wp-content/uploads/2025/08/Untitled-design-9.jpg
END:VEVENT
BEGIN:VEVENT
DTSTART;TZID=Australia/Brisbane:20281117T193000
DTEND;TZID=Australia/Brisbane:20281117T200000
DTSTAMP:20260423T203302
CREATED:20250815T004800Z
LAST-MODIFIED:20250819T015149Z
UID:10036692-1858102200-1858104000@www.theq.au
SUMMARY:Members Draw
DESCRIPTION:Each week\, one lucky member will have the chance to win a cash prize starting at $500\, with the jackpot increasing by $250 every week if unclaimed — all the way up to $2\,500. \nWhen the jackpot hits $2\,500\, it must be won! On that night\, five members at the venue will each take home $500 cash. \nYou must be a member to win — and you must be here to claim it!
URL:https://www.theq.au/event/members-draw/2028-11-17/
LOCATION:The Q\, 70 Ipswich Boonah Rd\, Purga\, QLD\, 4306\, Australia
CATEGORIES:All,Promotions
ATTACH;FMTTYPE=image/jpeg:https://www.theq.au/wp-content/uploads/2025/08/Friday-Members-Draw-1920-X-1080-1920-x-400-px.jpg
END:VEVENT
BEGIN:VEVENT
DTSTART;TZID=Australia/Brisbane:20281119T100000
DTEND;TZID=Australia/Brisbane:20281119T210000
DTSTAMP:20260423T203302
CREATED:20250815T022559Z
LAST-MODIFIED:20250818T021348Z
UID:10037526-1858240800-1858280400@www.theq.au
SUMMARY:Sunday Roast
DESCRIPTION:Warm the soul with our hearty Sunday Roast special for just $19. Enjoy every Sunday for both lunch and dinner.
URL:https://www.theq.au/event/sunday-roast/2028-11-19/
LOCATION:The Q\, 70 Ipswich Boonah Rd\, Purga\, QLD\, 4306\, Australia
CATEGORIES:All,Meal Specials
ATTACH;FMTTYPE=image/jpeg:https://www.theq.au/wp-content/uploads/2025/08/Untitled-design-9-2.jpg
END:VEVENT
BEGIN:VEVENT
DTSTART;TZID=Australia/Brisbane:20281121T170000
DTEND;TZID=Australia/Brisbane:20281121T210000
DTSTAMP:20260423T203302
CREATED:20250818T045354Z
LAST-MODIFIED:20250818T045401Z
UID:10038508-1858438800-1858453200@www.theq.au
SUMMARY:Chicken Schnitty & Parmy Night
DESCRIPTION:Enjoy a succulent\, golden crumbed chicken schnitzel for just $18\, or make it a Parmy for $20!
URL:https://www.theq.au/event/chicken-schnitty-parmy-night-2/2028-11-21/
LOCATION:The Q\, 70 Ipswich Boonah Rd\, Purga\, QLD\, 4306\, Australia
CATEGORIES:All,Meal Specials
ATTACH;FMTTYPE=image/jpeg:https://www.theq.au/wp-content/uploads/2025/08/Untitled-design-9-1.jpg
END:VEVENT
BEGIN:VEVENT
DTSTART;TZID=Australia/Brisbane:20281121T190000
DTEND;TZID=Australia/Brisbane:20281121T210000
DTSTAMP:20260423T203302
CREATED:20250804T054750Z
LAST-MODIFIED:20250922T064935Z
UID:10039292-1858446000-1858453200@www.theq.au
SUMMARY:Trivia
DESCRIPTION:Bring your A-game to InnQUIZitive Trivia every Tuesday at The Q — kicking off from 7:00 PM and free to play!\n\nTest your knowledge\, win great prizes\, and enjoy epic dinner deals with $20 Parmi Night and $18 Schnitty Night.\n\nFirst place takes home a $100 voucher — so round up your team and get ready to dominate.\n\nBook a table to secure your spot!
URL:https://www.theq.au/event/trivia/2028-11-21/
LOCATION:The Q\, 70 Ipswich Boonah Rd\, Purga\, QLD\, 4306\, Australia
CATEGORIES:All,Trivia,Weekly Activities
ATTACH;FMTTYPE=image/jpeg:https://www.theq.au/wp-content/uploads/2025/08/Trivia-Website-Tile-500-x-520-px-1920-x-400-px-1.jpg
END:VEVENT
BEGIN:VEVENT
DTSTART;TZID=Australia/Brisbane:20281122T170000
DTEND;TZID=Australia/Brisbane:20281122T210000
DTSTAMP:20260423T203302
CREATED:20250815T021420Z
LAST-MODIFIED:20250818T014915Z
UID:10037265-1858525200-1858539600@www.theq.au
SUMMARY:Steak Night
DESCRIPTION:Sink your teeth into a 250g rump steak served with chips\, salad and your choice of sauce. All for just $20!
URL:https://www.theq.au/event/steak-night/2028-11-22/
LOCATION:The Q\, 70 Ipswich Boonah Rd\, Purga\, QLD\, 4306\, Australia
CATEGORIES:All,Meal Specials
ATTACH;FMTTYPE=image/jpeg:https://www.theq.au/wp-content/uploads/2025/08/Untitled-design-9.jpg
END:VEVENT
BEGIN:VEVENT
DTSTART;TZID=Australia/Brisbane:20281124T193000
DTEND;TZID=Australia/Brisbane:20281124T200000
DTSTAMP:20260423T203302
CREATED:20250815T004800Z
LAST-MODIFIED:20250819T015149Z
UID:10036693-1858707000-1858708800@www.theq.au
SUMMARY:Members Draw
DESCRIPTION:Each week\, one lucky member will have the chance to win a cash prize starting at $500\, with the jackpot increasing by $250 every week if unclaimed — all the way up to $2\,500. \nWhen the jackpot hits $2\,500\, it must be won! On that night\, five members at the venue will each take home $500 cash. \nYou must be a member to win — and you must be here to claim it!
URL:https://www.theq.au/event/members-draw/2028-11-24/
LOCATION:The Q\, 70 Ipswich Boonah Rd\, Purga\, QLD\, 4306\, Australia
CATEGORIES:All,Promotions
ATTACH;FMTTYPE=image/jpeg:https://www.theq.au/wp-content/uploads/2025/08/Friday-Members-Draw-1920-X-1080-1920-x-400-px.jpg
END:VEVENT
BEGIN:VEVENT
DTSTART;TZID=Australia/Brisbane:20281126T100000
DTEND;TZID=Australia/Brisbane:20281126T210000
DTSTAMP:20260423T203302
CREATED:20250815T022559Z
LAST-MODIFIED:20250818T021348Z
UID:10037527-1858845600-1858885200@www.theq.au
SUMMARY:Sunday Roast
DESCRIPTION:Warm the soul with our hearty Sunday Roast special for just $19. Enjoy every Sunday for both lunch and dinner.
URL:https://www.theq.au/event/sunday-roast/2028-11-26/
LOCATION:The Q\, 70 Ipswich Boonah Rd\, Purga\, QLD\, 4306\, Australia
CATEGORIES:All,Meal Specials
ATTACH;FMTTYPE=image/jpeg:https://www.theq.au/wp-content/uploads/2025/08/Untitled-design-9-2.jpg
END:VEVENT
BEGIN:VEVENT
DTSTART;TZID=Australia/Brisbane:20281128T170000
DTEND;TZID=Australia/Brisbane:20281128T210000
DTSTAMP:20260423T203302
CREATED:20250818T045354Z
LAST-MODIFIED:20250818T045401Z
UID:10038509-1859043600-1859058000@www.theq.au
SUMMARY:Chicken Schnitty & Parmy Night
DESCRIPTION:Enjoy a succulent\, golden crumbed chicken schnitzel for just $18\, or make it a Parmy for $20!
URL:https://www.theq.au/event/chicken-schnitty-parmy-night-2/2028-11-28/
LOCATION:The Q\, 70 Ipswich Boonah Rd\, Purga\, QLD\, 4306\, Australia
CATEGORIES:All,Meal Specials
ATTACH;FMTTYPE=image/jpeg:https://www.theq.au/wp-content/uploads/2025/08/Untitled-design-9-1.jpg
END:VEVENT
BEGIN:VEVENT
DTSTART;TZID=Australia/Brisbane:20281128T190000
DTEND;TZID=Australia/Brisbane:20281128T210000
DTSTAMP:20260423T203302
CREATED:20250804T054750Z
LAST-MODIFIED:20250922T064935Z
UID:10039293-1859050800-1859058000@www.theq.au
SUMMARY:Trivia
DESCRIPTION:Bring your A-game to InnQUIZitive Trivia every Tuesday at The Q — kicking off from 7:00 PM and free to play!\n\nTest your knowledge\, win great prizes\, and enjoy epic dinner deals with $20 Parmi Night and $18 Schnitty Night.\n\nFirst place takes home a $100 voucher — so round up your team and get ready to dominate.\n\nBook a table to secure your spot!
URL:https://www.theq.au/event/trivia/2028-11-28/
LOCATION:The Q\, 70 Ipswich Boonah Rd\, Purga\, QLD\, 4306\, Australia
CATEGORIES:All,Trivia,Weekly Activities
ATTACH;FMTTYPE=image/jpeg:https://www.theq.au/wp-content/uploads/2025/08/Trivia-Website-Tile-500-x-520-px-1920-x-400-px-1.jpg
END:VEVENT
BEGIN:VEVENT
DTSTART;TZID=Australia/Brisbane:20281129T170000
DTEND;TZID=Australia/Brisbane:20281129T210000
DTSTAMP:20260423T203302
CREATED:20250815T021420Z
LAST-MODIFIED:20250818T014915Z
UID:10037266-1859130000-1859144400@www.theq.au
SUMMARY:Steak Night
DESCRIPTION:Sink your teeth into a 250g rump steak served with chips\, salad and your choice of sauce. All for just $20!
URL:https://www.theq.au/event/steak-night/2028-11-29/
LOCATION:The Q\, 70 Ipswich Boonah Rd\, Purga\, QLD\, 4306\, Australia
CATEGORIES:All,Meal Specials
ATTACH;FMTTYPE=image/jpeg:https://www.theq.au/wp-content/uploads/2025/08/Untitled-design-9.jpg
END:VEVENT
BEGIN:VEVENT
DTSTART;TZID=Australia/Brisbane:20281201T193000
DTEND;TZID=Australia/Brisbane:20281201T200000
DTSTAMP:20260423T203302
CREATED:20250815T004800Z
LAST-MODIFIED:20250819T015149Z
UID:10036694-1859311800-1859313600@www.theq.au
SUMMARY:Members Draw
DESCRIPTION:Each week\, one lucky member will have the chance to win a cash prize starting at $500\, with the jackpot increasing by $250 every week if unclaimed — all the way up to $2\,500. \nWhen the jackpot hits $2\,500\, it must be won! On that night\, five members at the venue will each take home $500 cash. \nYou must be a member to win — and you must be here to claim it!
URL:https://www.theq.au/event/members-draw/2028-12-01/
LOCATION:The Q\, 70 Ipswich Boonah Rd\, Purga\, QLD\, 4306\, Australia
CATEGORIES:All,Promotions
ATTACH;FMTTYPE=image/jpeg:https://www.theq.au/wp-content/uploads/2025/08/Friday-Members-Draw-1920-X-1080-1920-x-400-px.jpg
END:VEVENT
BEGIN:VEVENT
DTSTART;TZID=Australia/Brisbane:20281203T100000
DTEND;TZID=Australia/Brisbane:20281203T210000
DTSTAMP:20260423T203302
CREATED:20250815T022559Z
LAST-MODIFIED:20250818T021348Z
UID:10037528-1859450400-1859490000@www.theq.au
SUMMARY:Sunday Roast
DESCRIPTION:Warm the soul with our hearty Sunday Roast special for just $19. Enjoy every Sunday for both lunch and dinner.
URL:https://www.theq.au/event/sunday-roast/2028-12-03/
LOCATION:The Q\, 70 Ipswich Boonah Rd\, Purga\, QLD\, 4306\, Australia
CATEGORIES:All,Meal Specials
ATTACH;FMTTYPE=image/jpeg:https://www.theq.au/wp-content/uploads/2025/08/Untitled-design-9-2.jpg
END:VEVENT
BEGIN:VEVENT
DTSTART;TZID=Australia/Brisbane:20281205T170000
DTEND;TZID=Australia/Brisbane:20281205T210000
DTSTAMP:20260423T203302
CREATED:20250818T045354Z
LAST-MODIFIED:20250818T045401Z
UID:10038510-1859648400-1859662800@www.theq.au
SUMMARY:Chicken Schnitty & Parmy Night
DESCRIPTION:Enjoy a succulent\, golden crumbed chicken schnitzel for just $18\, or make it a Parmy for $20!
URL:https://www.theq.au/event/chicken-schnitty-parmy-night-2/2028-12-05/
LOCATION:The Q\, 70 Ipswich Boonah Rd\, Purga\, QLD\, 4306\, Australia
CATEGORIES:All,Meal Specials
ATTACH;FMTTYPE=image/jpeg:https://www.theq.au/wp-content/uploads/2025/08/Untitled-design-9-1.jpg
END:VEVENT
BEGIN:VEVENT
DTSTART;TZID=Australia/Brisbane:20281205T190000
DTEND;TZID=Australia/Brisbane:20281205T210000
DTSTAMP:20260423T203302
CREATED:20250804T054750Z
LAST-MODIFIED:20250922T064935Z
UID:10039294-1859655600-1859662800@www.theq.au
SUMMARY:Trivia
DESCRIPTION:Bring your A-game to InnQUIZitive Trivia every Tuesday at The Q — kicking off from 7:00 PM and free to play!\n\nTest your knowledge\, win great prizes\, and enjoy epic dinner deals with $20 Parmi Night and $18 Schnitty Night.\n\nFirst place takes home a $100 voucher — so round up your team and get ready to dominate.\n\nBook a table to secure your spot!
URL:https://www.theq.au/event/trivia/2028-12-05/
LOCATION:The Q\, 70 Ipswich Boonah Rd\, Purga\, QLD\, 4306\, Australia
CATEGORIES:All,Trivia,Weekly Activities
ATTACH;FMTTYPE=image/jpeg:https://www.theq.au/wp-content/uploads/2025/08/Trivia-Website-Tile-500-x-520-px-1920-x-400-px-1.jpg
END:VEVENT
BEGIN:VEVENT
DTSTART;TZID=Australia/Brisbane:20281206T170000
DTEND;TZID=Australia/Brisbane:20281206T210000
DTSTAMP:20260423T203302
CREATED:20250815T021420Z
LAST-MODIFIED:20250818T014915Z
UID:10037267-1859734800-1859749200@www.theq.au
SUMMARY:Steak Night
DESCRIPTION:Sink your teeth into a 250g rump steak served with chips\, salad and your choice of sauce. All for just $20!
URL:https://www.theq.au/event/steak-night/2028-12-06/
LOCATION:The Q\, 70 Ipswich Boonah Rd\, Purga\, QLD\, 4306\, Australia
CATEGORIES:All,Meal Specials
ATTACH;FMTTYPE=image/jpeg:https://www.theq.au/wp-content/uploads/2025/08/Untitled-design-9.jpg
END:VEVENT
BEGIN:VEVENT
DTSTART;TZID=Australia/Brisbane:20281208T193000
DTEND;TZID=Australia/Brisbane:20281208T200000
DTSTAMP:20260423T203302
CREATED:20250815T004800Z
LAST-MODIFIED:20250819T015149Z
UID:10036695-1859916600-1859918400@www.theq.au
SUMMARY:Members Draw
DESCRIPTION:Each week\, one lucky member will have the chance to win a cash prize starting at $500\, with the jackpot increasing by $250 every week if unclaimed — all the way up to $2\,500. \nWhen the jackpot hits $2\,500\, it must be won! On that night\, five members at the venue will each take home $500 cash. \nYou must be a member to win — and you must be here to claim it!
URL:https://www.theq.au/event/members-draw/2028-12-08/
LOCATION:The Q\, 70 Ipswich Boonah Rd\, Purga\, QLD\, 4306\, Australia
CATEGORIES:All,Promotions
ATTACH;FMTTYPE=image/jpeg:https://www.theq.au/wp-content/uploads/2025/08/Friday-Members-Draw-1920-X-1080-1920-x-400-px.jpg
END:VEVENT
BEGIN:VEVENT
DTSTART;TZID=Australia/Brisbane:20281210T100000
DTEND;TZID=Australia/Brisbane:20281210T210000
DTSTAMP:20260423T203302
CREATED:20250815T022559Z
LAST-MODIFIED:20250818T021348Z
UID:10037529-1860055200-1860094800@www.theq.au
SUMMARY:Sunday Roast
DESCRIPTION:Warm the soul with our hearty Sunday Roast special for just $19. Enjoy every Sunday for both lunch and dinner.
URL:https://www.theq.au/event/sunday-roast/2028-12-10/
LOCATION:The Q\, 70 Ipswich Boonah Rd\, Purga\, QLD\, 4306\, Australia
CATEGORIES:All,Meal Specials
ATTACH;FMTTYPE=image/jpeg:https://www.theq.au/wp-content/uploads/2025/08/Untitled-design-9-2.jpg
END:VEVENT
BEGIN:VEVENT
DTSTART;TZID=Australia/Brisbane:20281212T170000
DTEND;TZID=Australia/Brisbane:20281212T210000
DTSTAMP:20260423T203302
CREATED:20250818T045354Z
LAST-MODIFIED:20250818T045401Z
UID:10038511-1860253200-1860267600@www.theq.au
SUMMARY:Chicken Schnitty & Parmy Night
DESCRIPTION:Enjoy a succulent\, golden crumbed chicken schnitzel for just $18\, or make it a Parmy for $20!
URL:https://www.theq.au/event/chicken-schnitty-parmy-night-2/2028-12-12/
LOCATION:The Q\, 70 Ipswich Boonah Rd\, Purga\, QLD\, 4306\, Australia
CATEGORIES:All,Meal Specials
ATTACH;FMTTYPE=image/jpeg:https://www.theq.au/wp-content/uploads/2025/08/Untitled-design-9-1.jpg
END:VEVENT
BEGIN:VEVENT
DTSTART;TZID=Australia/Brisbane:20281212T190000
DTEND;TZID=Australia/Brisbane:20281212T210000
DTSTAMP:20260423T203302
CREATED:20250804T054750Z
LAST-MODIFIED:20250922T064935Z
UID:10039295-1860260400-1860267600@www.theq.au
SUMMARY:Trivia
DESCRIPTION:Bring your A-game to InnQUIZitive Trivia every Tuesday at The Q — kicking off from 7:00 PM and free to play!\n\nTest your knowledge\, win great prizes\, and enjoy epic dinner deals with $20 Parmi Night and $18 Schnitty Night.\n\nFirst place takes home a $100 voucher — so round up your team and get ready to dominate.\n\nBook a table to secure your spot!
URL:https://www.theq.au/event/trivia/2028-12-12/
LOCATION:The Q\, 70 Ipswich Boonah Rd\, Purga\, QLD\, 4306\, Australia
CATEGORIES:All,Trivia,Weekly Activities
ATTACH;FMTTYPE=image/jpeg:https://www.theq.au/wp-content/uploads/2025/08/Trivia-Website-Tile-500-x-520-px-1920-x-400-px-1.jpg
END:VEVENT
BEGIN:VEVENT
DTSTART;TZID=Australia/Brisbane:20281213T170000
DTEND;TZID=Australia/Brisbane:20281213T210000
DTSTAMP:20260423T203302
CREATED:20250815T021420Z
LAST-MODIFIED:20250818T014915Z
UID:10037268-1860339600-1860354000@www.theq.au
SUMMARY:Steak Night
DESCRIPTION:Sink your teeth into a 250g rump steak served with chips\, salad and your choice of sauce. All for just $20!
URL:https://www.theq.au/event/steak-night/2028-12-13/
LOCATION:The Q\, 70 Ipswich Boonah Rd\, Purga\, QLD\, 4306\, Australia
CATEGORIES:All,Meal Specials
ATTACH;FMTTYPE=image/jpeg:https://www.theq.au/wp-content/uploads/2025/08/Untitled-design-9.jpg
END:VEVENT
BEGIN:VEVENT
DTSTART;TZID=Australia/Brisbane:20281215T193000
DTEND;TZID=Australia/Brisbane:20281215T200000
DTSTAMP:20260423T203302
CREATED:20250815T004800Z
LAST-MODIFIED:20250819T015149Z
UID:10036696-1860521400-1860523200@www.theq.au
SUMMARY:Members Draw
DESCRIPTION:Each week\, one lucky member will have the chance to win a cash prize starting at $500\, with the jackpot increasing by $250 every week if unclaimed — all the way up to $2\,500. \nWhen the jackpot hits $2\,500\, it must be won! On that night\, five members at the venue will each take home $500 cash. \nYou must be a member to win — and you must be here to claim it!
URL:https://www.theq.au/event/members-draw/2028-12-15/
LOCATION:The Q\, 70 Ipswich Boonah Rd\, Purga\, QLD\, 4306\, Australia
CATEGORIES:All,Promotions
ATTACH;FMTTYPE=image/jpeg:https://www.theq.au/wp-content/uploads/2025/08/Friday-Members-Draw-1920-X-1080-1920-x-400-px.jpg
END:VEVENT
BEGIN:VEVENT
DTSTART;TZID=Australia/Brisbane:20281217T100000
DTEND;TZID=Australia/Brisbane:20281217T210000
DTSTAMP:20260423T203302
CREATED:20250815T022559Z
LAST-MODIFIED:20250818T021348Z
UID:10037530-1860660000-1860699600@www.theq.au
SUMMARY:Sunday Roast
DESCRIPTION:Warm the soul with our hearty Sunday Roast special for just $19. Enjoy every Sunday for both lunch and dinner.
URL:https://www.theq.au/event/sunday-roast/2028-12-17/
LOCATION:The Q\, 70 Ipswich Boonah Rd\, Purga\, QLD\, 4306\, Australia
CATEGORIES:All,Meal Specials
ATTACH;FMTTYPE=image/jpeg:https://www.theq.au/wp-content/uploads/2025/08/Untitled-design-9-2.jpg
END:VEVENT
BEGIN:VEVENT
DTSTART;TZID=Australia/Brisbane:20281219T170000
DTEND;TZID=Australia/Brisbane:20281219T210000
DTSTAMP:20260423T203302
CREATED:20250818T045354Z
LAST-MODIFIED:20250818T045401Z
UID:10038512-1860858000-1860872400@www.theq.au
SUMMARY:Chicken Schnitty & Parmy Night
DESCRIPTION:Enjoy a succulent\, golden crumbed chicken schnitzel for just $18\, or make it a Parmy for $20!
URL:https://www.theq.au/event/chicken-schnitty-parmy-night-2/2028-12-19/
LOCATION:The Q\, 70 Ipswich Boonah Rd\, Purga\, QLD\, 4306\, Australia
CATEGORIES:All,Meal Specials
ATTACH;FMTTYPE=image/jpeg:https://www.theq.au/wp-content/uploads/2025/08/Untitled-design-9-1.jpg
END:VEVENT
BEGIN:VEVENT
DTSTART;TZID=Australia/Brisbane:20281219T190000
DTEND;TZID=Australia/Brisbane:20281219T210000
DTSTAMP:20260423T203302
CREATED:20250804T054750Z
LAST-MODIFIED:20250922T064935Z
UID:10039296-1860865200-1860872400@www.theq.au
SUMMARY:Trivia
DESCRIPTION:Bring your A-game to InnQUIZitive Trivia every Tuesday at The Q — kicking off from 7:00 PM and free to play!\n\nTest your knowledge\, win great prizes\, and enjoy epic dinner deals with $20 Parmi Night and $18 Schnitty Night.\n\nFirst place takes home a $100 voucher — so round up your team and get ready to dominate.\n\nBook a table to secure your spot!
URL:https://www.theq.au/event/trivia/2028-12-19/
LOCATION:The Q\, 70 Ipswich Boonah Rd\, Purga\, QLD\, 4306\, Australia
CATEGORIES:All,Trivia,Weekly Activities
ATTACH;FMTTYPE=image/jpeg:https://www.theq.au/wp-content/uploads/2025/08/Trivia-Website-Tile-500-x-520-px-1920-x-400-px-1.jpg
END:VEVENT
BEGIN:VEVENT
DTSTART;TZID=Australia/Brisbane:20281220T170000
DTEND;TZID=Australia/Brisbane:20281220T210000
DTSTAMP:20260423T203302
CREATED:20250815T021420Z
LAST-MODIFIED:20250818T014915Z
UID:10037269-1860944400-1860958800@www.theq.au
SUMMARY:Steak Night
DESCRIPTION:Sink your teeth into a 250g rump steak served with chips\, salad and your choice of sauce. All for just $20!
URL:https://www.theq.au/event/steak-night/2028-12-20/
LOCATION:The Q\, 70 Ipswich Boonah Rd\, Purga\, QLD\, 4306\, Australia
CATEGORIES:All,Meal Specials
ATTACH;FMTTYPE=image/jpeg:https://www.theq.au/wp-content/uploads/2025/08/Untitled-design-9.jpg
END:VEVENT
BEGIN:VEVENT
DTSTART;TZID=Australia/Brisbane:20281222T193000
DTEND;TZID=Australia/Brisbane:20281222T200000
DTSTAMP:20260423T203302
CREATED:20250815T004800Z
LAST-MODIFIED:20250819T015149Z
UID:10036697-1861126200-1861128000@www.theq.au
SUMMARY:Members Draw
DESCRIPTION:Each week\, one lucky member will have the chance to win a cash prize starting at $500\, with the jackpot increasing by $250 every week if unclaimed — all the way up to $2\,500. \nWhen the jackpot hits $2\,500\, it must be won! On that night\, five members at the venue will each take home $500 cash. \nYou must be a member to win — and you must be here to claim it!
URL:https://www.theq.au/event/members-draw/2028-12-22/
LOCATION:The Q\, 70 Ipswich Boonah Rd\, Purga\, QLD\, 4306\, Australia
CATEGORIES:All,Promotions
ATTACH;FMTTYPE=image/jpeg:https://www.theq.au/wp-content/uploads/2025/08/Friday-Members-Draw-1920-X-1080-1920-x-400-px.jpg
END:VEVENT
BEGIN:VEVENT
DTSTART;TZID=Australia/Brisbane:20281224T100000
DTEND;TZID=Australia/Brisbane:20281224T210000
DTSTAMP:20260423T203302
CREATED:20250815T022559Z
LAST-MODIFIED:20250818T021348Z
UID:10037531-1861264800-1861304400@www.theq.au
SUMMARY:Sunday Roast
DESCRIPTION:Warm the soul with our hearty Sunday Roast special for just $19. Enjoy every Sunday for both lunch and dinner.
URL:https://www.theq.au/event/sunday-roast/2028-12-24/
LOCATION:The Q\, 70 Ipswich Boonah Rd\, Purga\, QLD\, 4306\, Australia
CATEGORIES:All,Meal Specials
ATTACH;FMTTYPE=image/jpeg:https://www.theq.au/wp-content/uploads/2025/08/Untitled-design-9-2.jpg
END:VEVENT
END:VCALENDAR