BEGIN:VCALENDAR
VERSION:2.0
PRODID:-//The Q - ECPv6.15.20//NONSGML v1.0//EN
CALSCALE:GREGORIAN
METHOD:PUBLISH
X-ORIGINAL-URL:https://www.theq.au
X-WR-CALDESC:Events for The Q
REFRESH-INTERVAL;VALUE=DURATION:PT1H
X-Robots-Tag:noindex
X-PUBLISHED-TTL:PT1H
BEGIN:VTIMEZONE
TZID:Australia/Brisbane
BEGIN:STANDARD
TZOFFSETFROM:+1000
TZOFFSETTO:+1000
TZNAME:AEST
DTSTART:20240101T000000
END:STANDARD
END:VTIMEZONE
BEGIN:VEVENT
DTSTART;VALUE=DATE:20250907
DTEND;VALUE=DATE:20250908
DTSTAMP:20260421T103852
CREATED:20250907T050023Z
LAST-MODIFIED:20250815T041813Z
UID:10036259-1757203200-1757289599@www.theq.au
SUMMARY:Father's Day Special
DESCRIPTION:Father’s Day Special – $25 rump steak with your choice of topper!!!
URL:https://www.theq.au/event/fathers-day-special/
LOCATION:The Q\, 70 Ipswich Boonah Rd\, Purga\, QLD\, 4306\, Australia
CATEGORIES:All,Meal Specials,Promotions
END:VEVENT
BEGIN:VEVENT
DTSTART;TZID=Australia/Brisbane:20250905T193000
DTEND;TZID=Australia/Brisbane:20250905T200000
DTSTAMP:20260421T103852
CREATED:20250815T004800Z
LAST-MODIFIED:20250819T015149Z
UID:10036525-1757100600-1757102400@www.theq.au
SUMMARY:Members Draw
DESCRIPTION:Each week\, one lucky member will have the chance to win a cash prize starting at $500\, with the jackpot increasing by $250 every week if unclaimed — all the way up to $2\,500. \nWhen the jackpot hits $2\,500\, it must be won! On that night\, five members at the venue will each take home $500 cash. \nYou must be a member to win — and you must be here to claim it!
URL:https://www.theq.au/event/members-draw/2025-09-05/
LOCATION:The Q\, 70 Ipswich Boonah Rd\, Purga\, QLD\, 4306\, Australia
CATEGORIES:All,Promotions
ATTACH;FMTTYPE=image/jpeg:https://www.theq.au/wp-content/uploads/2025/08/Friday-Members-Draw-1920-X-1080-1920-x-400-px.jpg
END:VEVENT
BEGIN:VEVENT
DTSTART;TZID=Australia/Brisbane:20250903T170000
DTEND;TZID=Australia/Brisbane:20250903T210000
DTSTAMP:20260421T103852
CREATED:20250815T021420Z
LAST-MODIFIED:20250818T014915Z
UID:10037097-1756918800-1756933200@www.theq.au
SUMMARY:Steak Night
DESCRIPTION:Sink your teeth into a 250g rump steak served with chips\, salad and your choice of sauce. All for just $20!
URL:https://www.theq.au/event/steak-night/2025-09-03/
LOCATION:The Q\, 70 Ipswich Boonah Rd\, Purga\, QLD\, 4306\, Australia
CATEGORIES:All,Meal Specials
ATTACH;FMTTYPE=image/jpeg:https://www.theq.au/wp-content/uploads/2025/08/Untitled-design-9.jpg
END:VEVENT
BEGIN:VEVENT
DTSTART;TZID=Australia/Brisbane:20250902T170000
DTEND;TZID=Australia/Brisbane:20250902T210000
DTSTAMP:20260421T103852
CREATED:20250818T045354Z
LAST-MODIFIED:20250818T045401Z
UID:10038340-1756832400-1756846800@www.theq.au
SUMMARY:Chicken Schnitty & Parmy Night
DESCRIPTION:Enjoy a succulent\, golden crumbed chicken schnitzel for just $18\, or make it a Parmy for $20!
URL:https://www.theq.au/event/chicken-schnitty-parmy-night-2/2025-09-02/
LOCATION:The Q\, 70 Ipswich Boonah Rd\, Purga\, QLD\, 4306\, Australia
CATEGORIES:All,Meal Specials
ATTACH;FMTTYPE=image/jpeg:https://www.theq.au/wp-content/uploads/2025/08/Untitled-design-9-1.jpg
END:VEVENT
BEGIN:VEVENT
DTSTART;TZID=Australia/Brisbane:20250831T140000
DTEND;TZID=Australia/Brisbane:20250831T143000
DTSTAMP:20260421T103852
CREATED:20250827T002926Z
LAST-MODIFIED:20250827T003448Z
UID:10038600-1756648800-1756650600@www.theq.au
SUMMARY:August New Members Draw
DESCRIPTION:Join online in August for a chance to win one of 4 x $100 cash prizes! Drawn Sunday\, 31st August. T&C’s apply.
URL:https://www.theq.au/event/august-new-members-draw/
LOCATION:The Q\, 70 Ipswich Boonah Rd\, Purga\, QLD\, 4306\, Australia
CATEGORIES:All,Promotions
ATTACH;FMTTYPE=image/jpeg:https://www.theq.au/wp-content/uploads/2025/08/Copy-of-Birthday-Draw-Website-Tile-500-x-520-px-1920-x-400-px-1.jpg
END:VEVENT
BEGIN:VEVENT
DTSTART;TZID=Australia/Brisbane:20250831T100000
DTEND;TZID=Australia/Brisbane:20250831T210000
DTSTAMP:20260421T103852
CREATED:20250815T022559Z
LAST-MODIFIED:20250818T021348Z
UID:10037358-1756634400-1756674000@www.theq.au
SUMMARY:Sunday Roast
DESCRIPTION:Warm the soul with our hearty Sunday Roast special for just $19. Enjoy every Sunday for both lunch and dinner.
URL:https://www.theq.au/event/sunday-roast/2025-08-31/
LOCATION:The Q\, 70 Ipswich Boonah Rd\, Purga\, QLD\, 4306\, Australia
CATEGORIES:All,Meal Specials
ATTACH;FMTTYPE=image/jpeg:https://www.theq.au/wp-content/uploads/2025/08/Untitled-design-9-2.jpg
END:VEVENT
BEGIN:VEVENT
DTSTART;TZID=Australia/Brisbane:20250829T193000
DTEND;TZID=Australia/Brisbane:20250829T200000
DTSTAMP:20260421T103852
CREATED:20250815T004800Z
LAST-MODIFIED:20250819T015149Z
UID:10036524-1756495800-1756497600@www.theq.au
SUMMARY:Members Draw
DESCRIPTION:Each week\, one lucky member will have the chance to win a cash prize starting at $500\, with the jackpot increasing by $250 every week if unclaimed — all the way up to $2\,500. \nWhen the jackpot hits $2\,500\, it must be won! On that night\, five members at the venue will each take home $500 cash. \nYou must be a member to win — and you must be here to claim it!
URL:https://www.theq.au/event/members-draw/2025-08-29/
LOCATION:The Q\, 70 Ipswich Boonah Rd\, Purga\, QLD\, 4306\, Australia
CATEGORIES:All,Promotions
ATTACH;FMTTYPE=image/jpeg:https://www.theq.au/wp-content/uploads/2025/08/Friday-Members-Draw-1920-X-1080-1920-x-400-px.jpg
END:VEVENT
BEGIN:VEVENT
DTSTART;TZID=Australia/Brisbane:20250827T170000
DTEND;TZID=Australia/Brisbane:20250827T210000
DTSTAMP:20260421T103852
CREATED:20250815T021420Z
LAST-MODIFIED:20250818T014915Z
UID:10037096-1756314000-1756328400@www.theq.au
SUMMARY:Steak Night
DESCRIPTION:Sink your teeth into a 250g rump steak served with chips\, salad and your choice of sauce. All for just $20!
URL:https://www.theq.au/event/steak-night/2025-08-27/
LOCATION:The Q\, 70 Ipswich Boonah Rd\, Purga\, QLD\, 4306\, Australia
CATEGORIES:All,Meal Specials
ATTACH;FMTTYPE=image/jpeg:https://www.theq.au/wp-content/uploads/2025/08/Untitled-design-9.jpg
END:VEVENT
BEGIN:VEVENT
DTSTART;TZID=Australia/Brisbane:20250826T170000
DTEND;TZID=Australia/Brisbane:20250826T210000
DTSTAMP:20260421T103852
CREATED:20250818T045354Z
LAST-MODIFIED:20250818T045401Z
UID:10038339-1756227600-1756242000@www.theq.au
SUMMARY:Chicken Schnitty & Parmy Night
DESCRIPTION:Enjoy a succulent\, golden crumbed chicken schnitzel for just $18\, or make it a Parmy for $20!
URL:https://www.theq.au/event/chicken-schnitty-parmy-night-2/2025-08-26/
LOCATION:The Q\, 70 Ipswich Boonah Rd\, Purga\, QLD\, 4306\, Australia
CATEGORIES:All,Meal Specials
ATTACH;FMTTYPE=image/jpeg:https://www.theq.au/wp-content/uploads/2025/08/Untitled-design-9-1.jpg
END:VEVENT
BEGIN:VEVENT
DTSTART;TZID=Australia/Brisbane:20250824T100000
DTEND;TZID=Australia/Brisbane:20250824T210000
DTSTAMP:20260421T103852
CREATED:20250815T022559Z
LAST-MODIFIED:20250818T021348Z
UID:10037357-1756029600-1756069200@www.theq.au
SUMMARY:Sunday Roast
DESCRIPTION:Warm the soul with our hearty Sunday Roast special for just $19. Enjoy every Sunday for both lunch and dinner.
URL:https://www.theq.au/event/sunday-roast/2025-08-24/
LOCATION:The Q\, 70 Ipswich Boonah Rd\, Purga\, QLD\, 4306\, Australia
CATEGORIES:All,Meal Specials
ATTACH;FMTTYPE=image/jpeg:https://www.theq.au/wp-content/uploads/2025/08/Untitled-design-9-2.jpg
END:VEVENT
BEGIN:VEVENT
DTSTART;TZID=Australia/Brisbane:20250822T193000
DTEND;TZID=Australia/Brisbane:20250822T200000
DTSTAMP:20260421T103852
CREATED:20250815T004800Z
LAST-MODIFIED:20250819T015149Z
UID:10036523-1755891000-1755892800@www.theq.au
SUMMARY:Members Draw
DESCRIPTION:Each week\, one lucky member will have the chance to win a cash prize starting at $500\, with the jackpot increasing by $250 every week if unclaimed — all the way up to $2\,500. \nWhen the jackpot hits $2\,500\, it must be won! On that night\, five members at the venue will each take home $500 cash. \nYou must be a member to win — and you must be here to claim it!
URL:https://www.theq.au/event/members-draw/2025-08-22/
LOCATION:The Q\, 70 Ipswich Boonah Rd\, Purga\, QLD\, 4306\, Australia
CATEGORIES:All,Promotions
ATTACH;FMTTYPE=image/jpeg:https://www.theq.au/wp-content/uploads/2025/08/Friday-Members-Draw-1920-X-1080-1920-x-400-px.jpg
END:VEVENT
BEGIN:VEVENT
DTSTART;TZID=Australia/Brisbane:20250820T170000
DTEND;TZID=Australia/Brisbane:20250820T210000
DTSTAMP:20260421T103852
CREATED:20250815T021420Z
LAST-MODIFIED:20250818T014915Z
UID:10037095-1755709200-1755723600@www.theq.au
SUMMARY:Steak Night
DESCRIPTION:Sink your teeth into a 250g rump steak served with chips\, salad and your choice of sauce. All for just $20!
URL:https://www.theq.au/event/steak-night/2025-08-20/
LOCATION:The Q\, 70 Ipswich Boonah Rd\, Purga\, QLD\, 4306\, Australia
CATEGORIES:All,Meal Specials
ATTACH;FMTTYPE=image/jpeg:https://www.theq.au/wp-content/uploads/2025/08/Untitled-design-9.jpg
END:VEVENT
BEGIN:VEVENT
DTSTART;TZID=Australia/Brisbane:20250819T170000
DTEND;TZID=Australia/Brisbane:20250819T210000
DTSTAMP:20260421T103852
CREATED:20250818T045354Z
LAST-MODIFIED:20250818T045401Z
UID:10038338-1755622800-1755637200@www.theq.au
SUMMARY:Chicken Schnitty & Parmy Night
DESCRIPTION:Enjoy a succulent\, golden crumbed chicken schnitzel for just $18\, or make it a Parmy for $20!
URL:https://www.theq.au/event/chicken-schnitty-parmy-night-2/2025-08-19/
LOCATION:The Q\, 70 Ipswich Boonah Rd\, Purga\, QLD\, 4306\, Australia
CATEGORIES:All,Meal Specials
ATTACH;FMTTYPE=image/jpeg:https://www.theq.au/wp-content/uploads/2025/08/Untitled-design-9-1.jpg
END:VEVENT
BEGIN:VEVENT
DTSTART;TZID=Australia/Brisbane:20250817T100000
DTEND;TZID=Australia/Brisbane:20250817T210000
DTSTAMP:20260421T103852
CREATED:20250815T022559Z
LAST-MODIFIED:20250818T021348Z
UID:10037356-1755424800-1755464400@www.theq.au
SUMMARY:Sunday Roast
DESCRIPTION:Warm the soul with our hearty Sunday Roast special for just $19. Enjoy every Sunday for both lunch and dinner.
URL:https://www.theq.au/event/sunday-roast/2025-08-17/
LOCATION:The Q\, 70 Ipswich Boonah Rd\, Purga\, QLD\, 4306\, Australia
CATEGORIES:All,Meal Specials
ATTACH;FMTTYPE=image/jpeg:https://www.theq.au/wp-content/uploads/2025/08/Untitled-design-9-2.jpg
END:VEVENT
BEGIN:VEVENT
DTSTART;TZID=Australia/Brisbane:20250815T193000
DTEND;TZID=Australia/Brisbane:20250815T200000
DTSTAMP:20260421T103852
CREATED:20250815T004800Z
LAST-MODIFIED:20250819T015149Z
UID:10036522-1755286200-1755288000@www.theq.au
SUMMARY:Members Draw
DESCRIPTION:Each week\, one lucky member will have the chance to win a cash prize starting at $500\, with the jackpot increasing by $250 every week if unclaimed — all the way up to $2\,500. \nWhen the jackpot hits $2\,500\, it must be won! On that night\, five members at the venue will each take home $500 cash. \nYou must be a member to win — and you must be here to claim it!
URL:https://www.theq.au/event/members-draw/2025-08-15/
LOCATION:The Q\, 70 Ipswich Boonah Rd\, Purga\, QLD\, 4306\, Australia
CATEGORIES:All,Promotions
ATTACH;FMTTYPE=image/jpeg:https://www.theq.au/wp-content/uploads/2025/08/Friday-Members-Draw-1920-X-1080-1920-x-400-px.jpg
END:VEVENT
END:VCALENDAR