BEGIN:VCALENDAR
VERSION:2.0
PRODID:-//The Q - ECPv6.15.20//NONSGML v1.0//EN
CALSCALE:GREGORIAN
METHOD:PUBLISH
X-ORIGINAL-URL:https://www.theq.au
X-WR-CALDESC:Events for The Q
REFRESH-INTERVAL;VALUE=DURATION:PT1H
X-Robots-Tag:noindex
X-PUBLISHED-TTL:PT1H
BEGIN:VTIMEZONE
TZID:Australia/Brisbane
BEGIN:STANDARD
TZOFFSETFROM:+1000
TZOFFSETTO:+1000
TZNAME:AEST
DTSTART:20250101T000000
END:STANDARD
END:VTIMEZONE
BEGIN:VEVENT
DTSTART;TZID=Australia/Brisbane:20261201T170000
DTEND;TZID=Australia/Brisbane:20261201T210000
DTSTAMP:20260420T174546
CREATED:20250818T045354Z
LAST-MODIFIED:20250818T045401Z
UID:10038405-1796144400-1796158800@www.theq.au
SUMMARY:Chicken Schnitty & Parmy Night
DESCRIPTION:Enjoy a succulent\, golden crumbed chicken schnitzel for just $18\, or make it a Parmy for $20!
URL:https://www.theq.au/event/chicken-schnitty-parmy-night-2/2026-12-01/
LOCATION:The Q\, 70 Ipswich Boonah Rd\, Purga\, QLD\, 4306\, Australia
CATEGORIES:All,Meal Specials
ATTACH;FMTTYPE=image/jpeg:https://www.theq.au/wp-content/uploads/2025/08/Untitled-design-9-1.jpg
END:VEVENT
BEGIN:VEVENT
DTSTART;TZID=Australia/Brisbane:20261201T190000
DTEND;TZID=Australia/Brisbane:20261201T210000
DTSTAMP:20260420T174546
CREATED:20250804T054750Z
LAST-MODIFIED:20250922T064935Z
UID:10039189-1796151600-1796158800@www.theq.au
SUMMARY:Trivia
DESCRIPTION:Bring your A-game to InnQUIZitive Trivia every Tuesday at The Q — kicking off from 7:00 PM and free to play!\n\nTest your knowledge\, win great prizes\, and enjoy epic dinner deals with $20 Parmi Night and $18 Schnitty Night.\n\nFirst place takes home a $100 voucher — so round up your team and get ready to dominate.\n\nBook a table to secure your spot!
URL:https://www.theq.au/event/trivia/2026-12-01/
LOCATION:The Q\, 70 Ipswich Boonah Rd\, Purga\, QLD\, 4306\, Australia
CATEGORIES:All,Trivia,Weekly Activities
ATTACH;FMTTYPE=image/jpeg:https://www.theq.au/wp-content/uploads/2025/08/Trivia-Website-Tile-500-x-520-px-1920-x-400-px-1.jpg
END:VEVENT
BEGIN:VEVENT
DTSTART;TZID=Australia/Brisbane:20261202T170000
DTEND;TZID=Australia/Brisbane:20261202T210000
DTSTAMP:20260420T174546
CREATED:20250815T021420Z
LAST-MODIFIED:20250818T014915Z
UID:10037162-1796230800-1796245200@www.theq.au
SUMMARY:Steak Night
DESCRIPTION:Sink your teeth into a 250g rump steak served with chips\, salad and your choice of sauce. All for just $20!
URL:https://www.theq.au/event/steak-night/2026-12-02/
LOCATION:The Q\, 70 Ipswich Boonah Rd\, Purga\, QLD\, 4306\, Australia
CATEGORIES:All,Meal Specials
ATTACH;FMTTYPE=image/jpeg:https://www.theq.au/wp-content/uploads/2025/08/Untitled-design-9.jpg
END:VEVENT
BEGIN:VEVENT
DTSTART;TZID=Australia/Brisbane:20261204T193000
DTEND;TZID=Australia/Brisbane:20261204T200000
DTSTAMP:20260420T174546
CREATED:20250815T004800Z
LAST-MODIFIED:20250819T015149Z
UID:10036590-1796412600-1796414400@www.theq.au
SUMMARY:Members Draw
DESCRIPTION:Each week\, one lucky member will have the chance to win a cash prize starting at $500\, with the jackpot increasing by $250 every week if unclaimed — all the way up to $2\,500. \nWhen the jackpot hits $2\,500\, it must be won! On that night\, five members at the venue will each take home $500 cash. \nYou must be a member to win — and you must be here to claim it!
URL:https://www.theq.au/event/members-draw/2026-12-04/
LOCATION:The Q\, 70 Ipswich Boonah Rd\, Purga\, QLD\, 4306\, Australia
CATEGORIES:All,Promotions
ATTACH;FMTTYPE=image/jpeg:https://www.theq.au/wp-content/uploads/2025/08/Friday-Members-Draw-1920-X-1080-1920-x-400-px.jpg
END:VEVENT
BEGIN:VEVENT
DTSTART;TZID=Australia/Brisbane:20261206T100000
DTEND;TZID=Australia/Brisbane:20261206T210000
DTSTAMP:20260420T174546
CREATED:20250815T022559Z
LAST-MODIFIED:20250818T021348Z
UID:10037424-1796551200-1796590800@www.theq.au
SUMMARY:Sunday Roast
DESCRIPTION:Warm the soul with our hearty Sunday Roast special for just $19. Enjoy every Sunday for both lunch and dinner.
URL:https://www.theq.au/event/sunday-roast/2026-12-06/
LOCATION:The Q\, 70 Ipswich Boonah Rd\, Purga\, QLD\, 4306\, Australia
CATEGORIES:All,Meal Specials
ATTACH;FMTTYPE=image/jpeg:https://www.theq.au/wp-content/uploads/2025/08/Untitled-design-9-2.jpg
END:VEVENT
BEGIN:VEVENT
DTSTART;TZID=Australia/Brisbane:20261208T170000
DTEND;TZID=Australia/Brisbane:20261208T210000
DTSTAMP:20260420T174547
CREATED:20250818T045354Z
LAST-MODIFIED:20250818T045401Z
UID:10038406-1796749200-1796763600@www.theq.au
SUMMARY:Chicken Schnitty & Parmy Night
DESCRIPTION:Enjoy a succulent\, golden crumbed chicken schnitzel for just $18\, or make it a Parmy for $20!
URL:https://www.theq.au/event/chicken-schnitty-parmy-night-2/2026-12-08/
LOCATION:The Q\, 70 Ipswich Boonah Rd\, Purga\, QLD\, 4306\, Australia
CATEGORIES:All,Meal Specials
ATTACH;FMTTYPE=image/jpeg:https://www.theq.au/wp-content/uploads/2025/08/Untitled-design-9-1.jpg
END:VEVENT
BEGIN:VEVENT
DTSTART;TZID=Australia/Brisbane:20261208T190000
DTEND;TZID=Australia/Brisbane:20261208T210000
DTSTAMP:20260420T174547
CREATED:20250804T054750Z
LAST-MODIFIED:20250922T064935Z
UID:10039190-1796756400-1796763600@www.theq.au
SUMMARY:Trivia
DESCRIPTION:Bring your A-game to InnQUIZitive Trivia every Tuesday at The Q — kicking off from 7:00 PM and free to play!\n\nTest your knowledge\, win great prizes\, and enjoy epic dinner deals with $20 Parmi Night and $18 Schnitty Night.\n\nFirst place takes home a $100 voucher — so round up your team and get ready to dominate.\n\nBook a table to secure your spot!
URL:https://www.theq.au/event/trivia/2026-12-08/
LOCATION:The Q\, 70 Ipswich Boonah Rd\, Purga\, QLD\, 4306\, Australia
CATEGORIES:All,Trivia,Weekly Activities
ATTACH;FMTTYPE=image/jpeg:https://www.theq.au/wp-content/uploads/2025/08/Trivia-Website-Tile-500-x-520-px-1920-x-400-px-1.jpg
END:VEVENT
BEGIN:VEVENT
DTSTART;TZID=Australia/Brisbane:20261209T170000
DTEND;TZID=Australia/Brisbane:20261209T210000
DTSTAMP:20260420T174547
CREATED:20250815T021420Z
LAST-MODIFIED:20250818T014915Z
UID:10037163-1796835600-1796850000@www.theq.au
SUMMARY:Steak Night
DESCRIPTION:Sink your teeth into a 250g rump steak served with chips\, salad and your choice of sauce. All for just $20!
URL:https://www.theq.au/event/steak-night/2026-12-09/
LOCATION:The Q\, 70 Ipswich Boonah Rd\, Purga\, QLD\, 4306\, Australia
CATEGORIES:All,Meal Specials
ATTACH;FMTTYPE=image/jpeg:https://www.theq.au/wp-content/uploads/2025/08/Untitled-design-9.jpg
END:VEVENT
BEGIN:VEVENT
DTSTART;TZID=Australia/Brisbane:20261211T193000
DTEND;TZID=Australia/Brisbane:20261211T200000
DTSTAMP:20260420T174547
CREATED:20250815T004800Z
LAST-MODIFIED:20250819T015149Z
UID:10036591-1797017400-1797019200@www.theq.au
SUMMARY:Members Draw
DESCRIPTION:Each week\, one lucky member will have the chance to win a cash prize starting at $500\, with the jackpot increasing by $250 every week if unclaimed — all the way up to $2\,500. \nWhen the jackpot hits $2\,500\, it must be won! On that night\, five members at the venue will each take home $500 cash. \nYou must be a member to win — and you must be here to claim it!
URL:https://www.theq.au/event/members-draw/2026-12-11/
LOCATION:The Q\, 70 Ipswich Boonah Rd\, Purga\, QLD\, 4306\, Australia
CATEGORIES:All,Promotions
ATTACH;FMTTYPE=image/jpeg:https://www.theq.au/wp-content/uploads/2025/08/Friday-Members-Draw-1920-X-1080-1920-x-400-px.jpg
END:VEVENT
BEGIN:VEVENT
DTSTART;TZID=Australia/Brisbane:20261213T100000
DTEND;TZID=Australia/Brisbane:20261213T210000
DTSTAMP:20260420T174547
CREATED:20250815T022559Z
LAST-MODIFIED:20250818T021348Z
UID:10037425-1797156000-1797195600@www.theq.au
SUMMARY:Sunday Roast
DESCRIPTION:Warm the soul with our hearty Sunday Roast special for just $19. Enjoy every Sunday for both lunch and dinner.
URL:https://www.theq.au/event/sunday-roast/2026-12-13/
LOCATION:The Q\, 70 Ipswich Boonah Rd\, Purga\, QLD\, 4306\, Australia
CATEGORIES:All,Meal Specials
ATTACH;FMTTYPE=image/jpeg:https://www.theq.au/wp-content/uploads/2025/08/Untitled-design-9-2.jpg
END:VEVENT
BEGIN:VEVENT
DTSTART;TZID=Australia/Brisbane:20261215T170000
DTEND;TZID=Australia/Brisbane:20261215T210000
DTSTAMP:20260420T174547
CREATED:20250818T045354Z
LAST-MODIFIED:20250818T045401Z
UID:10038407-1797354000-1797368400@www.theq.au
SUMMARY:Chicken Schnitty & Parmy Night
DESCRIPTION:Enjoy a succulent\, golden crumbed chicken schnitzel for just $18\, or make it a Parmy for $20!
URL:https://www.theq.au/event/chicken-schnitty-parmy-night-2/2026-12-15/
LOCATION:The Q\, 70 Ipswich Boonah Rd\, Purga\, QLD\, 4306\, Australia
CATEGORIES:All,Meal Specials
ATTACH;FMTTYPE=image/jpeg:https://www.theq.au/wp-content/uploads/2025/08/Untitled-design-9-1.jpg
END:VEVENT
BEGIN:VEVENT
DTSTART;TZID=Australia/Brisbane:20261215T190000
DTEND;TZID=Australia/Brisbane:20261215T210000
DTSTAMP:20260420T174547
CREATED:20250804T054750Z
LAST-MODIFIED:20250922T064935Z
UID:10039191-1797361200-1797368400@www.theq.au
SUMMARY:Trivia
DESCRIPTION:Bring your A-game to InnQUIZitive Trivia every Tuesday at The Q — kicking off from 7:00 PM and free to play!\n\nTest your knowledge\, win great prizes\, and enjoy epic dinner deals with $20 Parmi Night and $18 Schnitty Night.\n\nFirst place takes home a $100 voucher — so round up your team and get ready to dominate.\n\nBook a table to secure your spot!
URL:https://www.theq.au/event/trivia/2026-12-15/
LOCATION:The Q\, 70 Ipswich Boonah Rd\, Purga\, QLD\, 4306\, Australia
CATEGORIES:All,Trivia,Weekly Activities
ATTACH;FMTTYPE=image/jpeg:https://www.theq.au/wp-content/uploads/2025/08/Trivia-Website-Tile-500-x-520-px-1920-x-400-px-1.jpg
END:VEVENT
BEGIN:VEVENT
DTSTART;TZID=Australia/Brisbane:20261216T170000
DTEND;TZID=Australia/Brisbane:20261216T210000
DTSTAMP:20260420T174547
CREATED:20250815T021420Z
LAST-MODIFIED:20250818T014915Z
UID:10037164-1797440400-1797454800@www.theq.au
SUMMARY:Steak Night
DESCRIPTION:Sink your teeth into a 250g rump steak served with chips\, salad and your choice of sauce. All for just $20!
URL:https://www.theq.au/event/steak-night/2026-12-16/
LOCATION:The Q\, 70 Ipswich Boonah Rd\, Purga\, QLD\, 4306\, Australia
CATEGORIES:All,Meal Specials
ATTACH;FMTTYPE=image/jpeg:https://www.theq.au/wp-content/uploads/2025/08/Untitled-design-9.jpg
END:VEVENT
BEGIN:VEVENT
DTSTART;TZID=Australia/Brisbane:20261218T193000
DTEND;TZID=Australia/Brisbane:20261218T200000
DTSTAMP:20260420T174547
CREATED:20250815T004800Z
LAST-MODIFIED:20250819T015149Z
UID:10036592-1797622200-1797624000@www.theq.au
SUMMARY:Members Draw
DESCRIPTION:Each week\, one lucky member will have the chance to win a cash prize starting at $500\, with the jackpot increasing by $250 every week if unclaimed — all the way up to $2\,500. \nWhen the jackpot hits $2\,500\, it must be won! On that night\, five members at the venue will each take home $500 cash. \nYou must be a member to win — and you must be here to claim it!
URL:https://www.theq.au/event/members-draw/2026-12-18/
LOCATION:The Q\, 70 Ipswich Boonah Rd\, Purga\, QLD\, 4306\, Australia
CATEGORIES:All,Promotions
ATTACH;FMTTYPE=image/jpeg:https://www.theq.au/wp-content/uploads/2025/08/Friday-Members-Draw-1920-X-1080-1920-x-400-px.jpg
END:VEVENT
BEGIN:VEVENT
DTSTART;TZID=Australia/Brisbane:20261220T100000
DTEND;TZID=Australia/Brisbane:20261220T210000
DTSTAMP:20260420T174547
CREATED:20250815T022559Z
LAST-MODIFIED:20250818T021348Z
UID:10037426-1797760800-1797800400@www.theq.au
SUMMARY:Sunday Roast
DESCRIPTION:Warm the soul with our hearty Sunday Roast special for just $19. Enjoy every Sunday for both lunch and dinner.
URL:https://www.theq.au/event/sunday-roast/2026-12-20/
LOCATION:The Q\, 70 Ipswich Boonah Rd\, Purga\, QLD\, 4306\, Australia
CATEGORIES:All,Meal Specials
ATTACH;FMTTYPE=image/jpeg:https://www.theq.au/wp-content/uploads/2025/08/Untitled-design-9-2.jpg
END:VEVENT
BEGIN:VEVENT
DTSTART;TZID=Australia/Brisbane:20261222T170000
DTEND;TZID=Australia/Brisbane:20261222T210000
DTSTAMP:20260420T174547
CREATED:20250818T045354Z
LAST-MODIFIED:20250818T045401Z
UID:10038408-1797958800-1797973200@www.theq.au
SUMMARY:Chicken Schnitty & Parmy Night
DESCRIPTION:Enjoy a succulent\, golden crumbed chicken schnitzel for just $18\, or make it a Parmy for $20!
URL:https://www.theq.au/event/chicken-schnitty-parmy-night-2/2026-12-22/
LOCATION:The Q\, 70 Ipswich Boonah Rd\, Purga\, QLD\, 4306\, Australia
CATEGORIES:All,Meal Specials
ATTACH;FMTTYPE=image/jpeg:https://www.theq.au/wp-content/uploads/2025/08/Untitled-design-9-1.jpg
END:VEVENT
BEGIN:VEVENT
DTSTART;TZID=Australia/Brisbane:20261222T190000
DTEND;TZID=Australia/Brisbane:20261222T210000
DTSTAMP:20260420T174547
CREATED:20250804T054750Z
LAST-MODIFIED:20250922T064935Z
UID:10039192-1797966000-1797973200@www.theq.au
SUMMARY:Trivia
DESCRIPTION:Bring your A-game to InnQUIZitive Trivia every Tuesday at The Q — kicking off from 7:00 PM and free to play!\n\nTest your knowledge\, win great prizes\, and enjoy epic dinner deals with $20 Parmi Night and $18 Schnitty Night.\n\nFirst place takes home a $100 voucher — so round up your team and get ready to dominate.\n\nBook a table to secure your spot!
URL:https://www.theq.au/event/trivia/2026-12-22/
LOCATION:The Q\, 70 Ipswich Boonah Rd\, Purga\, QLD\, 4306\, Australia
CATEGORIES:All,Trivia,Weekly Activities
ATTACH;FMTTYPE=image/jpeg:https://www.theq.au/wp-content/uploads/2025/08/Trivia-Website-Tile-500-x-520-px-1920-x-400-px-1.jpg
END:VEVENT
BEGIN:VEVENT
DTSTART;TZID=Australia/Brisbane:20261223T170000
DTEND;TZID=Australia/Brisbane:20261223T210000
DTSTAMP:20260420T174547
CREATED:20250815T021420Z
LAST-MODIFIED:20250818T014915Z
UID:10037165-1798045200-1798059600@www.theq.au
SUMMARY:Steak Night
DESCRIPTION:Sink your teeth into a 250g rump steak served with chips\, salad and your choice of sauce. All for just $20!
URL:https://www.theq.au/event/steak-night/2026-12-23/
LOCATION:The Q\, 70 Ipswich Boonah Rd\, Purga\, QLD\, 4306\, Australia
CATEGORIES:All,Meal Specials
ATTACH;FMTTYPE=image/jpeg:https://www.theq.au/wp-content/uploads/2025/08/Untitled-design-9.jpg
END:VEVENT
BEGIN:VEVENT
DTSTART;TZID=Australia/Brisbane:20261225T193000
DTEND;TZID=Australia/Brisbane:20261225T200000
DTSTAMP:20260420T174547
CREATED:20250815T004800Z
LAST-MODIFIED:20250819T015149Z
UID:10036593-1798227000-1798228800@www.theq.au
SUMMARY:Members Draw
DESCRIPTION:Each week\, one lucky member will have the chance to win a cash prize starting at $500\, with the jackpot increasing by $250 every week if unclaimed — all the way up to $2\,500. \nWhen the jackpot hits $2\,500\, it must be won! On that night\, five members at the venue will each take home $500 cash. \nYou must be a member to win — and you must be here to claim it!
URL:https://www.theq.au/event/members-draw/2026-12-25/
LOCATION:The Q\, 70 Ipswich Boonah Rd\, Purga\, QLD\, 4306\, Australia
CATEGORIES:All,Promotions
ATTACH;FMTTYPE=image/jpeg:https://www.theq.au/wp-content/uploads/2025/08/Friday-Members-Draw-1920-X-1080-1920-x-400-px.jpg
END:VEVENT
BEGIN:VEVENT
DTSTART;TZID=Australia/Brisbane:20261227T100000
DTEND;TZID=Australia/Brisbane:20261227T210000
DTSTAMP:20260420T174547
CREATED:20250815T022559Z
LAST-MODIFIED:20250818T021348Z
UID:10037427-1798365600-1798405200@www.theq.au
SUMMARY:Sunday Roast
DESCRIPTION:Warm the soul with our hearty Sunday Roast special for just $19. Enjoy every Sunday for both lunch and dinner.
URL:https://www.theq.au/event/sunday-roast/2026-12-27/
LOCATION:The Q\, 70 Ipswich Boonah Rd\, Purga\, QLD\, 4306\, Australia
CATEGORIES:All,Meal Specials
ATTACH;FMTTYPE=image/jpeg:https://www.theq.au/wp-content/uploads/2025/08/Untitled-design-9-2.jpg
END:VEVENT
BEGIN:VEVENT
DTSTART;TZID=Australia/Brisbane:20261229T170000
DTEND;TZID=Australia/Brisbane:20261229T210000
DTSTAMP:20260420T174547
CREATED:20250818T045354Z
LAST-MODIFIED:20250818T045401Z
UID:10038409-1798563600-1798578000@www.theq.au
SUMMARY:Chicken Schnitty & Parmy Night
DESCRIPTION:Enjoy a succulent\, golden crumbed chicken schnitzel for just $18\, or make it a Parmy for $20!
URL:https://www.theq.au/event/chicken-schnitty-parmy-night-2/2026-12-29/
LOCATION:The Q\, 70 Ipswich Boonah Rd\, Purga\, QLD\, 4306\, Australia
CATEGORIES:All,Meal Specials
ATTACH;FMTTYPE=image/jpeg:https://www.theq.au/wp-content/uploads/2025/08/Untitled-design-9-1.jpg
END:VEVENT
BEGIN:VEVENT
DTSTART;TZID=Australia/Brisbane:20261229T190000
DTEND;TZID=Australia/Brisbane:20261229T210000
DTSTAMP:20260420T174547
CREATED:20250804T054750Z
LAST-MODIFIED:20250922T064935Z
UID:10039193-1798570800-1798578000@www.theq.au
SUMMARY:Trivia
DESCRIPTION:Bring your A-game to InnQUIZitive Trivia every Tuesday at The Q — kicking off from 7:00 PM and free to play!\n\nTest your knowledge\, win great prizes\, and enjoy epic dinner deals with $20 Parmi Night and $18 Schnitty Night.\n\nFirst place takes home a $100 voucher — so round up your team and get ready to dominate.\n\nBook a table to secure your spot!
URL:https://www.theq.au/event/trivia/2026-12-29/
LOCATION:The Q\, 70 Ipswich Boonah Rd\, Purga\, QLD\, 4306\, Australia
CATEGORIES:All,Trivia,Weekly Activities
ATTACH;FMTTYPE=image/jpeg:https://www.theq.au/wp-content/uploads/2025/08/Trivia-Website-Tile-500-x-520-px-1920-x-400-px-1.jpg
END:VEVENT
BEGIN:VEVENT
DTSTART;TZID=Australia/Brisbane:20261230T170000
DTEND;TZID=Australia/Brisbane:20261230T210000
DTSTAMP:20260420T174547
CREATED:20250815T021420Z
LAST-MODIFIED:20250818T014915Z
UID:10037166-1798650000-1798664400@www.theq.au
SUMMARY:Steak Night
DESCRIPTION:Sink your teeth into a 250g rump steak served with chips\, salad and your choice of sauce. All for just $20!
URL:https://www.theq.au/event/steak-night/2026-12-30/
LOCATION:The Q\, 70 Ipswich Boonah Rd\, Purga\, QLD\, 4306\, Australia
CATEGORIES:All,Meal Specials
ATTACH;FMTTYPE=image/jpeg:https://www.theq.au/wp-content/uploads/2025/08/Untitled-design-9.jpg
END:VEVENT
END:VCALENDAR