BEGIN:VCALENDAR
VERSION:2.0
PRODID:-//The Q - ECPv6.15.20//NONSGML v1.0//EN
CALSCALE:GREGORIAN
METHOD:PUBLISH
X-WR-CALNAME:The Q
X-ORIGINAL-URL:https://www.theq.au
X-WR-CALDESC:Events for The Q
REFRESH-INTERVAL;VALUE=DURATION:PT1H
X-Robots-Tag:noindex
X-PUBLISHED-TTL:PT1H
BEGIN:VTIMEZONE
TZID:Australia/Brisbane
BEGIN:STANDARD
TZOFFSETFROM:+1000
TZOFFSETTO:+1000
TZNAME:AEST
DTSTART:20270101T000000
END:STANDARD
END:VTIMEZONE
BEGIN:VEVENT
DTSTART;TZID=Australia/Brisbane:20281018T170000
DTEND;TZID=Australia/Brisbane:20281018T210000
DTSTAMP:20260423T220503
CREATED:20250815T021420Z
LAST-MODIFIED:20250818T014915Z
UID:10037260-1855501200-1855515600@www.theq.au
SUMMARY:Steak Night
DESCRIPTION:Sink your teeth into a 250g rump steak served with chips\, salad and your choice of sauce. All for just $20!
URL:https://www.theq.au/event/steak-night/2028-10-18/
LOCATION:The Q\, 70 Ipswich Boonah Rd\, Purga\, QLD\, 4306\, Australia
CATEGORIES:All,Meal Specials
ATTACH;FMTTYPE=image/jpeg:https://www.theq.au/wp-content/uploads/2025/08/Untitled-design-9.jpg
END:VEVENT
BEGIN:VEVENT
DTSTART;TZID=Australia/Brisbane:20281020T193000
DTEND;TZID=Australia/Brisbane:20281020T200000
DTSTAMP:20260423T220503
CREATED:20250815T004800Z
LAST-MODIFIED:20250819T015149Z
UID:10036688-1855683000-1855684800@www.theq.au
SUMMARY:Members Draw
DESCRIPTION:Each week\, one lucky member will have the chance to win a cash prize starting at $500\, with the jackpot increasing by $250 every week if unclaimed — all the way up to $2\,500. \nWhen the jackpot hits $2\,500\, it must be won! On that night\, five members at the venue will each take home $500 cash. \nYou must be a member to win — and you must be here to claim it!
URL:https://www.theq.au/event/members-draw/2028-10-20/
LOCATION:The Q\, 70 Ipswich Boonah Rd\, Purga\, QLD\, 4306\, Australia
CATEGORIES:All,Promotions
ATTACH;FMTTYPE=image/jpeg:https://www.theq.au/wp-content/uploads/2025/08/Friday-Members-Draw-1920-X-1080-1920-x-400-px.jpg
END:VEVENT
BEGIN:VEVENT
DTSTART;TZID=Australia/Brisbane:20281022T100000
DTEND;TZID=Australia/Brisbane:20281022T210000
DTSTAMP:20260423T220503
CREATED:20250815T022559Z
LAST-MODIFIED:20250818T021348Z
UID:10037522-1855821600-1855861200@www.theq.au
SUMMARY:Sunday Roast
DESCRIPTION:Warm the soul with our hearty Sunday Roast special for just $19. Enjoy every Sunday for both lunch and dinner.
URL:https://www.theq.au/event/sunday-roast/2028-10-22/
LOCATION:The Q\, 70 Ipswich Boonah Rd\, Purga\, QLD\, 4306\, Australia
CATEGORIES:All,Meal Specials
ATTACH;FMTTYPE=image/jpeg:https://www.theq.au/wp-content/uploads/2025/08/Untitled-design-9-2.jpg
END:VEVENT
BEGIN:VEVENT
DTSTART;TZID=Australia/Brisbane:20281024T170000
DTEND;TZID=Australia/Brisbane:20281024T210000
DTSTAMP:20260423T220503
CREATED:20250818T045354Z
LAST-MODIFIED:20250818T045401Z
UID:10038504-1856019600-1856034000@www.theq.au
SUMMARY:Chicken Schnitty & Parmy Night
DESCRIPTION:Enjoy a succulent\, golden crumbed chicken schnitzel for just $18\, or make it a Parmy for $20!
URL:https://www.theq.au/event/chicken-schnitty-parmy-night-2/2028-10-24/
LOCATION:The Q\, 70 Ipswich Boonah Rd\, Purga\, QLD\, 4306\, Australia
CATEGORIES:All,Meal Specials
ATTACH;FMTTYPE=image/jpeg:https://www.theq.au/wp-content/uploads/2025/08/Untitled-design-9-1.jpg
END:VEVENT
BEGIN:VEVENT
DTSTART;TZID=Australia/Brisbane:20281024T190000
DTEND;TZID=Australia/Brisbane:20281024T210000
DTSTAMP:20260423T220503
CREATED:20250804T054750Z
LAST-MODIFIED:20250922T064935Z
UID:10039288-1856026800-1856034000@www.theq.au
SUMMARY:Trivia
DESCRIPTION:Bring your A-game to InnQUIZitive Trivia every Tuesday at The Q — kicking off from 7:00 PM and free to play!\n\nTest your knowledge\, win great prizes\, and enjoy epic dinner deals with $20 Parmi Night and $18 Schnitty Night.\n\nFirst place takes home a $100 voucher — so round up your team and get ready to dominate.\n\nBook a table to secure your spot!
URL:https://www.theq.au/event/trivia/2028-10-24/
LOCATION:The Q\, 70 Ipswich Boonah Rd\, Purga\, QLD\, 4306\, Australia
CATEGORIES:All,Trivia,Weekly Activities
ATTACH;FMTTYPE=image/jpeg:https://www.theq.au/wp-content/uploads/2025/08/Trivia-Website-Tile-500-x-520-px-1920-x-400-px-1.jpg
END:VEVENT
BEGIN:VEVENT
DTSTART;TZID=Australia/Brisbane:20281025T170000
DTEND;TZID=Australia/Brisbane:20281025T210000
DTSTAMP:20260423T220503
CREATED:20250815T021420Z
LAST-MODIFIED:20250818T014915Z
UID:10037261-1856106000-1856120400@www.theq.au
SUMMARY:Steak Night
DESCRIPTION:Sink your teeth into a 250g rump steak served with chips\, salad and your choice of sauce. All for just $20!
URL:https://www.theq.au/event/steak-night/2028-10-25/
LOCATION:The Q\, 70 Ipswich Boonah Rd\, Purga\, QLD\, 4306\, Australia
CATEGORIES:All,Meal Specials
ATTACH;FMTTYPE=image/jpeg:https://www.theq.au/wp-content/uploads/2025/08/Untitled-design-9.jpg
END:VEVENT
BEGIN:VEVENT
DTSTART;TZID=Australia/Brisbane:20281027T193000
DTEND;TZID=Australia/Brisbane:20281027T200000
DTSTAMP:20260423T220503
CREATED:20250815T004800Z
LAST-MODIFIED:20250819T015149Z
UID:10036689-1856287800-1856289600@www.theq.au
SUMMARY:Members Draw
DESCRIPTION:Each week\, one lucky member will have the chance to win a cash prize starting at $500\, with the jackpot increasing by $250 every week if unclaimed — all the way up to $2\,500. \nWhen the jackpot hits $2\,500\, it must be won! On that night\, five members at the venue will each take home $500 cash. \nYou must be a member to win — and you must be here to claim it!
URL:https://www.theq.au/event/members-draw/2028-10-27/
LOCATION:The Q\, 70 Ipswich Boonah Rd\, Purga\, QLD\, 4306\, Australia
CATEGORIES:All,Promotions
ATTACH;FMTTYPE=image/jpeg:https://www.theq.au/wp-content/uploads/2025/08/Friday-Members-Draw-1920-X-1080-1920-x-400-px.jpg
END:VEVENT
BEGIN:VEVENT
DTSTART;TZID=Australia/Brisbane:20281029T100000
DTEND;TZID=Australia/Brisbane:20281029T210000
DTSTAMP:20260423T220503
CREATED:20250815T022559Z
LAST-MODIFIED:20250818T021348Z
UID:10037523-1856426400-1856466000@www.theq.au
SUMMARY:Sunday Roast
DESCRIPTION:Warm the soul with our hearty Sunday Roast special for just $19. Enjoy every Sunday for both lunch and dinner.
URL:https://www.theq.au/event/sunday-roast/2028-10-29/
LOCATION:The Q\, 70 Ipswich Boonah Rd\, Purga\, QLD\, 4306\, Australia
CATEGORIES:All,Meal Specials
ATTACH;FMTTYPE=image/jpeg:https://www.theq.au/wp-content/uploads/2025/08/Untitled-design-9-2.jpg
END:VEVENT
BEGIN:VEVENT
DTSTART;TZID=Australia/Brisbane:20281031T170000
DTEND;TZID=Australia/Brisbane:20281031T210000
DTSTAMP:20260423T220503
CREATED:20250818T045354Z
LAST-MODIFIED:20250818T045401Z
UID:10038505-1856624400-1856638800@www.theq.au
SUMMARY:Chicken Schnitty & Parmy Night
DESCRIPTION:Enjoy a succulent\, golden crumbed chicken schnitzel for just $18\, or make it a Parmy for $20!
URL:https://www.theq.au/event/chicken-schnitty-parmy-night-2/2028-10-31/
LOCATION:The Q\, 70 Ipswich Boonah Rd\, Purga\, QLD\, 4306\, Australia
CATEGORIES:All,Meal Specials
ATTACH;FMTTYPE=image/jpeg:https://www.theq.au/wp-content/uploads/2025/08/Untitled-design-9-1.jpg
END:VEVENT
BEGIN:VEVENT
DTSTART;TZID=Australia/Brisbane:20281031T190000
DTEND;TZID=Australia/Brisbane:20281031T210000
DTSTAMP:20260423T220503
CREATED:20250804T054750Z
LAST-MODIFIED:20250922T064935Z
UID:10039289-1856631600-1856638800@www.theq.au
SUMMARY:Trivia
DESCRIPTION:Bring your A-game to InnQUIZitive Trivia every Tuesday at The Q — kicking off from 7:00 PM and free to play!\n\nTest your knowledge\, win great prizes\, and enjoy epic dinner deals with $20 Parmi Night and $18 Schnitty Night.\n\nFirst place takes home a $100 voucher — so round up your team and get ready to dominate.\n\nBook a table to secure your spot!
URL:https://www.theq.au/event/trivia/2028-10-31/
LOCATION:The Q\, 70 Ipswich Boonah Rd\, Purga\, QLD\, 4306\, Australia
CATEGORIES:All,Trivia,Weekly Activities
ATTACH;FMTTYPE=image/jpeg:https://www.theq.au/wp-content/uploads/2025/08/Trivia-Website-Tile-500-x-520-px-1920-x-400-px-1.jpg
END:VEVENT
BEGIN:VEVENT
DTSTART;TZID=Australia/Brisbane:20281101T170000
DTEND;TZID=Australia/Brisbane:20281101T210000
DTSTAMP:20260423T220503
CREATED:20250815T021420Z
LAST-MODIFIED:20250818T014915Z
UID:10037262-1856710800-1856725200@www.theq.au
SUMMARY:Steak Night
DESCRIPTION:Sink your teeth into a 250g rump steak served with chips\, salad and your choice of sauce. All for just $20!
URL:https://www.theq.au/event/steak-night/2028-11-01/
LOCATION:The Q\, 70 Ipswich Boonah Rd\, Purga\, QLD\, 4306\, Australia
CATEGORIES:All,Meal Specials
ATTACH;FMTTYPE=image/jpeg:https://www.theq.au/wp-content/uploads/2025/08/Untitled-design-9.jpg
END:VEVENT
BEGIN:VEVENT
DTSTART;TZID=Australia/Brisbane:20281103T193000
DTEND;TZID=Australia/Brisbane:20281103T200000
DTSTAMP:20260423T220503
CREATED:20250815T004800Z
LAST-MODIFIED:20250819T015149Z
UID:10036690-1856892600-1856894400@www.theq.au
SUMMARY:Members Draw
DESCRIPTION:Each week\, one lucky member will have the chance to win a cash prize starting at $500\, with the jackpot increasing by $250 every week if unclaimed — all the way up to $2\,500. \nWhen the jackpot hits $2\,500\, it must be won! On that night\, five members at the venue will each take home $500 cash. \nYou must be a member to win — and you must be here to claim it!
URL:https://www.theq.au/event/members-draw/2028-11-03/
LOCATION:The Q\, 70 Ipswich Boonah Rd\, Purga\, QLD\, 4306\, Australia
CATEGORIES:All,Promotions
ATTACH;FMTTYPE=image/jpeg:https://www.theq.au/wp-content/uploads/2025/08/Friday-Members-Draw-1920-X-1080-1920-x-400-px.jpg
END:VEVENT
BEGIN:VEVENT
DTSTART;TZID=Australia/Brisbane:20281105T100000
DTEND;TZID=Australia/Brisbane:20281105T210000
DTSTAMP:20260423T220503
CREATED:20250815T022559Z
LAST-MODIFIED:20250818T021348Z
UID:10037524-1857031200-1857070800@www.theq.au
SUMMARY:Sunday Roast
DESCRIPTION:Warm the soul with our hearty Sunday Roast special for just $19. Enjoy every Sunday for both lunch and dinner.
URL:https://www.theq.au/event/sunday-roast/2028-11-05/
LOCATION:The Q\, 70 Ipswich Boonah Rd\, Purga\, QLD\, 4306\, Australia
CATEGORIES:All,Meal Specials
ATTACH;FMTTYPE=image/jpeg:https://www.theq.au/wp-content/uploads/2025/08/Untitled-design-9-2.jpg
END:VEVENT
BEGIN:VEVENT
DTSTART;TZID=Australia/Brisbane:20281107T170000
DTEND;TZID=Australia/Brisbane:20281107T210000
DTSTAMP:20260423T220503
CREATED:20250818T045354Z
LAST-MODIFIED:20250818T045401Z
UID:10038506-1857229200-1857243600@www.theq.au
SUMMARY:Chicken Schnitty & Parmy Night
DESCRIPTION:Enjoy a succulent\, golden crumbed chicken schnitzel for just $18\, or make it a Parmy for $20!
URL:https://www.theq.au/event/chicken-schnitty-parmy-night-2/2028-11-07/
LOCATION:The Q\, 70 Ipswich Boonah Rd\, Purga\, QLD\, 4306\, Australia
CATEGORIES:All,Meal Specials
ATTACH;FMTTYPE=image/jpeg:https://www.theq.au/wp-content/uploads/2025/08/Untitled-design-9-1.jpg
END:VEVENT
BEGIN:VEVENT
DTSTART;TZID=Australia/Brisbane:20281107T190000
DTEND;TZID=Australia/Brisbane:20281107T210000
DTSTAMP:20260423T220503
CREATED:20250804T054750Z
LAST-MODIFIED:20250922T064935Z
UID:10039290-1857236400-1857243600@www.theq.au
SUMMARY:Trivia
DESCRIPTION:Bring your A-game to InnQUIZitive Trivia every Tuesday at The Q — kicking off from 7:00 PM and free to play!\n\nTest your knowledge\, win great prizes\, and enjoy epic dinner deals with $20 Parmi Night and $18 Schnitty Night.\n\nFirst place takes home a $100 voucher — so round up your team and get ready to dominate.\n\nBook a table to secure your spot!
URL:https://www.theq.au/event/trivia/2028-11-07/
LOCATION:The Q\, 70 Ipswich Boonah Rd\, Purga\, QLD\, 4306\, Australia
CATEGORIES:All,Trivia,Weekly Activities
ATTACH;FMTTYPE=image/jpeg:https://www.theq.au/wp-content/uploads/2025/08/Trivia-Website-Tile-500-x-520-px-1920-x-400-px-1.jpg
END:VEVENT
BEGIN:VEVENT
DTSTART;TZID=Australia/Brisbane:20281108T170000
DTEND;TZID=Australia/Brisbane:20281108T210000
DTSTAMP:20260423T220503
CREATED:20250815T021420Z
LAST-MODIFIED:20250818T014915Z
UID:10037263-1857315600-1857330000@www.theq.au
SUMMARY:Steak Night
DESCRIPTION:Sink your teeth into a 250g rump steak served with chips\, salad and your choice of sauce. All for just $20!
URL:https://www.theq.au/event/steak-night/2028-11-08/
LOCATION:The Q\, 70 Ipswich Boonah Rd\, Purga\, QLD\, 4306\, Australia
CATEGORIES:All,Meal Specials
ATTACH;FMTTYPE=image/jpeg:https://www.theq.au/wp-content/uploads/2025/08/Untitled-design-9.jpg
END:VEVENT
BEGIN:VEVENT
DTSTART;TZID=Australia/Brisbane:20281110T193000
DTEND;TZID=Australia/Brisbane:20281110T200000
DTSTAMP:20260423T220503
CREATED:20250815T004800Z
LAST-MODIFIED:20250819T015149Z
UID:10036691-1857497400-1857499200@www.theq.au
SUMMARY:Members Draw
DESCRIPTION:Each week\, one lucky member will have the chance to win a cash prize starting at $500\, with the jackpot increasing by $250 every week if unclaimed — all the way up to $2\,500. \nWhen the jackpot hits $2\,500\, it must be won! On that night\, five members at the venue will each take home $500 cash. \nYou must be a member to win — and you must be here to claim it!
URL:https://www.theq.au/event/members-draw/2028-11-10/
LOCATION:The Q\, 70 Ipswich Boonah Rd\, Purga\, QLD\, 4306\, Australia
CATEGORIES:All,Promotions
ATTACH;FMTTYPE=image/jpeg:https://www.theq.au/wp-content/uploads/2025/08/Friday-Members-Draw-1920-X-1080-1920-x-400-px.jpg
END:VEVENT
BEGIN:VEVENT
DTSTART;TZID=Australia/Brisbane:20281112T100000
DTEND;TZID=Australia/Brisbane:20281112T210000
DTSTAMP:20260423T220503
CREATED:20250815T022559Z
LAST-MODIFIED:20250818T021348Z
UID:10037525-1857636000-1857675600@www.theq.au
SUMMARY:Sunday Roast
DESCRIPTION:Warm the soul with our hearty Sunday Roast special for just $19. Enjoy every Sunday for both lunch and dinner.
URL:https://www.theq.au/event/sunday-roast/2028-11-12/
LOCATION:The Q\, 70 Ipswich Boonah Rd\, Purga\, QLD\, 4306\, Australia
CATEGORIES:All,Meal Specials
ATTACH;FMTTYPE=image/jpeg:https://www.theq.au/wp-content/uploads/2025/08/Untitled-design-9-2.jpg
END:VEVENT
BEGIN:VEVENT
DTSTART;TZID=Australia/Brisbane:20281114T170000
DTEND;TZID=Australia/Brisbane:20281114T210000
DTSTAMP:20260423T220503
CREATED:20250818T045354Z
LAST-MODIFIED:20250818T045401Z
UID:10038507-1857834000-1857848400@www.theq.au
SUMMARY:Chicken Schnitty & Parmy Night
DESCRIPTION:Enjoy a succulent\, golden crumbed chicken schnitzel for just $18\, or make it a Parmy for $20!
URL:https://www.theq.au/event/chicken-schnitty-parmy-night-2/2028-11-14/
LOCATION:The Q\, 70 Ipswich Boonah Rd\, Purga\, QLD\, 4306\, Australia
CATEGORIES:All,Meal Specials
ATTACH;FMTTYPE=image/jpeg:https://www.theq.au/wp-content/uploads/2025/08/Untitled-design-9-1.jpg
END:VEVENT
BEGIN:VEVENT
DTSTART;TZID=Australia/Brisbane:20281114T190000
DTEND;TZID=Australia/Brisbane:20281114T210000
DTSTAMP:20260423T220503
CREATED:20250804T054750Z
LAST-MODIFIED:20250922T064935Z
UID:10039291-1857841200-1857848400@www.theq.au
SUMMARY:Trivia
DESCRIPTION:Bring your A-game to InnQUIZitive Trivia every Tuesday at The Q — kicking off from 7:00 PM and free to play!\n\nTest your knowledge\, win great prizes\, and enjoy epic dinner deals with $20 Parmi Night and $18 Schnitty Night.\n\nFirst place takes home a $100 voucher — so round up your team and get ready to dominate.\n\nBook a table to secure your spot!
URL:https://www.theq.au/event/trivia/2028-11-14/
LOCATION:The Q\, 70 Ipswich Boonah Rd\, Purga\, QLD\, 4306\, Australia
CATEGORIES:All,Trivia,Weekly Activities
ATTACH;FMTTYPE=image/jpeg:https://www.theq.au/wp-content/uploads/2025/08/Trivia-Website-Tile-500-x-520-px-1920-x-400-px-1.jpg
END:VEVENT
BEGIN:VEVENT
DTSTART;TZID=Australia/Brisbane:20281115T170000
DTEND;TZID=Australia/Brisbane:20281115T210000
DTSTAMP:20260423T220503
CREATED:20250815T021420Z
LAST-MODIFIED:20250818T014915Z
UID:10037264-1857920400-1857934800@www.theq.au
SUMMARY:Steak Night
DESCRIPTION:Sink your teeth into a 250g rump steak served with chips\, salad and your choice of sauce. All for just $20!
URL:https://www.theq.au/event/steak-night/2028-11-15/
LOCATION:The Q\, 70 Ipswich Boonah Rd\, Purga\, QLD\, 4306\, Australia
CATEGORIES:All,Meal Specials
ATTACH;FMTTYPE=image/jpeg:https://www.theq.au/wp-content/uploads/2025/08/Untitled-design-9.jpg
END:VEVENT
BEGIN:VEVENT
DTSTART;TZID=Australia/Brisbane:20281117T193000
DTEND;TZID=Australia/Brisbane:20281117T200000
DTSTAMP:20260423T220503
CREATED:20250815T004800Z
LAST-MODIFIED:20250819T015149Z
UID:10036692-1858102200-1858104000@www.theq.au
SUMMARY:Members Draw
DESCRIPTION:Each week\, one lucky member will have the chance to win a cash prize starting at $500\, with the jackpot increasing by $250 every week if unclaimed — all the way up to $2\,500. \nWhen the jackpot hits $2\,500\, it must be won! On that night\, five members at the venue will each take home $500 cash. \nYou must be a member to win — and you must be here to claim it!
URL:https://www.theq.au/event/members-draw/2028-11-17/
LOCATION:The Q\, 70 Ipswich Boonah Rd\, Purga\, QLD\, 4306\, Australia
CATEGORIES:All,Promotions
ATTACH;FMTTYPE=image/jpeg:https://www.theq.au/wp-content/uploads/2025/08/Friday-Members-Draw-1920-X-1080-1920-x-400-px.jpg
END:VEVENT
BEGIN:VEVENT
DTSTART;TZID=Australia/Brisbane:20281119T100000
DTEND;TZID=Australia/Brisbane:20281119T210000
DTSTAMP:20260423T220503
CREATED:20250815T022559Z
LAST-MODIFIED:20250818T021348Z
UID:10037526-1858240800-1858280400@www.theq.au
SUMMARY:Sunday Roast
DESCRIPTION:Warm the soul with our hearty Sunday Roast special for just $19. Enjoy every Sunday for both lunch and dinner.
URL:https://www.theq.au/event/sunday-roast/2028-11-19/
LOCATION:The Q\, 70 Ipswich Boonah Rd\, Purga\, QLD\, 4306\, Australia
CATEGORIES:All,Meal Specials
ATTACH;FMTTYPE=image/jpeg:https://www.theq.au/wp-content/uploads/2025/08/Untitled-design-9-2.jpg
END:VEVENT
BEGIN:VEVENT
DTSTART;TZID=Australia/Brisbane:20281121T170000
DTEND;TZID=Australia/Brisbane:20281121T210000
DTSTAMP:20260423T220503
CREATED:20250818T045354Z
LAST-MODIFIED:20250818T045401Z
UID:10038508-1858438800-1858453200@www.theq.au
SUMMARY:Chicken Schnitty & Parmy Night
DESCRIPTION:Enjoy a succulent\, golden crumbed chicken schnitzel for just $18\, or make it a Parmy for $20!
URL:https://www.theq.au/event/chicken-schnitty-parmy-night-2/2028-11-21/
LOCATION:The Q\, 70 Ipswich Boonah Rd\, Purga\, QLD\, 4306\, Australia
CATEGORIES:All,Meal Specials
ATTACH;FMTTYPE=image/jpeg:https://www.theq.au/wp-content/uploads/2025/08/Untitled-design-9-1.jpg
END:VEVENT
BEGIN:VEVENT
DTSTART;TZID=Australia/Brisbane:20281121T190000
DTEND;TZID=Australia/Brisbane:20281121T210000
DTSTAMP:20260423T220503
CREATED:20250804T054750Z
LAST-MODIFIED:20250922T064935Z
UID:10039292-1858446000-1858453200@www.theq.au
SUMMARY:Trivia
DESCRIPTION:Bring your A-game to InnQUIZitive Trivia every Tuesday at The Q — kicking off from 7:00 PM and free to play!\n\nTest your knowledge\, win great prizes\, and enjoy epic dinner deals with $20 Parmi Night and $18 Schnitty Night.\n\nFirst place takes home a $100 voucher — so round up your team and get ready to dominate.\n\nBook a table to secure your spot!
URL:https://www.theq.au/event/trivia/2028-11-21/
LOCATION:The Q\, 70 Ipswich Boonah Rd\, Purga\, QLD\, 4306\, Australia
CATEGORIES:All,Trivia,Weekly Activities
ATTACH;FMTTYPE=image/jpeg:https://www.theq.au/wp-content/uploads/2025/08/Trivia-Website-Tile-500-x-520-px-1920-x-400-px-1.jpg
END:VEVENT
BEGIN:VEVENT
DTSTART;TZID=Australia/Brisbane:20281122T170000
DTEND;TZID=Australia/Brisbane:20281122T210000
DTSTAMP:20260423T220503
CREATED:20250815T021420Z
LAST-MODIFIED:20250818T014915Z
UID:10037265-1858525200-1858539600@www.theq.au
SUMMARY:Steak Night
DESCRIPTION:Sink your teeth into a 250g rump steak served with chips\, salad and your choice of sauce. All for just $20!
URL:https://www.theq.au/event/steak-night/2028-11-22/
LOCATION:The Q\, 70 Ipswich Boonah Rd\, Purga\, QLD\, 4306\, Australia
CATEGORIES:All,Meal Specials
ATTACH;FMTTYPE=image/jpeg:https://www.theq.au/wp-content/uploads/2025/08/Untitled-design-9.jpg
END:VEVENT
BEGIN:VEVENT
DTSTART;TZID=Australia/Brisbane:20281124T193000
DTEND;TZID=Australia/Brisbane:20281124T200000
DTSTAMP:20260423T220503
CREATED:20250815T004800Z
LAST-MODIFIED:20250819T015149Z
UID:10036693-1858707000-1858708800@www.theq.au
SUMMARY:Members Draw
DESCRIPTION:Each week\, one lucky member will have the chance to win a cash prize starting at $500\, with the jackpot increasing by $250 every week if unclaimed — all the way up to $2\,500. \nWhen the jackpot hits $2\,500\, it must be won! On that night\, five members at the venue will each take home $500 cash. \nYou must be a member to win — and you must be here to claim it!
URL:https://www.theq.au/event/members-draw/2028-11-24/
LOCATION:The Q\, 70 Ipswich Boonah Rd\, Purga\, QLD\, 4306\, Australia
CATEGORIES:All,Promotions
ATTACH;FMTTYPE=image/jpeg:https://www.theq.au/wp-content/uploads/2025/08/Friday-Members-Draw-1920-X-1080-1920-x-400-px.jpg
END:VEVENT
BEGIN:VEVENT
DTSTART;TZID=Australia/Brisbane:20281126T100000
DTEND;TZID=Australia/Brisbane:20281126T210000
DTSTAMP:20260423T220503
CREATED:20250815T022559Z
LAST-MODIFIED:20250818T021348Z
UID:10037527-1858845600-1858885200@www.theq.au
SUMMARY:Sunday Roast
DESCRIPTION:Warm the soul with our hearty Sunday Roast special for just $19. Enjoy every Sunday for both lunch and dinner.
URL:https://www.theq.au/event/sunday-roast/2028-11-26/
LOCATION:The Q\, 70 Ipswich Boonah Rd\, Purga\, QLD\, 4306\, Australia
CATEGORIES:All,Meal Specials
ATTACH;FMTTYPE=image/jpeg:https://www.theq.au/wp-content/uploads/2025/08/Untitled-design-9-2.jpg
END:VEVENT
BEGIN:VEVENT
DTSTART;TZID=Australia/Brisbane:20281128T170000
DTEND;TZID=Australia/Brisbane:20281128T210000
DTSTAMP:20260423T220503
CREATED:20250818T045354Z
LAST-MODIFIED:20250818T045401Z
UID:10038509-1859043600-1859058000@www.theq.au
SUMMARY:Chicken Schnitty & Parmy Night
DESCRIPTION:Enjoy a succulent\, golden crumbed chicken schnitzel for just $18\, or make it a Parmy for $20!
URL:https://www.theq.au/event/chicken-schnitty-parmy-night-2/2028-11-28/
LOCATION:The Q\, 70 Ipswich Boonah Rd\, Purga\, QLD\, 4306\, Australia
CATEGORIES:All,Meal Specials
ATTACH;FMTTYPE=image/jpeg:https://www.theq.au/wp-content/uploads/2025/08/Untitled-design-9-1.jpg
END:VEVENT
BEGIN:VEVENT
DTSTART;TZID=Australia/Brisbane:20281128T190000
DTEND;TZID=Australia/Brisbane:20281128T210000
DTSTAMP:20260423T220503
CREATED:20250804T054750Z
LAST-MODIFIED:20250922T064935Z
UID:10039293-1859050800-1859058000@www.theq.au
SUMMARY:Trivia
DESCRIPTION:Bring your A-game to InnQUIZitive Trivia every Tuesday at The Q — kicking off from 7:00 PM and free to play!\n\nTest your knowledge\, win great prizes\, and enjoy epic dinner deals with $20 Parmi Night and $18 Schnitty Night.\n\nFirst place takes home a $100 voucher — so round up your team and get ready to dominate.\n\nBook a table to secure your spot!
URL:https://www.theq.au/event/trivia/2028-11-28/
LOCATION:The Q\, 70 Ipswich Boonah Rd\, Purga\, QLD\, 4306\, Australia
CATEGORIES:All,Trivia,Weekly Activities
ATTACH;FMTTYPE=image/jpeg:https://www.theq.au/wp-content/uploads/2025/08/Trivia-Website-Tile-500-x-520-px-1920-x-400-px-1.jpg
END:VEVENT
END:VCALENDAR