BEGIN:VCALENDAR
VERSION:2.0
PRODID:-//The Q - ECPv6.15.20//NONSGML v1.0//EN
CALSCALE:GREGORIAN
METHOD:PUBLISH
X-ORIGINAL-URL:https://www.theq.au
X-WR-CALDESC:Events for The Q
REFRESH-INTERVAL;VALUE=DURATION:PT1H
X-Robots-Tag:noindex
X-PUBLISHED-TTL:PT1H
BEGIN:VTIMEZONE
TZID:Australia/Brisbane
BEGIN:STANDARD
TZOFFSETFROM:+1000
TZOFFSETTO:+1000
TZNAME:AEST
DTSTART:20260101T000000
END:STANDARD
END:VTIMEZONE
BEGIN:VEVENT
DTSTART;TZID=Australia/Brisbane:20270713T190000
DTEND;TZID=Australia/Brisbane:20270713T210000
DTSTAMP:20260422T123127
CREATED:20250804T054750Z
LAST-MODIFIED:20250922T064935Z
UID:10039221-1815505200-1815512400@www.theq.au
SUMMARY:Trivia
DESCRIPTION:Bring your A-game to InnQUIZitive Trivia every Tuesday at The Q — kicking off from 7:00 PM and free to play!\n\nTest your knowledge\, win great prizes\, and enjoy epic dinner deals with $20 Parmi Night and $18 Schnitty Night.\n\nFirst place takes home a $100 voucher — so round up your team and get ready to dominate.\n\nBook a table to secure your spot!
URL:https://www.theq.au/event/trivia/2027-07-13/
LOCATION:The Q\, 70 Ipswich Boonah Rd\, Purga\, QLD\, 4306\, Australia
CATEGORIES:All,Trivia,Weekly Activities
ATTACH;FMTTYPE=image/jpeg:https://www.theq.au/wp-content/uploads/2025/08/Trivia-Website-Tile-500-x-520-px-1920-x-400-px-1.jpg
END:VEVENT
BEGIN:VEVENT
DTSTART;TZID=Australia/Brisbane:20270714T170000
DTEND;TZID=Australia/Brisbane:20270714T210000
DTSTAMP:20260422T123127
CREATED:20250815T021420Z
LAST-MODIFIED:20250818T014915Z
UID:10037194-1815584400-1815598800@www.theq.au
SUMMARY:Steak Night
DESCRIPTION:Sink your teeth into a 250g rump steak served with chips\, salad and your choice of sauce. All for just $20!
URL:https://www.theq.au/event/steak-night/2027-07-14/
LOCATION:The Q\, 70 Ipswich Boonah Rd\, Purga\, QLD\, 4306\, Australia
CATEGORIES:All,Meal Specials
ATTACH;FMTTYPE=image/jpeg:https://www.theq.au/wp-content/uploads/2025/08/Untitled-design-9.jpg
END:VEVENT
BEGIN:VEVENT
DTSTART;TZID=Australia/Brisbane:20270716T193000
DTEND;TZID=Australia/Brisbane:20270716T200000
DTSTAMP:20260422T123127
CREATED:20250815T004800Z
LAST-MODIFIED:20250819T015149Z
UID:10036622-1815766200-1815768000@www.theq.au
SUMMARY:Members Draw
DESCRIPTION:Each week\, one lucky member will have the chance to win a cash prize starting at $500\, with the jackpot increasing by $250 every week if unclaimed — all the way up to $2\,500. \nWhen the jackpot hits $2\,500\, it must be won! On that night\, five members at the venue will each take home $500 cash. \nYou must be a member to win — and you must be here to claim it!
URL:https://www.theq.au/event/members-draw/2027-07-16/
LOCATION:The Q\, 70 Ipswich Boonah Rd\, Purga\, QLD\, 4306\, Australia
CATEGORIES:All,Promotions
ATTACH;FMTTYPE=image/jpeg:https://www.theq.au/wp-content/uploads/2025/08/Friday-Members-Draw-1920-X-1080-1920-x-400-px.jpg
END:VEVENT
BEGIN:VEVENT
DTSTART;TZID=Australia/Brisbane:20270718T100000
DTEND;TZID=Australia/Brisbane:20270718T210000
DTSTAMP:20260422T123127
CREATED:20250815T022559Z
LAST-MODIFIED:20250818T021348Z
UID:10037456-1815904800-1815944400@www.theq.au
SUMMARY:Sunday Roast
DESCRIPTION:Warm the soul with our hearty Sunday Roast special for just $19. Enjoy every Sunday for both lunch and dinner.
URL:https://www.theq.au/event/sunday-roast/2027-07-18/
LOCATION:The Q\, 70 Ipswich Boonah Rd\, Purga\, QLD\, 4306\, Australia
CATEGORIES:All,Meal Specials
ATTACH;FMTTYPE=image/jpeg:https://www.theq.au/wp-content/uploads/2025/08/Untitled-design-9-2.jpg
END:VEVENT
BEGIN:VEVENT
DTSTART;TZID=Australia/Brisbane:20270720T170000
DTEND;TZID=Australia/Brisbane:20270720T210000
DTSTAMP:20260422T123127
CREATED:20250818T045354Z
LAST-MODIFIED:20250818T045401Z
UID:10038438-1816102800-1816117200@www.theq.au
SUMMARY:Chicken Schnitty & Parmy Night
DESCRIPTION:Enjoy a succulent\, golden crumbed chicken schnitzel for just $18\, or make it a Parmy for $20!
URL:https://www.theq.au/event/chicken-schnitty-parmy-night-2/2027-07-20/
LOCATION:The Q\, 70 Ipswich Boonah Rd\, Purga\, QLD\, 4306\, Australia
CATEGORIES:All,Meal Specials
ATTACH;FMTTYPE=image/jpeg:https://www.theq.au/wp-content/uploads/2025/08/Untitled-design-9-1.jpg
END:VEVENT
BEGIN:VEVENT
DTSTART;TZID=Australia/Brisbane:20270720T190000
DTEND;TZID=Australia/Brisbane:20270720T210000
DTSTAMP:20260422T123127
CREATED:20250804T054750Z
LAST-MODIFIED:20250922T064935Z
UID:10039222-1816110000-1816117200@www.theq.au
SUMMARY:Trivia
DESCRIPTION:Bring your A-game to InnQUIZitive Trivia every Tuesday at The Q — kicking off from 7:00 PM and free to play!\n\nTest your knowledge\, win great prizes\, and enjoy epic dinner deals with $20 Parmi Night and $18 Schnitty Night.\n\nFirst place takes home a $100 voucher — so round up your team and get ready to dominate.\n\nBook a table to secure your spot!
URL:https://www.theq.au/event/trivia/2027-07-20/
LOCATION:The Q\, 70 Ipswich Boonah Rd\, Purga\, QLD\, 4306\, Australia
CATEGORIES:All,Trivia,Weekly Activities
ATTACH;FMTTYPE=image/jpeg:https://www.theq.au/wp-content/uploads/2025/08/Trivia-Website-Tile-500-x-520-px-1920-x-400-px-1.jpg
END:VEVENT
BEGIN:VEVENT
DTSTART;TZID=Australia/Brisbane:20270721T170000
DTEND;TZID=Australia/Brisbane:20270721T210000
DTSTAMP:20260422T123127
CREATED:20250815T021420Z
LAST-MODIFIED:20250818T014915Z
UID:10037195-1816189200-1816203600@www.theq.au
SUMMARY:Steak Night
DESCRIPTION:Sink your teeth into a 250g rump steak served with chips\, salad and your choice of sauce. All for just $20!
URL:https://www.theq.au/event/steak-night/2027-07-21/
LOCATION:The Q\, 70 Ipswich Boonah Rd\, Purga\, QLD\, 4306\, Australia
CATEGORIES:All,Meal Specials
ATTACH;FMTTYPE=image/jpeg:https://www.theq.au/wp-content/uploads/2025/08/Untitled-design-9.jpg
END:VEVENT
BEGIN:VEVENT
DTSTART;TZID=Australia/Brisbane:20270723T193000
DTEND;TZID=Australia/Brisbane:20270723T200000
DTSTAMP:20260422T123127
CREATED:20250815T004800Z
LAST-MODIFIED:20250819T015149Z
UID:10036623-1816371000-1816372800@www.theq.au
SUMMARY:Members Draw
DESCRIPTION:Each week\, one lucky member will have the chance to win a cash prize starting at $500\, with the jackpot increasing by $250 every week if unclaimed — all the way up to $2\,500. \nWhen the jackpot hits $2\,500\, it must be won! On that night\, five members at the venue will each take home $500 cash. \nYou must be a member to win — and you must be here to claim it!
URL:https://www.theq.au/event/members-draw/2027-07-23/
LOCATION:The Q\, 70 Ipswich Boonah Rd\, Purga\, QLD\, 4306\, Australia
CATEGORIES:All,Promotions
ATTACH;FMTTYPE=image/jpeg:https://www.theq.au/wp-content/uploads/2025/08/Friday-Members-Draw-1920-X-1080-1920-x-400-px.jpg
END:VEVENT
BEGIN:VEVENT
DTSTART;TZID=Australia/Brisbane:20270725T100000
DTEND;TZID=Australia/Brisbane:20270725T210000
DTSTAMP:20260422T123127
CREATED:20250815T022559Z
LAST-MODIFIED:20250818T021348Z
UID:10037457-1816509600-1816549200@www.theq.au
SUMMARY:Sunday Roast
DESCRIPTION:Warm the soul with our hearty Sunday Roast special for just $19. Enjoy every Sunday for both lunch and dinner.
URL:https://www.theq.au/event/sunday-roast/2027-07-25/
LOCATION:The Q\, 70 Ipswich Boonah Rd\, Purga\, QLD\, 4306\, Australia
CATEGORIES:All,Meal Specials
ATTACH;FMTTYPE=image/jpeg:https://www.theq.au/wp-content/uploads/2025/08/Untitled-design-9-2.jpg
END:VEVENT
BEGIN:VEVENT
DTSTART;TZID=Australia/Brisbane:20270727T170000
DTEND;TZID=Australia/Brisbane:20270727T210000
DTSTAMP:20260422T123127
CREATED:20250818T045354Z
LAST-MODIFIED:20250818T045401Z
UID:10038439-1816707600-1816722000@www.theq.au
SUMMARY:Chicken Schnitty & Parmy Night
DESCRIPTION:Enjoy a succulent\, golden crumbed chicken schnitzel for just $18\, or make it a Parmy for $20!
URL:https://www.theq.au/event/chicken-schnitty-parmy-night-2/2027-07-27/
LOCATION:The Q\, 70 Ipswich Boonah Rd\, Purga\, QLD\, 4306\, Australia
CATEGORIES:All,Meal Specials
ATTACH;FMTTYPE=image/jpeg:https://www.theq.au/wp-content/uploads/2025/08/Untitled-design-9-1.jpg
END:VEVENT
BEGIN:VEVENT
DTSTART;TZID=Australia/Brisbane:20270727T190000
DTEND;TZID=Australia/Brisbane:20270727T210000
DTSTAMP:20260422T123127
CREATED:20250804T054750Z
LAST-MODIFIED:20250922T064935Z
UID:10039223-1816714800-1816722000@www.theq.au
SUMMARY:Trivia
DESCRIPTION:Bring your A-game to InnQUIZitive Trivia every Tuesday at The Q — kicking off from 7:00 PM and free to play!\n\nTest your knowledge\, win great prizes\, and enjoy epic dinner deals with $20 Parmi Night and $18 Schnitty Night.\n\nFirst place takes home a $100 voucher — so round up your team and get ready to dominate.\n\nBook a table to secure your spot!
URL:https://www.theq.au/event/trivia/2027-07-27/
LOCATION:The Q\, 70 Ipswich Boonah Rd\, Purga\, QLD\, 4306\, Australia
CATEGORIES:All,Trivia,Weekly Activities
ATTACH;FMTTYPE=image/jpeg:https://www.theq.au/wp-content/uploads/2025/08/Trivia-Website-Tile-500-x-520-px-1920-x-400-px-1.jpg
END:VEVENT
BEGIN:VEVENT
DTSTART;TZID=Australia/Brisbane:20270728T170000
DTEND;TZID=Australia/Brisbane:20270728T210000
DTSTAMP:20260422T123127
CREATED:20250815T021420Z
LAST-MODIFIED:20250818T014915Z
UID:10037196-1816794000-1816808400@www.theq.au
SUMMARY:Steak Night
DESCRIPTION:Sink your teeth into a 250g rump steak served with chips\, salad and your choice of sauce. All for just $20!
URL:https://www.theq.au/event/steak-night/2027-07-28/
LOCATION:The Q\, 70 Ipswich Boonah Rd\, Purga\, QLD\, 4306\, Australia
CATEGORIES:All,Meal Specials
ATTACH;FMTTYPE=image/jpeg:https://www.theq.au/wp-content/uploads/2025/08/Untitled-design-9.jpg
END:VEVENT
BEGIN:VEVENT
DTSTART;TZID=Australia/Brisbane:20270730T193000
DTEND;TZID=Australia/Brisbane:20270730T200000
DTSTAMP:20260422T123127
CREATED:20250815T004800Z
LAST-MODIFIED:20250819T015149Z
UID:10036624-1816975800-1816977600@www.theq.au
SUMMARY:Members Draw
DESCRIPTION:Each week\, one lucky member will have the chance to win a cash prize starting at $500\, with the jackpot increasing by $250 every week if unclaimed — all the way up to $2\,500. \nWhen the jackpot hits $2\,500\, it must be won! On that night\, five members at the venue will each take home $500 cash. \nYou must be a member to win — and you must be here to claim it!
URL:https://www.theq.au/event/members-draw/2027-07-30/
LOCATION:The Q\, 70 Ipswich Boonah Rd\, Purga\, QLD\, 4306\, Australia
CATEGORIES:All,Promotions
ATTACH;FMTTYPE=image/jpeg:https://www.theq.au/wp-content/uploads/2025/08/Friday-Members-Draw-1920-X-1080-1920-x-400-px.jpg
END:VEVENT
BEGIN:VEVENT
DTSTART;TZID=Australia/Brisbane:20270801T100000
DTEND;TZID=Australia/Brisbane:20270801T210000
DTSTAMP:20260422T123127
CREATED:20250815T022559Z
LAST-MODIFIED:20250818T021348Z
UID:10037458-1817114400-1817154000@www.theq.au
SUMMARY:Sunday Roast
DESCRIPTION:Warm the soul with our hearty Sunday Roast special for just $19. Enjoy every Sunday for both lunch and dinner.
URL:https://www.theq.au/event/sunday-roast/2027-08-01/
LOCATION:The Q\, 70 Ipswich Boonah Rd\, Purga\, QLD\, 4306\, Australia
CATEGORIES:All,Meal Specials
ATTACH;FMTTYPE=image/jpeg:https://www.theq.au/wp-content/uploads/2025/08/Untitled-design-9-2.jpg
END:VEVENT
BEGIN:VEVENT
DTSTART;TZID=Australia/Brisbane:20270803T170000
DTEND;TZID=Australia/Brisbane:20270803T210000
DTSTAMP:20260422T123127
CREATED:20250818T045354Z
LAST-MODIFIED:20250818T045401Z
UID:10038440-1817312400-1817326800@www.theq.au
SUMMARY:Chicken Schnitty & Parmy Night
DESCRIPTION:Enjoy a succulent\, golden crumbed chicken schnitzel for just $18\, or make it a Parmy for $20!
URL:https://www.theq.au/event/chicken-schnitty-parmy-night-2/2027-08-03/
LOCATION:The Q\, 70 Ipswich Boonah Rd\, Purga\, QLD\, 4306\, Australia
CATEGORIES:All,Meal Specials
ATTACH;FMTTYPE=image/jpeg:https://www.theq.au/wp-content/uploads/2025/08/Untitled-design-9-1.jpg
END:VEVENT
BEGIN:VEVENT
DTSTART;TZID=Australia/Brisbane:20270803T190000
DTEND;TZID=Australia/Brisbane:20270803T210000
DTSTAMP:20260422T123127
CREATED:20250804T054750Z
LAST-MODIFIED:20250922T064935Z
UID:10039224-1817319600-1817326800@www.theq.au
SUMMARY:Trivia
DESCRIPTION:Bring your A-game to InnQUIZitive Trivia every Tuesday at The Q — kicking off from 7:00 PM and free to play!\n\nTest your knowledge\, win great prizes\, and enjoy epic dinner deals with $20 Parmi Night and $18 Schnitty Night.\n\nFirst place takes home a $100 voucher — so round up your team and get ready to dominate.\n\nBook a table to secure your spot!
URL:https://www.theq.au/event/trivia/2027-08-03/
LOCATION:The Q\, 70 Ipswich Boonah Rd\, Purga\, QLD\, 4306\, Australia
CATEGORIES:All,Trivia,Weekly Activities
ATTACH;FMTTYPE=image/jpeg:https://www.theq.au/wp-content/uploads/2025/08/Trivia-Website-Tile-500-x-520-px-1920-x-400-px-1.jpg
END:VEVENT
BEGIN:VEVENT
DTSTART;TZID=Australia/Brisbane:20270804T170000
DTEND;TZID=Australia/Brisbane:20270804T210000
DTSTAMP:20260422T123127
CREATED:20250815T021420Z
LAST-MODIFIED:20250818T014915Z
UID:10037197-1817398800-1817413200@www.theq.au
SUMMARY:Steak Night
DESCRIPTION:Sink your teeth into a 250g rump steak served with chips\, salad and your choice of sauce. All for just $20!
URL:https://www.theq.au/event/steak-night/2027-08-04/
LOCATION:The Q\, 70 Ipswich Boonah Rd\, Purga\, QLD\, 4306\, Australia
CATEGORIES:All,Meal Specials
ATTACH;FMTTYPE=image/jpeg:https://www.theq.au/wp-content/uploads/2025/08/Untitled-design-9.jpg
END:VEVENT
BEGIN:VEVENT
DTSTART;TZID=Australia/Brisbane:20270806T193000
DTEND;TZID=Australia/Brisbane:20270806T200000
DTSTAMP:20260422T123127
CREATED:20250815T004800Z
LAST-MODIFIED:20250819T015149Z
UID:10036625-1817580600-1817582400@www.theq.au
SUMMARY:Members Draw
DESCRIPTION:Each week\, one lucky member will have the chance to win a cash prize starting at $500\, with the jackpot increasing by $250 every week if unclaimed — all the way up to $2\,500. \nWhen the jackpot hits $2\,500\, it must be won! On that night\, five members at the venue will each take home $500 cash. \nYou must be a member to win — and you must be here to claim it!
URL:https://www.theq.au/event/members-draw/2027-08-06/
LOCATION:The Q\, 70 Ipswich Boonah Rd\, Purga\, QLD\, 4306\, Australia
CATEGORIES:All,Promotions
ATTACH;FMTTYPE=image/jpeg:https://www.theq.au/wp-content/uploads/2025/08/Friday-Members-Draw-1920-X-1080-1920-x-400-px.jpg
END:VEVENT
BEGIN:VEVENT
DTSTART;TZID=Australia/Brisbane:20270808T100000
DTEND;TZID=Australia/Brisbane:20270808T210000
DTSTAMP:20260422T123127
CREATED:20250815T022559Z
LAST-MODIFIED:20250818T021348Z
UID:10037459-1817719200-1817758800@www.theq.au
SUMMARY:Sunday Roast
DESCRIPTION:Warm the soul with our hearty Sunday Roast special for just $19. Enjoy every Sunday for both lunch and dinner.
URL:https://www.theq.au/event/sunday-roast/2027-08-08/
LOCATION:The Q\, 70 Ipswich Boonah Rd\, Purga\, QLD\, 4306\, Australia
CATEGORIES:All,Meal Specials
ATTACH;FMTTYPE=image/jpeg:https://www.theq.au/wp-content/uploads/2025/08/Untitled-design-9-2.jpg
END:VEVENT
BEGIN:VEVENT
DTSTART;TZID=Australia/Brisbane:20270810T170000
DTEND;TZID=Australia/Brisbane:20270810T210000
DTSTAMP:20260422T123127
CREATED:20250818T045354Z
LAST-MODIFIED:20250818T045401Z
UID:10038441-1817917200-1817931600@www.theq.au
SUMMARY:Chicken Schnitty & Parmy Night
DESCRIPTION:Enjoy a succulent\, golden crumbed chicken schnitzel for just $18\, or make it a Parmy for $20!
URL:https://www.theq.au/event/chicken-schnitty-parmy-night-2/2027-08-10/
LOCATION:The Q\, 70 Ipswich Boonah Rd\, Purga\, QLD\, 4306\, Australia
CATEGORIES:All,Meal Specials
ATTACH;FMTTYPE=image/jpeg:https://www.theq.au/wp-content/uploads/2025/08/Untitled-design-9-1.jpg
END:VEVENT
BEGIN:VEVENT
DTSTART;TZID=Australia/Brisbane:20270810T190000
DTEND;TZID=Australia/Brisbane:20270810T210000
DTSTAMP:20260422T123127
CREATED:20250804T054750Z
LAST-MODIFIED:20250922T064935Z
UID:10039225-1817924400-1817931600@www.theq.au
SUMMARY:Trivia
DESCRIPTION:Bring your A-game to InnQUIZitive Trivia every Tuesday at The Q — kicking off from 7:00 PM and free to play!\n\nTest your knowledge\, win great prizes\, and enjoy epic dinner deals with $20 Parmi Night and $18 Schnitty Night.\n\nFirst place takes home a $100 voucher — so round up your team and get ready to dominate.\n\nBook a table to secure your spot!
URL:https://www.theq.au/event/trivia/2027-08-10/
LOCATION:The Q\, 70 Ipswich Boonah Rd\, Purga\, QLD\, 4306\, Australia
CATEGORIES:All,Trivia,Weekly Activities
ATTACH;FMTTYPE=image/jpeg:https://www.theq.au/wp-content/uploads/2025/08/Trivia-Website-Tile-500-x-520-px-1920-x-400-px-1.jpg
END:VEVENT
BEGIN:VEVENT
DTSTART;TZID=Australia/Brisbane:20270811T170000
DTEND;TZID=Australia/Brisbane:20270811T210000
DTSTAMP:20260422T123127
CREATED:20250815T021420Z
LAST-MODIFIED:20250818T014915Z
UID:10037198-1818003600-1818018000@www.theq.au
SUMMARY:Steak Night
DESCRIPTION:Sink your teeth into a 250g rump steak served with chips\, salad and your choice of sauce. All for just $20!
URL:https://www.theq.au/event/steak-night/2027-08-11/
LOCATION:The Q\, 70 Ipswich Boonah Rd\, Purga\, QLD\, 4306\, Australia
CATEGORIES:All,Meal Specials
ATTACH;FMTTYPE=image/jpeg:https://www.theq.au/wp-content/uploads/2025/08/Untitled-design-9.jpg
END:VEVENT
BEGIN:VEVENT
DTSTART;TZID=Australia/Brisbane:20270813T193000
DTEND;TZID=Australia/Brisbane:20270813T200000
DTSTAMP:20260422T123127
CREATED:20250815T004800Z
LAST-MODIFIED:20250819T015149Z
UID:10036626-1818185400-1818187200@www.theq.au
SUMMARY:Members Draw
DESCRIPTION:Each week\, one lucky member will have the chance to win a cash prize starting at $500\, with the jackpot increasing by $250 every week if unclaimed — all the way up to $2\,500. \nWhen the jackpot hits $2\,500\, it must be won! On that night\, five members at the venue will each take home $500 cash. \nYou must be a member to win — and you must be here to claim it!
URL:https://www.theq.au/event/members-draw/2027-08-13/
LOCATION:The Q\, 70 Ipswich Boonah Rd\, Purga\, QLD\, 4306\, Australia
CATEGORIES:All,Promotions
ATTACH;FMTTYPE=image/jpeg:https://www.theq.au/wp-content/uploads/2025/08/Friday-Members-Draw-1920-X-1080-1920-x-400-px.jpg
END:VEVENT
BEGIN:VEVENT
DTSTART;TZID=Australia/Brisbane:20270815T100000
DTEND;TZID=Australia/Brisbane:20270815T210000
DTSTAMP:20260422T123127
CREATED:20250815T022559Z
LAST-MODIFIED:20250818T021348Z
UID:10037460-1818324000-1818363600@www.theq.au
SUMMARY:Sunday Roast
DESCRIPTION:Warm the soul with our hearty Sunday Roast special for just $19. Enjoy every Sunday for both lunch and dinner.
URL:https://www.theq.au/event/sunday-roast/2027-08-15/
LOCATION:The Q\, 70 Ipswich Boonah Rd\, Purga\, QLD\, 4306\, Australia
CATEGORIES:All,Meal Specials
ATTACH;FMTTYPE=image/jpeg:https://www.theq.au/wp-content/uploads/2025/08/Untitled-design-9-2.jpg
END:VEVENT
BEGIN:VEVENT
DTSTART;TZID=Australia/Brisbane:20270817T170000
DTEND;TZID=Australia/Brisbane:20270817T210000
DTSTAMP:20260422T123127
CREATED:20250818T045354Z
LAST-MODIFIED:20250818T045401Z
UID:10038442-1818522000-1818536400@www.theq.au
SUMMARY:Chicken Schnitty & Parmy Night
DESCRIPTION:Enjoy a succulent\, golden crumbed chicken schnitzel for just $18\, or make it a Parmy for $20!
URL:https://www.theq.au/event/chicken-schnitty-parmy-night-2/2027-08-17/
LOCATION:The Q\, 70 Ipswich Boonah Rd\, Purga\, QLD\, 4306\, Australia
CATEGORIES:All,Meal Specials
ATTACH;FMTTYPE=image/jpeg:https://www.theq.au/wp-content/uploads/2025/08/Untitled-design-9-1.jpg
END:VEVENT
BEGIN:VEVENT
DTSTART;TZID=Australia/Brisbane:20270817T190000
DTEND;TZID=Australia/Brisbane:20270817T210000
DTSTAMP:20260422T123127
CREATED:20250804T054750Z
LAST-MODIFIED:20250922T064935Z
UID:10039226-1818529200-1818536400@www.theq.au
SUMMARY:Trivia
DESCRIPTION:Bring your A-game to InnQUIZitive Trivia every Tuesday at The Q — kicking off from 7:00 PM and free to play!\n\nTest your knowledge\, win great prizes\, and enjoy epic dinner deals with $20 Parmi Night and $18 Schnitty Night.\n\nFirst place takes home a $100 voucher — so round up your team and get ready to dominate.\n\nBook a table to secure your spot!
URL:https://www.theq.au/event/trivia/2027-08-17/
LOCATION:The Q\, 70 Ipswich Boonah Rd\, Purga\, QLD\, 4306\, Australia
CATEGORIES:All,Trivia,Weekly Activities
ATTACH;FMTTYPE=image/jpeg:https://www.theq.au/wp-content/uploads/2025/08/Trivia-Website-Tile-500-x-520-px-1920-x-400-px-1.jpg
END:VEVENT
BEGIN:VEVENT
DTSTART;TZID=Australia/Brisbane:20270818T170000
DTEND;TZID=Australia/Brisbane:20270818T210000
DTSTAMP:20260422T123127
CREATED:20250815T021420Z
LAST-MODIFIED:20250818T014915Z
UID:10037199-1818608400-1818622800@www.theq.au
SUMMARY:Steak Night
DESCRIPTION:Sink your teeth into a 250g rump steak served with chips\, salad and your choice of sauce. All for just $20!
URL:https://www.theq.au/event/steak-night/2027-08-18/
LOCATION:The Q\, 70 Ipswich Boonah Rd\, Purga\, QLD\, 4306\, Australia
CATEGORIES:All,Meal Specials
ATTACH;FMTTYPE=image/jpeg:https://www.theq.au/wp-content/uploads/2025/08/Untitled-design-9.jpg
END:VEVENT
BEGIN:VEVENT
DTSTART;TZID=Australia/Brisbane:20270820T193000
DTEND;TZID=Australia/Brisbane:20270820T200000
DTSTAMP:20260422T123127
CREATED:20250815T004800Z
LAST-MODIFIED:20250819T015149Z
UID:10036627-1818790200-1818792000@www.theq.au
SUMMARY:Members Draw
DESCRIPTION:Each week\, one lucky member will have the chance to win a cash prize starting at $500\, with the jackpot increasing by $250 every week if unclaimed — all the way up to $2\,500. \nWhen the jackpot hits $2\,500\, it must be won! On that night\, five members at the venue will each take home $500 cash. \nYou must be a member to win — and you must be here to claim it!
URL:https://www.theq.au/event/members-draw/2027-08-20/
LOCATION:The Q\, 70 Ipswich Boonah Rd\, Purga\, QLD\, 4306\, Australia
CATEGORIES:All,Promotions
ATTACH;FMTTYPE=image/jpeg:https://www.theq.au/wp-content/uploads/2025/08/Friday-Members-Draw-1920-X-1080-1920-x-400-px.jpg
END:VEVENT
BEGIN:VEVENT
DTSTART;TZID=Australia/Brisbane:20270822T100000
DTEND;TZID=Australia/Brisbane:20270822T210000
DTSTAMP:20260422T123127
CREATED:20250815T022559Z
LAST-MODIFIED:20250818T021348Z
UID:10037461-1818928800-1818968400@www.theq.au
SUMMARY:Sunday Roast
DESCRIPTION:Warm the soul with our hearty Sunday Roast special for just $19. Enjoy every Sunday for both lunch and dinner.
URL:https://www.theq.au/event/sunday-roast/2027-08-22/
LOCATION:The Q\, 70 Ipswich Boonah Rd\, Purga\, QLD\, 4306\, Australia
CATEGORIES:All,Meal Specials
ATTACH;FMTTYPE=image/jpeg:https://www.theq.au/wp-content/uploads/2025/08/Untitled-design-9-2.jpg
END:VEVENT
BEGIN:VEVENT
DTSTART;TZID=Australia/Brisbane:20270824T170000
DTEND;TZID=Australia/Brisbane:20270824T210000
DTSTAMP:20260422T123127
CREATED:20250818T045354Z
LAST-MODIFIED:20250818T045401Z
UID:10038443-1819126800-1819141200@www.theq.au
SUMMARY:Chicken Schnitty & Parmy Night
DESCRIPTION:Enjoy a succulent\, golden crumbed chicken schnitzel for just $18\, or make it a Parmy for $20!
URL:https://www.theq.au/event/chicken-schnitty-parmy-night-2/2027-08-24/
LOCATION:The Q\, 70 Ipswich Boonah Rd\, Purga\, QLD\, 4306\, Australia
CATEGORIES:All,Meal Specials
ATTACH;FMTTYPE=image/jpeg:https://www.theq.au/wp-content/uploads/2025/08/Untitled-design-9-1.jpg
END:VEVENT
END:VCALENDAR