BEGIN:VCALENDAR
VERSION:2.0
PRODID:-//The Q - ECPv6.15.20//NONSGML v1.0//EN
CALSCALE:GREGORIAN
METHOD:PUBLISH
X-ORIGINAL-URL:https://www.theq.au
X-WR-CALDESC:Events for The Q
REFRESH-INTERVAL;VALUE=DURATION:PT1H
X-Robots-Tag:noindex
X-PUBLISHED-TTL:PT1H
BEGIN:VTIMEZONE
TZID:Australia/Brisbane
BEGIN:STANDARD
TZOFFSETFROM:+1000
TZOFFSETTO:+1000
TZNAME:AEST
DTSTART:20240101T000000
END:STANDARD
END:VTIMEZONE
BEGIN:VEVENT
DTSTART;TZID=Australia/Brisbane:20251231T190000
DTEND;TZID=Australia/Brisbane:20260101T010000
DTSTAMP:20260420T114857
CREATED:20251106T001634Z
LAST-MODIFIED:20251218T010540Z
UID:10039445-1767207600-1767229200@www.theq.au
SUMMARY:Vegas Comes to The Q - NYE
DESCRIPTION:This New Year’s Eve\, we’re bringing the bright lights\, glamour\, and excitement of Vegas right here to Ipswich. Get ready for a night full of entertainment\, great food\, and unforgettable moments as we welcome 2026 in true Vegas style at The Q.\n✨ What’s On\n\nLive Elvis Tribute Performance – Brendon Chase: One of the country’s premier Elvis Tribute Artists!\nShowgirls entertainment\nA delicious 2-course dinner included with your ticket\nAdd a 3-hour drinks package for just $60\nRoulette tables for classic Vegas-style fun\n\nDress to impress\, bring your best Vegas attitude\, and get ready for a night like no other. \nThe Menu\nEntree (Alternate Drop) \nThai Beef Salad on Wonton Cups \nCaramelised Fig\, Burnt Camembert Cheese on Rye Crostini (v) \nMains (Alternate Drop) \nMISO ORANGE GLAZE SNAPPER (gf) \nOn Kumera Mashed\, Fried Edamame Beans and Steamed Bok Choy \nBUTTERRY BEEF ANGUS (gf) \nCheesy Potato Stack\, Candied Carrots\, Asparagus\, and Beef Jus \nLimited tickets available. Bookings need to be made under the same name to be seated at the same table.
URL:https://www.theq.au/event/vegas-comes-to-the-q-nye/
LOCATION:QLD
CATEGORIES:All,Entertainment,Special Events
ATTACH;FMTTYPE=image/jpeg:https://www.theq.au/wp-content/uploads/2025/11/Red-And-Gold-Casino-Night-Party-Luxury-Facebook-Story-500-x-520-mm-1920-x-400-mm-scaled.jpg
END:VEVENT
BEGIN:VEVENT
DTSTART;TZID=Australia/Brisbane:20260102T193000
DTEND;TZID=Australia/Brisbane:20260102T200000
DTSTAMP:20260420T114857
CREATED:20250815T004800Z
LAST-MODIFIED:20250819T015149Z
UID:10036542-1767382200-1767384000@www.theq.au
SUMMARY:Members Draw
DESCRIPTION:Each week\, one lucky member will have the chance to win a cash prize starting at $500\, with the jackpot increasing by $250 every week if unclaimed — all the way up to $2\,500. \nWhen the jackpot hits $2\,500\, it must be won! On that night\, five members at the venue will each take home $500 cash. \nYou must be a member to win — and you must be here to claim it!
URL:https://www.theq.au/event/members-draw/2026-01-02/
LOCATION:The Q\, 70 Ipswich Boonah Rd\, Purga\, QLD\, 4306\, Australia
CATEGORIES:All,Promotions
ATTACH;FMTTYPE=image/jpeg:https://www.theq.au/wp-content/uploads/2025/08/Friday-Members-Draw-1920-X-1080-1920-x-400-px.jpg
END:VEVENT
BEGIN:VEVENT
DTSTART;TZID=Australia/Brisbane:20260104T100000
DTEND;TZID=Australia/Brisbane:20260104T210000
DTSTAMP:20260420T114857
CREATED:20250815T022559Z
LAST-MODIFIED:20250818T021348Z
UID:10037376-1767520800-1767560400@www.theq.au
SUMMARY:Sunday Roast
DESCRIPTION:Warm the soul with our hearty Sunday Roast special for just $19. Enjoy every Sunday for both lunch and dinner.
URL:https://www.theq.au/event/sunday-roast/2026-01-04/
LOCATION:The Q\, 70 Ipswich Boonah Rd\, Purga\, QLD\, 4306\, Australia
CATEGORIES:All,Meal Specials
ATTACH;FMTTYPE=image/jpeg:https://www.theq.au/wp-content/uploads/2025/08/Untitled-design-9-2.jpg
END:VEVENT
BEGIN:VEVENT
DTSTART;TZID=Australia/Brisbane:20260106T170000
DTEND;TZID=Australia/Brisbane:20260106T210000
DTSTAMP:20260420T114857
CREATED:20250818T045354Z
LAST-MODIFIED:20250818T045401Z
UID:10038358-1767718800-1767733200@www.theq.au
SUMMARY:Chicken Schnitty & Parmy Night
DESCRIPTION:Enjoy a succulent\, golden crumbed chicken schnitzel for just $18\, or make it a Parmy for $20!
URL:https://www.theq.au/event/chicken-schnitty-parmy-night-2/2026-01-06/
LOCATION:The Q\, 70 Ipswich Boonah Rd\, Purga\, QLD\, 4306\, Australia
CATEGORIES:All,Meal Specials
ATTACH;FMTTYPE=image/jpeg:https://www.theq.au/wp-content/uploads/2025/08/Untitled-design-9-1.jpg
END:VEVENT
BEGIN:VEVENT
DTSTART;TZID=Australia/Brisbane:20260106T190000
DTEND;TZID=Australia/Brisbane:20260106T210000
DTSTAMP:20260420T114857
CREATED:20250804T054750Z
LAST-MODIFIED:20250922T064935Z
UID:10039142-1767726000-1767733200@www.theq.au
SUMMARY:Trivia
DESCRIPTION:Bring your A-game to InnQUIZitive Trivia every Tuesday at The Q — kicking off from 7:00 PM and free to play!\n\nTest your knowledge\, win great prizes\, and enjoy epic dinner deals with $20 Parmi Night and $18 Schnitty Night.\n\nFirst place takes home a $100 voucher — so round up your team and get ready to dominate.\n\nBook a table to secure your spot!
URL:https://www.theq.au/event/trivia/2026-01-06/
LOCATION:The Q\, 70 Ipswich Boonah Rd\, Purga\, QLD\, 4306\, Australia
CATEGORIES:All,Trivia,Weekly Activities
ATTACH;FMTTYPE=image/jpeg:https://www.theq.au/wp-content/uploads/2025/08/Trivia-Website-Tile-500-x-520-px-1920-x-400-px-1.jpg
END:VEVENT
BEGIN:VEVENT
DTSTART;TZID=Australia/Brisbane:20260107T170000
DTEND;TZID=Australia/Brisbane:20260107T210000
DTSTAMP:20260420T114857
CREATED:20250815T021420Z
LAST-MODIFIED:20250818T014915Z
UID:10037115-1767805200-1767819600@www.theq.au
SUMMARY:Steak Night
DESCRIPTION:Sink your teeth into a 250g rump steak served with chips\, salad and your choice of sauce. All for just $20!
URL:https://www.theq.au/event/steak-night/2026-01-07/
LOCATION:The Q\, 70 Ipswich Boonah Rd\, Purga\, QLD\, 4306\, Australia
CATEGORIES:All,Meal Specials
ATTACH;FMTTYPE=image/jpeg:https://www.theq.au/wp-content/uploads/2025/08/Untitled-design-9.jpg
END:VEVENT
BEGIN:VEVENT
DTSTART;TZID=Australia/Brisbane:20260109T193000
DTEND;TZID=Australia/Brisbane:20260109T200000
DTSTAMP:20260420T114857
CREATED:20250815T004800Z
LAST-MODIFIED:20250819T015149Z
UID:10036543-1767987000-1767988800@www.theq.au
SUMMARY:Members Draw
DESCRIPTION:Each week\, one lucky member will have the chance to win a cash prize starting at $500\, with the jackpot increasing by $250 every week if unclaimed — all the way up to $2\,500. \nWhen the jackpot hits $2\,500\, it must be won! On that night\, five members at the venue will each take home $500 cash. \nYou must be a member to win — and you must be here to claim it!
URL:https://www.theq.au/event/members-draw/2026-01-09/
LOCATION:The Q\, 70 Ipswich Boonah Rd\, Purga\, QLD\, 4306\, Australia
CATEGORIES:All,Promotions
ATTACH;FMTTYPE=image/jpeg:https://www.theq.au/wp-content/uploads/2025/08/Friday-Members-Draw-1920-X-1080-1920-x-400-px.jpg
END:VEVENT
BEGIN:VEVENT
DTSTART;TZID=Australia/Brisbane:20260111T100000
DTEND;TZID=Australia/Brisbane:20260111T210000
DTSTAMP:20260420T114857
CREATED:20250815T022559Z
LAST-MODIFIED:20250818T021348Z
UID:10037377-1768125600-1768165200@www.theq.au
SUMMARY:Sunday Roast
DESCRIPTION:Warm the soul with our hearty Sunday Roast special for just $19. Enjoy every Sunday for both lunch and dinner.
URL:https://www.theq.au/event/sunday-roast/2026-01-11/
LOCATION:The Q\, 70 Ipswich Boonah Rd\, Purga\, QLD\, 4306\, Australia
CATEGORIES:All,Meal Specials
ATTACH;FMTTYPE=image/jpeg:https://www.theq.au/wp-content/uploads/2025/08/Untitled-design-9-2.jpg
END:VEVENT
BEGIN:VEVENT
DTSTART;TZID=Australia/Brisbane:20260113T170000
DTEND;TZID=Australia/Brisbane:20260113T210000
DTSTAMP:20260420T114857
CREATED:20250818T045354Z
LAST-MODIFIED:20250818T045401Z
UID:10038359-1768323600-1768338000@www.theq.au
SUMMARY:Chicken Schnitty & Parmy Night
DESCRIPTION:Enjoy a succulent\, golden crumbed chicken schnitzel for just $18\, or make it a Parmy for $20!
URL:https://www.theq.au/event/chicken-schnitty-parmy-night-2/2026-01-13/
LOCATION:The Q\, 70 Ipswich Boonah Rd\, Purga\, QLD\, 4306\, Australia
CATEGORIES:All,Meal Specials
ATTACH;FMTTYPE=image/jpeg:https://www.theq.au/wp-content/uploads/2025/08/Untitled-design-9-1.jpg
END:VEVENT
BEGIN:VEVENT
DTSTART;TZID=Australia/Brisbane:20260113T190000
DTEND;TZID=Australia/Brisbane:20260113T210000
DTSTAMP:20260420T114857
CREATED:20250804T054750Z
LAST-MODIFIED:20250922T064935Z
UID:10039143-1768330800-1768338000@www.theq.au
SUMMARY:Trivia
DESCRIPTION:Bring your A-game to InnQUIZitive Trivia every Tuesday at The Q — kicking off from 7:00 PM and free to play!\n\nTest your knowledge\, win great prizes\, and enjoy epic dinner deals with $20 Parmi Night and $18 Schnitty Night.\n\nFirst place takes home a $100 voucher — so round up your team and get ready to dominate.\n\nBook a table to secure your spot!
URL:https://www.theq.au/event/trivia/2026-01-13/
LOCATION:The Q\, 70 Ipswich Boonah Rd\, Purga\, QLD\, 4306\, Australia
CATEGORIES:All,Trivia,Weekly Activities
ATTACH;FMTTYPE=image/jpeg:https://www.theq.au/wp-content/uploads/2025/08/Trivia-Website-Tile-500-x-520-px-1920-x-400-px-1.jpg
END:VEVENT
BEGIN:VEVENT
DTSTART;TZID=Australia/Brisbane:20260114T170000
DTEND;TZID=Australia/Brisbane:20260114T210000
DTSTAMP:20260420T114857
CREATED:20250815T021420Z
LAST-MODIFIED:20250818T014915Z
UID:10037116-1768410000-1768424400@www.theq.au
SUMMARY:Steak Night
DESCRIPTION:Sink your teeth into a 250g rump steak served with chips\, salad and your choice of sauce. All for just $20!
URL:https://www.theq.au/event/steak-night/2026-01-14/
LOCATION:The Q\, 70 Ipswich Boonah Rd\, Purga\, QLD\, 4306\, Australia
CATEGORIES:All,Meal Specials
ATTACH;FMTTYPE=image/jpeg:https://www.theq.au/wp-content/uploads/2025/08/Untitled-design-9.jpg
END:VEVENT
BEGIN:VEVENT
DTSTART;TZID=Australia/Brisbane:20260116T193000
DTEND;TZID=Australia/Brisbane:20260116T200000
DTSTAMP:20260420T114857
CREATED:20250815T004800Z
LAST-MODIFIED:20250819T015149Z
UID:10036544-1768591800-1768593600@www.theq.au
SUMMARY:Members Draw
DESCRIPTION:Each week\, one lucky member will have the chance to win a cash prize starting at $500\, with the jackpot increasing by $250 every week if unclaimed — all the way up to $2\,500. \nWhen the jackpot hits $2\,500\, it must be won! On that night\, five members at the venue will each take home $500 cash. \nYou must be a member to win — and you must be here to claim it!
URL:https://www.theq.au/event/members-draw/2026-01-16/
LOCATION:The Q\, 70 Ipswich Boonah Rd\, Purga\, QLD\, 4306\, Australia
CATEGORIES:All,Promotions
ATTACH;FMTTYPE=image/jpeg:https://www.theq.au/wp-content/uploads/2025/08/Friday-Members-Draw-1920-X-1080-1920-x-400-px.jpg
END:VEVENT
BEGIN:VEVENT
DTSTART;TZID=Australia/Brisbane:20260118T100000
DTEND;TZID=Australia/Brisbane:20260118T210000
DTSTAMP:20260420T114857
CREATED:20250815T022559Z
LAST-MODIFIED:20250818T021348Z
UID:10037378-1768730400-1768770000@www.theq.au
SUMMARY:Sunday Roast
DESCRIPTION:Warm the soul with our hearty Sunday Roast special for just $19. Enjoy every Sunday for both lunch and dinner.
URL:https://www.theq.au/event/sunday-roast/2026-01-18/
LOCATION:The Q\, 70 Ipswich Boonah Rd\, Purga\, QLD\, 4306\, Australia
CATEGORIES:All,Meal Specials
ATTACH;FMTTYPE=image/jpeg:https://www.theq.au/wp-content/uploads/2025/08/Untitled-design-9-2.jpg
END:VEVENT
BEGIN:VEVENT
DTSTART;TZID=Australia/Brisbane:20260120T170000
DTEND;TZID=Australia/Brisbane:20260120T210000
DTSTAMP:20260420T114857
CREATED:20250818T045354Z
LAST-MODIFIED:20250818T045401Z
UID:10038360-1768928400-1768942800@www.theq.au
SUMMARY:Chicken Schnitty & Parmy Night
DESCRIPTION:Enjoy a succulent\, golden crumbed chicken schnitzel for just $18\, or make it a Parmy for $20!
URL:https://www.theq.au/event/chicken-schnitty-parmy-night-2/2026-01-20/
LOCATION:The Q\, 70 Ipswich Boonah Rd\, Purga\, QLD\, 4306\, Australia
CATEGORIES:All,Meal Specials
ATTACH;FMTTYPE=image/jpeg:https://www.theq.au/wp-content/uploads/2025/08/Untitled-design-9-1.jpg
END:VEVENT
BEGIN:VEVENT
DTSTART;TZID=Australia/Brisbane:20260120T190000
DTEND;TZID=Australia/Brisbane:20260120T210000
DTSTAMP:20260420T114857
CREATED:20250804T054750Z
LAST-MODIFIED:20250922T064935Z
UID:10039144-1768935600-1768942800@www.theq.au
SUMMARY:Trivia
DESCRIPTION:Bring your A-game to InnQUIZitive Trivia every Tuesday at The Q — kicking off from 7:00 PM and free to play!\n\nTest your knowledge\, win great prizes\, and enjoy epic dinner deals with $20 Parmi Night and $18 Schnitty Night.\n\nFirst place takes home a $100 voucher — so round up your team and get ready to dominate.\n\nBook a table to secure your spot!
URL:https://www.theq.au/event/trivia/2026-01-20/
LOCATION:The Q\, 70 Ipswich Boonah Rd\, Purga\, QLD\, 4306\, Australia
CATEGORIES:All,Trivia,Weekly Activities
ATTACH;FMTTYPE=image/jpeg:https://www.theq.au/wp-content/uploads/2025/08/Trivia-Website-Tile-500-x-520-px-1920-x-400-px-1.jpg
END:VEVENT
BEGIN:VEVENT
DTSTART;TZID=Australia/Brisbane:20260121T170000
DTEND;TZID=Australia/Brisbane:20260121T210000
DTSTAMP:20260420T114857
CREATED:20250815T021420Z
LAST-MODIFIED:20250818T014915Z
UID:10037117-1769014800-1769029200@www.theq.au
SUMMARY:Steak Night
DESCRIPTION:Sink your teeth into a 250g rump steak served with chips\, salad and your choice of sauce. All for just $20!
URL:https://www.theq.au/event/steak-night/2026-01-21/
LOCATION:The Q\, 70 Ipswich Boonah Rd\, Purga\, QLD\, 4306\, Australia
CATEGORIES:All,Meal Specials
ATTACH;FMTTYPE=image/jpeg:https://www.theq.au/wp-content/uploads/2025/08/Untitled-design-9.jpg
END:VEVENT
BEGIN:VEVENT
DTSTART;TZID=Australia/Brisbane:20260123T193000
DTEND;TZID=Australia/Brisbane:20260123T200000
DTSTAMP:20260420T114857
CREATED:20250815T004800Z
LAST-MODIFIED:20250819T015149Z
UID:10036545-1769196600-1769198400@www.theq.au
SUMMARY:Members Draw
DESCRIPTION:Each week\, one lucky member will have the chance to win a cash prize starting at $500\, with the jackpot increasing by $250 every week if unclaimed — all the way up to $2\,500. \nWhen the jackpot hits $2\,500\, it must be won! On that night\, five members at the venue will each take home $500 cash. \nYou must be a member to win — and you must be here to claim it!
URL:https://www.theq.au/event/members-draw/2026-01-23/
LOCATION:The Q\, 70 Ipswich Boonah Rd\, Purga\, QLD\, 4306\, Australia
CATEGORIES:All,Promotions
ATTACH;FMTTYPE=image/jpeg:https://www.theq.au/wp-content/uploads/2025/08/Friday-Members-Draw-1920-X-1080-1920-x-400-px.jpg
END:VEVENT
BEGIN:VEVENT
DTSTART;TZID=Australia/Brisbane:20260125T100000
DTEND;TZID=Australia/Brisbane:20260125T210000
DTSTAMP:20260420T114857
CREATED:20250815T022559Z
LAST-MODIFIED:20250818T021348Z
UID:10037379-1769335200-1769374800@www.theq.au
SUMMARY:Sunday Roast
DESCRIPTION:Warm the soul with our hearty Sunday Roast special for just $19. Enjoy every Sunday for both lunch and dinner.
URL:https://www.theq.au/event/sunday-roast/2026-01-25/
LOCATION:The Q\, 70 Ipswich Boonah Rd\, Purga\, QLD\, 4306\, Australia
CATEGORIES:All,Meal Specials
ATTACH;FMTTYPE=image/jpeg:https://www.theq.au/wp-content/uploads/2025/08/Untitled-design-9-2.jpg
END:VEVENT
BEGIN:VEVENT
DTSTART;TZID=Australia/Brisbane:20260125T190000
DTEND;TZID=Australia/Brisbane:20260125T210000
DTSTAMP:20260420T114857
CREATED:20260107T003733Z
LAST-MODIFIED:20260107T004114Z
UID:10039676-1769367600-1769374800@www.theq.au
SUMMARY:$3K Australia Day Giveaway
DESCRIPTION:$3K Australia Day Giveaway\nCelebrate Australia Day at The Q with our $3K Australia Day Giveaway\, happening in the Gaming Lounge. \nWe’re giving away four prize packs across the night\, with draws every 30 minutes from 7:00PM – 8:30PM. The more you play\, the more chances you have to win. \nHow to EnterEarn 1 virtual entry for every $10 in gaming play while your membership card is inserted in a gaming machine.Entries are automatic and start accumulating from 7 January. \nPrize Packs – Winner’s ChoiceEach winner gets to choose one of the following prize packs: \nOption 1 – Classic Aussie BBQ• Baby Q Weber• Meat Tray• 30-pack of XXXX Gold \nOption 2 – Luxe Treat Yourself Pack• AirPods• Dusk Candle• Cooler Bag• Bottle of Mumm Champagne \nSwipe\, play\, and be there for your chance to win big. \nTerms & conditions apply.
URL:https://www.theq.au/event/3k-australia-day-giveaway/
LOCATION:The Q\, 70 Ipswich Boonah Rd\, Purga\, QLD\, 4306\, Australia
CATEGORIES:All,Major Promotions,Promotions,Special Events,Weekly Gaming Promotions
ATTACH;FMTTYPE=image/jpeg:https://www.theq.au/wp-content/uploads/2026/01/White-and-Blue-Simple-Celebration-Australia-Day-Instagram-Post.jpg
END:VEVENT
BEGIN:VEVENT
DTSTART;TZID=Australia/Brisbane:20260127T170000
DTEND;TZID=Australia/Brisbane:20260127T210000
DTSTAMP:20260420T114857
CREATED:20250818T045354Z
LAST-MODIFIED:20250818T045401Z
UID:10038361-1769533200-1769547600@www.theq.au
SUMMARY:Chicken Schnitty & Parmy Night
DESCRIPTION:Enjoy a succulent\, golden crumbed chicken schnitzel for just $18\, or make it a Parmy for $20!
URL:https://www.theq.au/event/chicken-schnitty-parmy-night-2/2026-01-27/
LOCATION:The Q\, 70 Ipswich Boonah Rd\, Purga\, QLD\, 4306\, Australia
CATEGORIES:All,Meal Specials
ATTACH;FMTTYPE=image/jpeg:https://www.theq.au/wp-content/uploads/2025/08/Untitled-design-9-1.jpg
END:VEVENT
BEGIN:VEVENT
DTSTART;TZID=Australia/Brisbane:20260127T190000
DTEND;TZID=Australia/Brisbane:20260127T210000
DTSTAMP:20260420T114857
CREATED:20250804T054750Z
LAST-MODIFIED:20250922T064935Z
UID:10039145-1769540400-1769547600@www.theq.au
SUMMARY:Trivia
DESCRIPTION:Bring your A-game to InnQUIZitive Trivia every Tuesday at The Q — kicking off from 7:00 PM and free to play!\n\nTest your knowledge\, win great prizes\, and enjoy epic dinner deals with $20 Parmi Night and $18 Schnitty Night.\n\nFirst place takes home a $100 voucher — so round up your team and get ready to dominate.\n\nBook a table to secure your spot!
URL:https://www.theq.au/event/trivia/2026-01-27/
LOCATION:The Q\, 70 Ipswich Boonah Rd\, Purga\, QLD\, 4306\, Australia
CATEGORIES:All,Trivia,Weekly Activities
ATTACH;FMTTYPE=image/jpeg:https://www.theq.au/wp-content/uploads/2025/08/Trivia-Website-Tile-500-x-520-px-1920-x-400-px-1.jpg
END:VEVENT
BEGIN:VEVENT
DTSTART;TZID=Australia/Brisbane:20260128T170000
DTEND;TZID=Australia/Brisbane:20260128T210000
DTSTAMP:20260420T114857
CREATED:20250815T021420Z
LAST-MODIFIED:20250818T014915Z
UID:10037118-1769619600-1769634000@www.theq.au
SUMMARY:Steak Night
DESCRIPTION:Sink your teeth into a 250g rump steak served with chips\, salad and your choice of sauce. All for just $20!
URL:https://www.theq.au/event/steak-night/2026-01-28/
LOCATION:The Q\, 70 Ipswich Boonah Rd\, Purga\, QLD\, 4306\, Australia
CATEGORIES:All,Meal Specials
ATTACH;FMTTYPE=image/jpeg:https://www.theq.au/wp-content/uploads/2025/08/Untitled-design-9.jpg
END:VEVENT
BEGIN:VEVENT
DTSTART;TZID=Australia/Brisbane:20260130T193000
DTEND;TZID=Australia/Brisbane:20260130T200000
DTSTAMP:20260420T114857
CREATED:20250815T004800Z
LAST-MODIFIED:20250819T015149Z
UID:10036546-1769801400-1769803200@www.theq.au
SUMMARY:Members Draw
DESCRIPTION:Each week\, one lucky member will have the chance to win a cash prize starting at $500\, with the jackpot increasing by $250 every week if unclaimed — all the way up to $2\,500. \nWhen the jackpot hits $2\,500\, it must be won! On that night\, five members at the venue will each take home $500 cash. \nYou must be a member to win — and you must be here to claim it!
URL:https://www.theq.au/event/members-draw/2026-01-30/
LOCATION:The Q\, 70 Ipswich Boonah Rd\, Purga\, QLD\, 4306\, Australia
CATEGORIES:All,Promotions
ATTACH;FMTTYPE=image/jpeg:https://www.theq.au/wp-content/uploads/2025/08/Friday-Members-Draw-1920-X-1080-1920-x-400-px.jpg
END:VEVENT
BEGIN:VEVENT
DTSTART;TZID=Australia/Brisbane:20260201T100000
DTEND;TZID=Australia/Brisbane:20260201T210000
DTSTAMP:20260420T114857
CREATED:20250815T022559Z
LAST-MODIFIED:20250818T021348Z
UID:10037380-1769940000-1769979600@www.theq.au
SUMMARY:Sunday Roast
DESCRIPTION:Warm the soul with our hearty Sunday Roast special for just $19. Enjoy every Sunday for both lunch and dinner.
URL:https://www.theq.au/event/sunday-roast/2026-02-01/
LOCATION:The Q\, 70 Ipswich Boonah Rd\, Purga\, QLD\, 4306\, Australia
CATEGORIES:All,Meal Specials
ATTACH;FMTTYPE=image/jpeg:https://www.theq.au/wp-content/uploads/2025/08/Untitled-design-9-2.jpg
END:VEVENT
BEGIN:VEVENT
DTSTART;TZID=Australia/Brisbane:20260203T170000
DTEND;TZID=Australia/Brisbane:20260203T210000
DTSTAMP:20260420T114857
CREATED:20250818T045354Z
LAST-MODIFIED:20250818T045401Z
UID:10038362-1770138000-1770152400@www.theq.au
SUMMARY:Chicken Schnitty & Parmy Night
DESCRIPTION:Enjoy a succulent\, golden crumbed chicken schnitzel for just $18\, or make it a Parmy for $20!
URL:https://www.theq.au/event/chicken-schnitty-parmy-night-2/2026-02-03/
LOCATION:The Q\, 70 Ipswich Boonah Rd\, Purga\, QLD\, 4306\, Australia
CATEGORIES:All,Meal Specials
ATTACH;FMTTYPE=image/jpeg:https://www.theq.au/wp-content/uploads/2025/08/Untitled-design-9-1.jpg
END:VEVENT
BEGIN:VEVENT
DTSTART;TZID=Australia/Brisbane:20260203T190000
DTEND;TZID=Australia/Brisbane:20260203T210000
DTSTAMP:20260420T114857
CREATED:20250804T054750Z
LAST-MODIFIED:20250922T064935Z
UID:10039146-1770145200-1770152400@www.theq.au
SUMMARY:Trivia
DESCRIPTION:Bring your A-game to InnQUIZitive Trivia every Tuesday at The Q — kicking off from 7:00 PM and free to play!\n\nTest your knowledge\, win great prizes\, and enjoy epic dinner deals with $20 Parmi Night and $18 Schnitty Night.\n\nFirst place takes home a $100 voucher — so round up your team and get ready to dominate.\n\nBook a table to secure your spot!
URL:https://www.theq.au/event/trivia/2026-02-03/
LOCATION:The Q\, 70 Ipswich Boonah Rd\, Purga\, QLD\, 4306\, Australia
CATEGORIES:All,Trivia,Weekly Activities
ATTACH;FMTTYPE=image/jpeg:https://www.theq.au/wp-content/uploads/2025/08/Trivia-Website-Tile-500-x-520-px-1920-x-400-px-1.jpg
END:VEVENT
BEGIN:VEVENT
DTSTART;TZID=Australia/Brisbane:20260204T170000
DTEND;TZID=Australia/Brisbane:20260204T210000
DTSTAMP:20260420T114857
CREATED:20250815T021420Z
LAST-MODIFIED:20250818T014915Z
UID:10037119-1770224400-1770238800@www.theq.au
SUMMARY:Steak Night
DESCRIPTION:Sink your teeth into a 250g rump steak served with chips\, salad and your choice of sauce. All for just $20!
URL:https://www.theq.au/event/steak-night/2026-02-04/
LOCATION:The Q\, 70 Ipswich Boonah Rd\, Purga\, QLD\, 4306\, Australia
CATEGORIES:All,Meal Specials
ATTACH;FMTTYPE=image/jpeg:https://www.theq.au/wp-content/uploads/2025/08/Untitled-design-9.jpg
END:VEVENT
BEGIN:VEVENT
DTSTART;TZID=Australia/Brisbane:20260206T193000
DTEND;TZID=Australia/Brisbane:20260206T200000
DTSTAMP:20260420T114857
CREATED:20250815T004800Z
LAST-MODIFIED:20250819T015149Z
UID:10036547-1770406200-1770408000@www.theq.au
SUMMARY:Members Draw
DESCRIPTION:Each week\, one lucky member will have the chance to win a cash prize starting at $500\, with the jackpot increasing by $250 every week if unclaimed — all the way up to $2\,500. \nWhen the jackpot hits $2\,500\, it must be won! On that night\, five members at the venue will each take home $500 cash. \nYou must be a member to win — and you must be here to claim it!
URL:https://www.theq.au/event/members-draw/2026-02-06/
LOCATION:The Q\, 70 Ipswich Boonah Rd\, Purga\, QLD\, 4306\, Australia
CATEGORIES:All,Promotions
ATTACH;FMTTYPE=image/jpeg:https://www.theq.au/wp-content/uploads/2025/08/Friday-Members-Draw-1920-X-1080-1920-x-400-px.jpg
END:VEVENT
BEGIN:VEVENT
DTSTART;TZID=Australia/Brisbane:20260208T100000
DTEND;TZID=Australia/Brisbane:20260208T210000
DTSTAMP:20260420T114857
CREATED:20250815T022559Z
LAST-MODIFIED:20250818T021348Z
UID:10037381-1770544800-1770584400@www.theq.au
SUMMARY:Sunday Roast
DESCRIPTION:Warm the soul with our hearty Sunday Roast special for just $19. Enjoy every Sunday for both lunch and dinner.
URL:https://www.theq.au/event/sunday-roast/2026-02-08/
LOCATION:The Q\, 70 Ipswich Boonah Rd\, Purga\, QLD\, 4306\, Australia
CATEGORIES:All,Meal Specials
ATTACH;FMTTYPE=image/jpeg:https://www.theq.au/wp-content/uploads/2025/08/Untitled-design-9-2.jpg
END:VEVENT
BEGIN:VEVENT
DTSTART;TZID=Australia/Brisbane:20260210T170000
DTEND;TZID=Australia/Brisbane:20260210T210000
DTSTAMP:20260420T114857
CREATED:20250818T045354Z
LAST-MODIFIED:20250818T045401Z
UID:10038363-1770742800-1770757200@www.theq.au
SUMMARY:Chicken Schnitty & Parmy Night
DESCRIPTION:Enjoy a succulent\, golden crumbed chicken schnitzel for just $18\, or make it a Parmy for $20!
URL:https://www.theq.au/event/chicken-schnitty-parmy-night-2/2026-02-10/
LOCATION:The Q\, 70 Ipswich Boonah Rd\, Purga\, QLD\, 4306\, Australia
CATEGORIES:All,Meal Specials
ATTACH;FMTTYPE=image/jpeg:https://www.theq.au/wp-content/uploads/2025/08/Untitled-design-9-1.jpg
END:VEVENT
END:VCALENDAR