BEGIN:VCALENDAR
VERSION:2.0
PRODID:-//The Q - ECPv6.15.20//NONSGML v1.0//EN
CALSCALE:GREGORIAN
METHOD:PUBLISH
X-ORIGINAL-URL:https://www.theq.au
X-WR-CALDESC:Events for The Q
REFRESH-INTERVAL;VALUE=DURATION:PT1H
X-Robots-Tag:noindex
X-PUBLISHED-TTL:PT1H
BEGIN:VTIMEZONE
TZID:Australia/Brisbane
BEGIN:STANDARD
TZOFFSETFROM:+1000
TZOFFSETTO:+1000
TZNAME:AEST
DTSTART:20240101T000000
END:STANDARD
END:VTIMEZONE
BEGIN:VEVENT
DTSTART;TZID=Australia/Brisbane:20251102T100000
DTEND;TZID=Australia/Brisbane:20251102T210000
DTSTAMP:20260420T164619
CREATED:20250815T022559Z
LAST-MODIFIED:20250818T021348Z
UID:10037367-1762077600-1762117200@www.theq.au
SUMMARY:Sunday Roast
DESCRIPTION:Warm the soul with our hearty Sunday Roast special for just $19. Enjoy every Sunday for both lunch and dinner.
URL:https://www.theq.au/event/sunday-roast/2025-11-02/
LOCATION:The Q\, 70 Ipswich Boonah Rd\, Purga\, QLD\, 4306\, Australia
CATEGORIES:All,Meal Specials
ATTACH;FMTTYPE=image/jpeg:https://www.theq.au/wp-content/uploads/2025/08/Untitled-design-9-2.jpg
END:VEVENT
BEGIN:VEVENT
DTSTART;TZID=Australia/Brisbane:20251104T110000
DTEND;TZID=Australia/Brisbane:20251104T160000
DTSTAMP:20260420T164619
CREATED:20250923T001300Z
LAST-MODIFIED:20251030T064419Z
UID:10038603-1762254000-1762272000@www.theq.au
SUMMARY:Melbourne Cup at The Q 🏇✨
DESCRIPTION:Celebrate the race that stops the nation at The Q this Melbourne Cup Day with a premium dining experience\, live entertainment\, and all the action on the big screen. \nEvent Inclusions\n2 Course alternate drop lunch – $55 Members | $65 Non-Members \nDrinks package (add-on from 11:30am – 2:30pm) – $55 Members | $65 Non-MembersIncludes select beer & wine \nComplimentary glass of bubbles on arrival \nExclusive early bird gift for those who book early \nLive coverage of the Melbourne Cup on the big screen \nBest dressed prizes – dress to impress! \nSweeps & giveaways throughout the day \nVenue-exclusive TAB bonus bets & price boost specials \nThe Menu\nEntrée (Alternate Drop) \nPrawn\, Avocado & Mango Stack – Lemon-poached prawns layered with diced avocado and mango\, finished with micro salad. GF\, DF \nSmoked Chicken Salad – Shredded smoked chicken with mixed Asian lettuce\, shaved Spanish onion\, berries\, and light vinaigrette. GF\, DF \nMains (Alternate Drop) \nCrispy Skin Barramundi – Served with mussels\, roasted cauliflower\, potato purée\, and puttanesca sauce. GF\, DF \n200g QLD Pasture-Fed Eye Fillet – With sweet potato mash\, steamed broccolini\, and rich red wine jus. GF \nT&Cs apply. Limited spaces available. Group bookings must be made in one transaction to be seated on the same table. Book early to secure your exclusive gift! 
URL:https://www.theq.au/event/melbourne-cup-2025/
LOCATION:The Q\, 70 Ipswich Boonah Rd\, Purga\, QLD\, 4306\, Australia
CATEGORIES:All,Entertainment,Special Events
ATTACH;FMTTYPE=image/jpeg:https://www.theq.au/wp-content/uploads/2025/09/melbourne-cup-pink-navy-colour-split-custom.jpg
END:VEVENT
BEGIN:VEVENT
DTSTART;TZID=Australia/Brisbane:20251104T170000
DTEND;TZID=Australia/Brisbane:20251104T210000
DTSTAMP:20260420T164619
CREATED:20250818T045354Z
LAST-MODIFIED:20250818T045401Z
UID:10038349-1762275600-1762290000@www.theq.au
SUMMARY:Chicken Schnitty & Parmy Night
DESCRIPTION:Enjoy a succulent\, golden crumbed chicken schnitzel for just $18\, or make it a Parmy for $20!
URL:https://www.theq.au/event/chicken-schnitty-parmy-night-2/2025-11-04/
LOCATION:The Q\, 70 Ipswich Boonah Rd\, Purga\, QLD\, 4306\, Australia
CATEGORIES:All,Meal Specials
ATTACH;FMTTYPE=image/jpeg:https://www.theq.au/wp-content/uploads/2025/08/Untitled-design-9-1.jpg
END:VEVENT
BEGIN:VEVENT
DTSTART;TZID=Australia/Brisbane:20251104T190000
DTEND;TZID=Australia/Brisbane:20251104T210000
DTSTAMP:20260420T164619
CREATED:20250804T054750Z
LAST-MODIFIED:20250922T064935Z
UID:10039133-1762282800-1762290000@www.theq.au
SUMMARY:Trivia
DESCRIPTION:Bring your A-game to InnQUIZitive Trivia every Tuesday at The Q — kicking off from 7:00 PM and free to play!\n\nTest your knowledge\, win great prizes\, and enjoy epic dinner deals with $20 Parmi Night and $18 Schnitty Night.\n\nFirst place takes home a $100 voucher — so round up your team and get ready to dominate.\n\nBook a table to secure your spot!
URL:https://www.theq.au/event/trivia/2025-11-04/
LOCATION:The Q\, 70 Ipswich Boonah Rd\, Purga\, QLD\, 4306\, Australia
CATEGORIES:All,Trivia,Weekly Activities
ATTACH;FMTTYPE=image/jpeg:https://www.theq.au/wp-content/uploads/2025/08/Trivia-Website-Tile-500-x-520-px-1920-x-400-px-1.jpg
END:VEVENT
BEGIN:VEVENT
DTSTART;TZID=Australia/Brisbane:20251105T170000
DTEND;TZID=Australia/Brisbane:20251105T210000
DTSTAMP:20260420T164619
CREATED:20250815T021420Z
LAST-MODIFIED:20250818T014915Z
UID:10037106-1762362000-1762376400@www.theq.au
SUMMARY:Steak Night
DESCRIPTION:Sink your teeth into a 250g rump steak served with chips\, salad and your choice of sauce. All for just $20!
URL:https://www.theq.au/event/steak-night/2025-11-05/
LOCATION:The Q\, 70 Ipswich Boonah Rd\, Purga\, QLD\, 4306\, Australia
CATEGORIES:All,Meal Specials
ATTACH;FMTTYPE=image/jpeg:https://www.theq.au/wp-content/uploads/2025/08/Untitled-design-9.jpg
END:VEVENT
BEGIN:VEVENT
DTSTART;TZID=Australia/Brisbane:20251107T193000
DTEND;TZID=Australia/Brisbane:20251107T200000
DTSTAMP:20260420T164619
CREATED:20250815T004800Z
LAST-MODIFIED:20250819T015149Z
UID:10036534-1762543800-1762545600@www.theq.au
SUMMARY:Members Draw
DESCRIPTION:Each week\, one lucky member will have the chance to win a cash prize starting at $500\, with the jackpot increasing by $250 every week if unclaimed — all the way up to $2\,500. \nWhen the jackpot hits $2\,500\, it must be won! On that night\, five members at the venue will each take home $500 cash. \nYou must be a member to win — and you must be here to claim it!
URL:https://www.theq.au/event/members-draw/2025-11-07/
LOCATION:The Q\, 70 Ipswich Boonah Rd\, Purga\, QLD\, 4306\, Australia
CATEGORIES:All,Promotions
ATTACH;FMTTYPE=image/jpeg:https://www.theq.au/wp-content/uploads/2025/08/Friday-Members-Draw-1920-X-1080-1920-x-400-px.jpg
END:VEVENT
BEGIN:VEVENT
DTSTART;TZID=Australia/Brisbane:20251108T200000
DTEND;TZID=Australia/Brisbane:20251108T203000
DTSTAMP:20260420T164619
CREATED:20251103T060025Z
LAST-MODIFIED:20251106T005800Z
UID:10039389-1762632000-1762633800@www.theq.au
SUMMARY:🏖️ Getaway or Cash 💸
DESCRIPTION:Feeling lucky? You could be walking away with cash in hand or a dream escape! \nJoin us every Saturday night in November for our Getaway or Cash draws — where one lucky member will get to choose between $500 cash or a $500 travel voucher! \nBut that’s not all… our Major Draw on Saturday\, 29 November is turning up the excitement — you’ll be choosing between $1\,000 cash or a $1\,000 travel voucher! \nHow to Enter\nEarn entries just by playing in The Q Gaming Lounge!You’ll receive 1 entry for every $10 in gaming turnover throughout the promotion period. Tickets are virtual and connected to your membership card\, so make sure your card is inserted into the gaming machine while you are playing. \nMake sure you’re here each Saturday at 8:00 PM when we draw the winner live! \nPrizes\n💰 Weekly Draws – $500 Cash or $500 Travel Voucher🌴 Major Draw – $1\,000 Cash or $1\,000 Travel Voucher \nTerms & Conditions apply.Entrants must be current financial members of The Q and present at the time of the draw to claim their prize.
URL:https://www.theq.au/event/%f0%9f%8f%96%ef%b8%8f-getaway-or-cash-%f0%9f%92%b8/2025-11-08/
LOCATION:The Q\, 70 Ipswich Boonah Rd\, Purga\, QLD\, 4306\, Australia
CATEGORIES:All,Major Promotions,Promotions,Special Events,Weekly Gaming Promotions
ATTACH;FMTTYPE=image/jpeg:https://www.theq.au/wp-content/uploads/2025/11/Trivia-Website-Tile-500-x-520-px-1920-x-400-px-4.jpg
END:VEVENT
BEGIN:VEVENT
DTSTART;TZID=Australia/Brisbane:20251109T100000
DTEND;TZID=Australia/Brisbane:20251109T210000
DTSTAMP:20260420T164619
CREATED:20250815T022559Z
LAST-MODIFIED:20250818T021348Z
UID:10037368-1762682400-1762722000@www.theq.au
SUMMARY:Sunday Roast
DESCRIPTION:Warm the soul with our hearty Sunday Roast special for just $19. Enjoy every Sunday for both lunch and dinner.
URL:https://www.theq.au/event/sunday-roast/2025-11-09/
LOCATION:The Q\, 70 Ipswich Boonah Rd\, Purga\, QLD\, 4306\, Australia
CATEGORIES:All,Meal Specials
ATTACH;FMTTYPE=image/jpeg:https://www.theq.au/wp-content/uploads/2025/08/Untitled-design-9-2.jpg
END:VEVENT
BEGIN:VEVENT
DTSTART;TZID=Australia/Brisbane:20251111T170000
DTEND;TZID=Australia/Brisbane:20251111T210000
DTSTAMP:20260420T164619
CREATED:20250818T045354Z
LAST-MODIFIED:20250818T045401Z
UID:10038350-1762880400-1762894800@www.theq.au
SUMMARY:Chicken Schnitty & Parmy Night
DESCRIPTION:Enjoy a succulent\, golden crumbed chicken schnitzel for just $18\, or make it a Parmy for $20!
URL:https://www.theq.au/event/chicken-schnitty-parmy-night-2/2025-11-11/
LOCATION:The Q\, 70 Ipswich Boonah Rd\, Purga\, QLD\, 4306\, Australia
CATEGORIES:All,Meal Specials
ATTACH;FMTTYPE=image/jpeg:https://www.theq.au/wp-content/uploads/2025/08/Untitled-design-9-1.jpg
END:VEVENT
BEGIN:VEVENT
DTSTART;TZID=Australia/Brisbane:20251111T190000
DTEND;TZID=Australia/Brisbane:20251111T210000
DTSTAMP:20260420T164619
CREATED:20250804T054750Z
LAST-MODIFIED:20250922T064935Z
UID:10039134-1762887600-1762894800@www.theq.au
SUMMARY:Trivia
DESCRIPTION:Bring your A-game to InnQUIZitive Trivia every Tuesday at The Q — kicking off from 7:00 PM and free to play!\n\nTest your knowledge\, win great prizes\, and enjoy epic dinner deals with $20 Parmi Night and $18 Schnitty Night.\n\nFirst place takes home a $100 voucher — so round up your team and get ready to dominate.\n\nBook a table to secure your spot!
URL:https://www.theq.au/event/trivia/2025-11-11/
LOCATION:The Q\, 70 Ipswich Boonah Rd\, Purga\, QLD\, 4306\, Australia
CATEGORIES:All,Trivia,Weekly Activities
ATTACH;FMTTYPE=image/jpeg:https://www.theq.au/wp-content/uploads/2025/08/Trivia-Website-Tile-500-x-520-px-1920-x-400-px-1.jpg
END:VEVENT
BEGIN:VEVENT
DTSTART;TZID=Australia/Brisbane:20251112T170000
DTEND;TZID=Australia/Brisbane:20251112T210000
DTSTAMP:20260420T164619
CREATED:20250815T021420Z
LAST-MODIFIED:20250818T014915Z
UID:10037107-1762966800-1762981200@www.theq.au
SUMMARY:Steak Night
DESCRIPTION:Sink your teeth into a 250g rump steak served with chips\, salad and your choice of sauce. All for just $20!
URL:https://www.theq.au/event/steak-night/2025-11-12/
LOCATION:The Q\, 70 Ipswich Boonah Rd\, Purga\, QLD\, 4306\, Australia
CATEGORIES:All,Meal Specials
ATTACH;FMTTYPE=image/jpeg:https://www.theq.au/wp-content/uploads/2025/08/Untitled-design-9.jpg
END:VEVENT
BEGIN:VEVENT
DTSTART;TZID=Australia/Brisbane:20251114T193000
DTEND;TZID=Australia/Brisbane:20251114T200000
DTSTAMP:20260420T164619
CREATED:20250815T004800Z
LAST-MODIFIED:20250819T015149Z
UID:10036535-1763148600-1763150400@www.theq.au
SUMMARY:Members Draw
DESCRIPTION:Each week\, one lucky member will have the chance to win a cash prize starting at $500\, with the jackpot increasing by $250 every week if unclaimed — all the way up to $2\,500. \nWhen the jackpot hits $2\,500\, it must be won! On that night\, five members at the venue will each take home $500 cash. \nYou must be a member to win — and you must be here to claim it!
URL:https://www.theq.au/event/members-draw/2025-11-14/
LOCATION:The Q\, 70 Ipswich Boonah Rd\, Purga\, QLD\, 4306\, Australia
CATEGORIES:All,Promotions
ATTACH;FMTTYPE=image/jpeg:https://www.theq.au/wp-content/uploads/2025/08/Friday-Members-Draw-1920-X-1080-1920-x-400-px.jpg
END:VEVENT
BEGIN:VEVENT
DTSTART;TZID=Australia/Brisbane:20251115T200000
DTEND;TZID=Australia/Brisbane:20251115T203000
DTSTAMP:20260420T164619
CREATED:20251103T060025Z
LAST-MODIFIED:20251106T005800Z
UID:10039390-1763236800-1763238600@www.theq.au
SUMMARY:🏖️ Getaway or Cash 💸
DESCRIPTION:Feeling lucky? You could be walking away with cash in hand or a dream escape! \nJoin us every Saturday night in November for our Getaway or Cash draws — where one lucky member will get to choose between $500 cash or a $500 travel voucher! \nBut that’s not all… our Major Draw on Saturday\, 29 November is turning up the excitement — you’ll be choosing between $1\,000 cash or a $1\,000 travel voucher! \nHow to Enter\nEarn entries just by playing in The Q Gaming Lounge!You’ll receive 1 entry for every $10 in gaming turnover throughout the promotion period. Tickets are virtual and connected to your membership card\, so make sure your card is inserted into the gaming machine while you are playing. \nMake sure you’re here each Saturday at 8:00 PM when we draw the winner live! \nPrizes\n💰 Weekly Draws – $500 Cash or $500 Travel Voucher🌴 Major Draw – $1\,000 Cash or $1\,000 Travel Voucher \nTerms & Conditions apply.Entrants must be current financial members of The Q and present at the time of the draw to claim their prize.
URL:https://www.theq.au/event/%f0%9f%8f%96%ef%b8%8f-getaway-or-cash-%f0%9f%92%b8/2025-11-15/
LOCATION:The Q\, 70 Ipswich Boonah Rd\, Purga\, QLD\, 4306\, Australia
CATEGORIES:All,Major Promotions,Promotions,Special Events,Weekly Gaming Promotions
ATTACH;FMTTYPE=image/jpeg:https://www.theq.au/wp-content/uploads/2025/11/Trivia-Website-Tile-500-x-520-px-1920-x-400-px-4.jpg
END:VEVENT
BEGIN:VEVENT
DTSTART;TZID=Australia/Brisbane:20251116T100000
DTEND;TZID=Australia/Brisbane:20251116T210000
DTSTAMP:20260420T164619
CREATED:20250815T022559Z
LAST-MODIFIED:20250818T021348Z
UID:10037369-1763287200-1763326800@www.theq.au
SUMMARY:Sunday Roast
DESCRIPTION:Warm the soul with our hearty Sunday Roast special for just $19. Enjoy every Sunday for both lunch and dinner.
URL:https://www.theq.au/event/sunday-roast/2025-11-16/
LOCATION:The Q\, 70 Ipswich Boonah Rd\, Purga\, QLD\, 4306\, Australia
CATEGORIES:All,Meal Specials
ATTACH;FMTTYPE=image/jpeg:https://www.theq.au/wp-content/uploads/2025/08/Untitled-design-9-2.jpg
END:VEVENT
BEGIN:VEVENT
DTSTART;TZID=Australia/Brisbane:20251118T170000
DTEND;TZID=Australia/Brisbane:20251118T210000
DTSTAMP:20260420T164619
CREATED:20250818T045354Z
LAST-MODIFIED:20250818T045401Z
UID:10038351-1763485200-1763499600@www.theq.au
SUMMARY:Chicken Schnitty & Parmy Night
DESCRIPTION:Enjoy a succulent\, golden crumbed chicken schnitzel for just $18\, or make it a Parmy for $20!
URL:https://www.theq.au/event/chicken-schnitty-parmy-night-2/2025-11-18/
LOCATION:The Q\, 70 Ipswich Boonah Rd\, Purga\, QLD\, 4306\, Australia
CATEGORIES:All,Meal Specials
ATTACH;FMTTYPE=image/jpeg:https://www.theq.au/wp-content/uploads/2025/08/Untitled-design-9-1.jpg
END:VEVENT
BEGIN:VEVENT
DTSTART;TZID=Australia/Brisbane:20251118T190000
DTEND;TZID=Australia/Brisbane:20251118T210000
DTSTAMP:20260420T164619
CREATED:20250804T054750Z
LAST-MODIFIED:20250922T064935Z
UID:10039135-1763492400-1763499600@www.theq.au
SUMMARY:Trivia
DESCRIPTION:Bring your A-game to InnQUIZitive Trivia every Tuesday at The Q — kicking off from 7:00 PM and free to play!\n\nTest your knowledge\, win great prizes\, and enjoy epic dinner deals with $20 Parmi Night and $18 Schnitty Night.\n\nFirst place takes home a $100 voucher — so round up your team and get ready to dominate.\n\nBook a table to secure your spot!
URL:https://www.theq.au/event/trivia/2025-11-18/
LOCATION:The Q\, 70 Ipswich Boonah Rd\, Purga\, QLD\, 4306\, Australia
CATEGORIES:All,Trivia,Weekly Activities
ATTACH;FMTTYPE=image/jpeg:https://www.theq.au/wp-content/uploads/2025/08/Trivia-Website-Tile-500-x-520-px-1920-x-400-px-1.jpg
END:VEVENT
BEGIN:VEVENT
DTSTART;TZID=Australia/Brisbane:20251119T170000
DTEND;TZID=Australia/Brisbane:20251119T210000
DTSTAMP:20260420T164619
CREATED:20250815T021420Z
LAST-MODIFIED:20250818T014915Z
UID:10037108-1763571600-1763586000@www.theq.au
SUMMARY:Steak Night
DESCRIPTION:Sink your teeth into a 250g rump steak served with chips\, salad and your choice of sauce. All for just $20!
URL:https://www.theq.au/event/steak-night/2025-11-19/
LOCATION:The Q\, 70 Ipswich Boonah Rd\, Purga\, QLD\, 4306\, Australia
CATEGORIES:All,Meal Specials
ATTACH;FMTTYPE=image/jpeg:https://www.theq.au/wp-content/uploads/2025/08/Untitled-design-9.jpg
END:VEVENT
BEGIN:VEVENT
DTSTART;TZID=Australia/Brisbane:20251121T193000
DTEND;TZID=Australia/Brisbane:20251121T200000
DTSTAMP:20260420T164619
CREATED:20250815T004800Z
LAST-MODIFIED:20250819T015149Z
UID:10036536-1763753400-1763755200@www.theq.au
SUMMARY:Members Draw
DESCRIPTION:Each week\, one lucky member will have the chance to win a cash prize starting at $500\, with the jackpot increasing by $250 every week if unclaimed — all the way up to $2\,500. \nWhen the jackpot hits $2\,500\, it must be won! On that night\, five members at the venue will each take home $500 cash. \nYou must be a member to win — and you must be here to claim it!
URL:https://www.theq.au/event/members-draw/2025-11-21/
LOCATION:The Q\, 70 Ipswich Boonah Rd\, Purga\, QLD\, 4306\, Australia
CATEGORIES:All,Promotions
ATTACH;FMTTYPE=image/jpeg:https://www.theq.au/wp-content/uploads/2025/08/Friday-Members-Draw-1920-X-1080-1920-x-400-px.jpg
END:VEVENT
BEGIN:VEVENT
DTSTART;TZID=Australia/Brisbane:20251122T200000
DTEND;TZID=Australia/Brisbane:20251122T203000
DTSTAMP:20260420T164619
CREATED:20251103T060025Z
LAST-MODIFIED:20251106T005800Z
UID:10039391-1763841600-1763843400@www.theq.au
SUMMARY:🏖️ Getaway or Cash 💸
DESCRIPTION:Feeling lucky? You could be walking away with cash in hand or a dream escape! \nJoin us every Saturday night in November for our Getaway or Cash draws — where one lucky member will get to choose between $500 cash or a $500 travel voucher! \nBut that’s not all… our Major Draw on Saturday\, 29 November is turning up the excitement — you’ll be choosing between $1\,000 cash or a $1\,000 travel voucher! \nHow to Enter\nEarn entries just by playing in The Q Gaming Lounge!You’ll receive 1 entry for every $10 in gaming turnover throughout the promotion period. Tickets are virtual and connected to your membership card\, so make sure your card is inserted into the gaming machine while you are playing. \nMake sure you’re here each Saturday at 8:00 PM when we draw the winner live! \nPrizes\n💰 Weekly Draws – $500 Cash or $500 Travel Voucher🌴 Major Draw – $1\,000 Cash or $1\,000 Travel Voucher \nTerms & Conditions apply.Entrants must be current financial members of The Q and present at the time of the draw to claim their prize.
URL:https://www.theq.au/event/%f0%9f%8f%96%ef%b8%8f-getaway-or-cash-%f0%9f%92%b8/2025-11-22/
LOCATION:The Q\, 70 Ipswich Boonah Rd\, Purga\, QLD\, 4306\, Australia
CATEGORIES:All,Major Promotions,Promotions,Special Events,Weekly Gaming Promotions
ATTACH;FMTTYPE=image/jpeg:https://www.theq.au/wp-content/uploads/2025/11/Trivia-Website-Tile-500-x-520-px-1920-x-400-px-4.jpg
END:VEVENT
BEGIN:VEVENT
DTSTART;TZID=Australia/Brisbane:20251123T100000
DTEND;TZID=Australia/Brisbane:20251123T210000
DTSTAMP:20260420T164619
CREATED:20250815T022559Z
LAST-MODIFIED:20250818T021348Z
UID:10037370-1763892000-1763931600@www.theq.au
SUMMARY:Sunday Roast
DESCRIPTION:Warm the soul with our hearty Sunday Roast special for just $19. Enjoy every Sunday for both lunch and dinner.
URL:https://www.theq.au/event/sunday-roast/2025-11-23/
LOCATION:The Q\, 70 Ipswich Boonah Rd\, Purga\, QLD\, 4306\, Australia
CATEGORIES:All,Meal Specials
ATTACH;FMTTYPE=image/jpeg:https://www.theq.au/wp-content/uploads/2025/08/Untitled-design-9-2.jpg
END:VEVENT
BEGIN:VEVENT
DTSTART;TZID=Australia/Brisbane:20251125T170000
DTEND;TZID=Australia/Brisbane:20251125T210000
DTSTAMP:20260420T164619
CREATED:20250818T045354Z
LAST-MODIFIED:20250818T045401Z
UID:10038352-1764090000-1764104400@www.theq.au
SUMMARY:Chicken Schnitty & Parmy Night
DESCRIPTION:Enjoy a succulent\, golden crumbed chicken schnitzel for just $18\, or make it a Parmy for $20!
URL:https://www.theq.au/event/chicken-schnitty-parmy-night-2/2025-11-25/
LOCATION:The Q\, 70 Ipswich Boonah Rd\, Purga\, QLD\, 4306\, Australia
CATEGORIES:All,Meal Specials
ATTACH;FMTTYPE=image/jpeg:https://www.theq.au/wp-content/uploads/2025/08/Untitled-design-9-1.jpg
END:VEVENT
BEGIN:VEVENT
DTSTART;TZID=Australia/Brisbane:20251125T190000
DTEND;TZID=Australia/Brisbane:20251125T210000
DTSTAMP:20260420T164619
CREATED:20250804T054750Z
LAST-MODIFIED:20250922T064935Z
UID:10039136-1764097200-1764104400@www.theq.au
SUMMARY:Trivia
DESCRIPTION:Bring your A-game to InnQUIZitive Trivia every Tuesday at The Q — kicking off from 7:00 PM and free to play!\n\nTest your knowledge\, win great prizes\, and enjoy epic dinner deals with $20 Parmi Night and $18 Schnitty Night.\n\nFirst place takes home a $100 voucher — so round up your team and get ready to dominate.\n\nBook a table to secure your spot!
URL:https://www.theq.au/event/trivia/2025-11-25/
LOCATION:The Q\, 70 Ipswich Boonah Rd\, Purga\, QLD\, 4306\, Australia
CATEGORIES:All,Trivia,Weekly Activities
ATTACH;FMTTYPE=image/jpeg:https://www.theq.au/wp-content/uploads/2025/08/Trivia-Website-Tile-500-x-520-px-1920-x-400-px-1.jpg
END:VEVENT
BEGIN:VEVENT
DTSTART;TZID=Australia/Brisbane:20251126T170000
DTEND;TZID=Australia/Brisbane:20251126T210000
DTSTAMP:20260420T164619
CREATED:20250815T021420Z
LAST-MODIFIED:20250818T014915Z
UID:10037109-1764176400-1764190800@www.theq.au
SUMMARY:Steak Night
DESCRIPTION:Sink your teeth into a 250g rump steak served with chips\, salad and your choice of sauce. All for just $20!
URL:https://www.theq.au/event/steak-night/2025-11-26/
LOCATION:The Q\, 70 Ipswich Boonah Rd\, Purga\, QLD\, 4306\, Australia
CATEGORIES:All,Meal Specials
ATTACH;FMTTYPE=image/jpeg:https://www.theq.au/wp-content/uploads/2025/08/Untitled-design-9.jpg
END:VEVENT
BEGIN:VEVENT
DTSTART;TZID=Australia/Brisbane:20251128T193000
DTEND;TZID=Australia/Brisbane:20251128T200000
DTSTAMP:20260420T164619
CREATED:20250815T004800Z
LAST-MODIFIED:20250819T015149Z
UID:10036537-1764358200-1764360000@www.theq.au
SUMMARY:Members Draw
DESCRIPTION:Each week\, one lucky member will have the chance to win a cash prize starting at $500\, with the jackpot increasing by $250 every week if unclaimed — all the way up to $2\,500. \nWhen the jackpot hits $2\,500\, it must be won! On that night\, five members at the venue will each take home $500 cash. \nYou must be a member to win — and you must be here to claim it!
URL:https://www.theq.au/event/members-draw/2025-11-28/
LOCATION:The Q\, 70 Ipswich Boonah Rd\, Purga\, QLD\, 4306\, Australia
CATEGORIES:All,Promotions
ATTACH;FMTTYPE=image/jpeg:https://www.theq.au/wp-content/uploads/2025/08/Friday-Members-Draw-1920-X-1080-1920-x-400-px.jpg
END:VEVENT
BEGIN:VEVENT
DTSTART;TZID=Australia/Brisbane:20251129T200000
DTEND;TZID=Australia/Brisbane:20251129T203000
DTSTAMP:20260420T164619
CREATED:20251103T060025Z
LAST-MODIFIED:20251106T005800Z
UID:10039392-1764446400-1764448200@www.theq.au
SUMMARY:🏖️ Getaway or Cash 💸
DESCRIPTION:Feeling lucky? You could be walking away with cash in hand or a dream escape! \nJoin us every Saturday night in November for our Getaway or Cash draws — where one lucky member will get to choose between $500 cash or a $500 travel voucher! \nBut that’s not all… our Major Draw on Saturday\, 29 November is turning up the excitement — you’ll be choosing between $1\,000 cash or a $1\,000 travel voucher! \nHow to Enter\nEarn entries just by playing in The Q Gaming Lounge!You’ll receive 1 entry for every $10 in gaming turnover throughout the promotion period. Tickets are virtual and connected to your membership card\, so make sure your card is inserted into the gaming machine while you are playing. \nMake sure you’re here each Saturday at 8:00 PM when we draw the winner live! \nPrizes\n💰 Weekly Draws – $500 Cash or $500 Travel Voucher🌴 Major Draw – $1\,000 Cash or $1\,000 Travel Voucher \nTerms & Conditions apply.Entrants must be current financial members of The Q and present at the time of the draw to claim their prize.
URL:https://www.theq.au/event/%f0%9f%8f%96%ef%b8%8f-getaway-or-cash-%f0%9f%92%b8/2025-11-29/
LOCATION:The Q\, 70 Ipswich Boonah Rd\, Purga\, QLD\, 4306\, Australia
CATEGORIES:All,Major Promotions,Promotions,Special Events,Weekly Gaming Promotions
ATTACH;FMTTYPE=image/jpeg:https://www.theq.au/wp-content/uploads/2025/11/Trivia-Website-Tile-500-x-520-px-1920-x-400-px-4.jpg
END:VEVENT
BEGIN:VEVENT
DTSTART;TZID=Australia/Brisbane:20251130T100000
DTEND;TZID=Australia/Brisbane:20251130T210000
DTSTAMP:20260420T164619
CREATED:20250815T022559Z
LAST-MODIFIED:20250818T021348Z
UID:10037371-1764496800-1764536400@www.theq.au
SUMMARY:Sunday Roast
DESCRIPTION:Warm the soul with our hearty Sunday Roast special for just $19. Enjoy every Sunday for both lunch and dinner.
URL:https://www.theq.au/event/sunday-roast/2025-11-30/
LOCATION:The Q\, 70 Ipswich Boonah Rd\, Purga\, QLD\, 4306\, Australia
CATEGORIES:All,Meal Specials
ATTACH;FMTTYPE=image/jpeg:https://www.theq.au/wp-content/uploads/2025/08/Untitled-design-9-2.jpg
END:VEVENT
BEGIN:VEVENT
DTSTART;TZID=Australia/Brisbane:20251202T170000
DTEND;TZID=Australia/Brisbane:20251202T210000
DTSTAMP:20260420T164619
CREATED:20250818T045354Z
LAST-MODIFIED:20250818T045401Z
UID:10038353-1764694800-1764709200@www.theq.au
SUMMARY:Chicken Schnitty & Parmy Night
DESCRIPTION:Enjoy a succulent\, golden crumbed chicken schnitzel for just $18\, or make it a Parmy for $20!
URL:https://www.theq.au/event/chicken-schnitty-parmy-night-2/2025-12-02/
LOCATION:The Q\, 70 Ipswich Boonah Rd\, Purga\, QLD\, 4306\, Australia
CATEGORIES:All,Meal Specials
ATTACH;FMTTYPE=image/jpeg:https://www.theq.au/wp-content/uploads/2025/08/Untitled-design-9-1.jpg
END:VEVENT
BEGIN:VEVENT
DTSTART;TZID=Australia/Brisbane:20251202T190000
DTEND;TZID=Australia/Brisbane:20251202T210000
DTSTAMP:20260420T164619
CREATED:20250804T054750Z
LAST-MODIFIED:20250922T064935Z
UID:10039137-1764702000-1764709200@www.theq.au
SUMMARY:Trivia
DESCRIPTION:Bring your A-game to InnQUIZitive Trivia every Tuesday at The Q — kicking off from 7:00 PM and free to play!\n\nTest your knowledge\, win great prizes\, and enjoy epic dinner deals with $20 Parmi Night and $18 Schnitty Night.\n\nFirst place takes home a $100 voucher — so round up your team and get ready to dominate.\n\nBook a table to secure your spot!
URL:https://www.theq.au/event/trivia/2025-12-02/
LOCATION:The Q\, 70 Ipswich Boonah Rd\, Purga\, QLD\, 4306\, Australia
CATEGORIES:All,Trivia,Weekly Activities
ATTACH;FMTTYPE=image/jpeg:https://www.theq.au/wp-content/uploads/2025/08/Trivia-Website-Tile-500-x-520-px-1920-x-400-px-1.jpg
END:VEVENT
BEGIN:VEVENT
DTSTART;TZID=Australia/Brisbane:20251203T170000
DTEND;TZID=Australia/Brisbane:20251203T210000
DTSTAMP:20260420T164619
CREATED:20250815T021420Z
LAST-MODIFIED:20250818T014915Z
UID:10037110-1764781200-1764795600@www.theq.au
SUMMARY:Steak Night
DESCRIPTION:Sink your teeth into a 250g rump steak served with chips\, salad and your choice of sauce. All for just $20!
URL:https://www.theq.au/event/steak-night/2025-12-03/
LOCATION:The Q\, 70 Ipswich Boonah Rd\, Purga\, QLD\, 4306\, Australia
CATEGORIES:All,Meal Specials
ATTACH;FMTTYPE=image/jpeg:https://www.theq.au/wp-content/uploads/2025/08/Untitled-design-9.jpg
END:VEVENT
BEGIN:VEVENT
DTSTART;TZID=Australia/Brisbane:20251205T193000
DTEND;TZID=Australia/Brisbane:20251205T200000
DTSTAMP:20260420T164619
CREATED:20250815T004800Z
LAST-MODIFIED:20250819T015149Z
UID:10036538-1764963000-1764964800@www.theq.au
SUMMARY:Members Draw
DESCRIPTION:Each week\, one lucky member will have the chance to win a cash prize starting at $500\, with the jackpot increasing by $250 every week if unclaimed — all the way up to $2\,500. \nWhen the jackpot hits $2\,500\, it must be won! On that night\, five members at the venue will each take home $500 cash. \nYou must be a member to win — and you must be here to claim it!
URL:https://www.theq.au/event/members-draw/2025-12-05/
LOCATION:The Q\, 70 Ipswich Boonah Rd\, Purga\, QLD\, 4306\, Australia
CATEGORIES:All,Promotions
ATTACH;FMTTYPE=image/jpeg:https://www.theq.au/wp-content/uploads/2025/08/Friday-Members-Draw-1920-X-1080-1920-x-400-px.jpg
END:VEVENT
END:VCALENDAR