BEGIN:VCALENDAR
VERSION:2.0
PRODID:-//The Q - ECPv6.15.20//NONSGML v1.0//EN
CALSCALE:GREGORIAN
METHOD:PUBLISH
X-ORIGINAL-URL:https://www.theq.au
X-WR-CALDESC:Events for The Q
REFRESH-INTERVAL;VALUE=DURATION:PT1H
X-Robots-Tag:noindex
X-PUBLISHED-TTL:PT1H
BEGIN:VTIMEZONE
TZID:Australia/Brisbane
BEGIN:STANDARD
TZOFFSETFROM:+1000
TZOFFSETTO:+1000
TZNAME:AEST
DTSTART:20240101T000000
END:STANDARD
END:VTIMEZONE
BEGIN:VEVENT
DTSTART;TZID=Australia/Brisbane:20251202T170000
DTEND;TZID=Australia/Brisbane:20251202T210000
DTSTAMP:20260422T034455
CREATED:20250818T045354Z
LAST-MODIFIED:20250818T045401Z
UID:10038353-1764694800-1764709200@www.theq.au
SUMMARY:Chicken Schnitty & Parmy Night
DESCRIPTION:Enjoy a succulent\, golden crumbed chicken schnitzel for just $18\, or make it a Parmy for $20!
URL:https://www.theq.au/event/chicken-schnitty-parmy-night-2/2025-12-02/
LOCATION:The Q\, 70 Ipswich Boonah Rd\, Purga\, QLD\, 4306\, Australia
CATEGORIES:All,Meal Specials
ATTACH;FMTTYPE=image/jpeg:https://www.theq.au/wp-content/uploads/2025/08/Untitled-design-9-1.jpg
END:VEVENT
BEGIN:VEVENT
DTSTART;TZID=Australia/Brisbane:20251203T170000
DTEND;TZID=Australia/Brisbane:20251203T210000
DTSTAMP:20260422T034455
CREATED:20250815T021420Z
LAST-MODIFIED:20250818T014915Z
UID:10037110-1764781200-1764795600@www.theq.au
SUMMARY:Steak Night
DESCRIPTION:Sink your teeth into a 250g rump steak served with chips\, salad and your choice of sauce. All for just $20!
URL:https://www.theq.au/event/steak-night/2025-12-03/
LOCATION:The Q\, 70 Ipswich Boonah Rd\, Purga\, QLD\, 4306\, Australia
CATEGORIES:All,Meal Specials
ATTACH;FMTTYPE=image/jpeg:https://www.theq.au/wp-content/uploads/2025/08/Untitled-design-9.jpg
END:VEVENT
BEGIN:VEVENT
DTSTART;TZID=Australia/Brisbane:20251207T100000
DTEND;TZID=Australia/Brisbane:20251207T210000
DTSTAMP:20260422T034455
CREATED:20250815T022559Z
LAST-MODIFIED:20250818T021348Z
UID:10037372-1765101600-1765141200@www.theq.au
SUMMARY:Sunday Roast
DESCRIPTION:Warm the soul with our hearty Sunday Roast special for just $19. Enjoy every Sunday for both lunch and dinner.
URL:https://www.theq.au/event/sunday-roast/2025-12-07/
LOCATION:The Q\, 70 Ipswich Boonah Rd\, Purga\, QLD\, 4306\, Australia
CATEGORIES:All,Meal Specials
ATTACH;FMTTYPE=image/jpeg:https://www.theq.au/wp-content/uploads/2025/08/Untitled-design-9-2.jpg
END:VEVENT
BEGIN:VEVENT
DTSTART;TZID=Australia/Brisbane:20251209T170000
DTEND;TZID=Australia/Brisbane:20251209T210000
DTSTAMP:20260422T034455
CREATED:20250818T045354Z
LAST-MODIFIED:20250818T045401Z
UID:10038354-1765299600-1765314000@www.theq.au
SUMMARY:Chicken Schnitty & Parmy Night
DESCRIPTION:Enjoy a succulent\, golden crumbed chicken schnitzel for just $18\, or make it a Parmy for $20!
URL:https://www.theq.au/event/chicken-schnitty-parmy-night-2/2025-12-09/
LOCATION:The Q\, 70 Ipswich Boonah Rd\, Purga\, QLD\, 4306\, Australia
CATEGORIES:All,Meal Specials
ATTACH;FMTTYPE=image/jpeg:https://www.theq.au/wp-content/uploads/2025/08/Untitled-design-9-1.jpg
END:VEVENT
BEGIN:VEVENT
DTSTART;TZID=Australia/Brisbane:20251210T170000
DTEND;TZID=Australia/Brisbane:20251210T210000
DTSTAMP:20260422T034455
CREATED:20250815T021420Z
LAST-MODIFIED:20250818T014915Z
UID:10037111-1765386000-1765400400@www.theq.au
SUMMARY:Steak Night
DESCRIPTION:Sink your teeth into a 250g rump steak served with chips\, salad and your choice of sauce. All for just $20!
URL:https://www.theq.au/event/steak-night/2025-12-10/
LOCATION:The Q\, 70 Ipswich Boonah Rd\, Purga\, QLD\, 4306\, Australia
CATEGORIES:All,Meal Specials
ATTACH;FMTTYPE=image/jpeg:https://www.theq.au/wp-content/uploads/2025/08/Untitled-design-9.jpg
END:VEVENT
BEGIN:VEVENT
DTSTART;TZID=Australia/Brisbane:20251214T100000
DTEND;TZID=Australia/Brisbane:20251214T210000
DTSTAMP:20260422T034455
CREATED:20250815T022559Z
LAST-MODIFIED:20250818T021348Z
UID:10037373-1765706400-1765746000@www.theq.au
SUMMARY:Sunday Roast
DESCRIPTION:Warm the soul with our hearty Sunday Roast special for just $19. Enjoy every Sunday for both lunch and dinner.
URL:https://www.theq.au/event/sunday-roast/2025-12-14/
LOCATION:The Q\, 70 Ipswich Boonah Rd\, Purga\, QLD\, 4306\, Australia
CATEGORIES:All,Meal Specials
ATTACH;FMTTYPE=image/jpeg:https://www.theq.au/wp-content/uploads/2025/08/Untitled-design-9-2.jpg
END:VEVENT
BEGIN:VEVENT
DTSTART;TZID=Australia/Brisbane:20251216T170000
DTEND;TZID=Australia/Brisbane:20251216T210000
DTSTAMP:20260422T034455
CREATED:20250818T045354Z
LAST-MODIFIED:20250818T045401Z
UID:10038355-1765904400-1765918800@www.theq.au
SUMMARY:Chicken Schnitty & Parmy Night
DESCRIPTION:Enjoy a succulent\, golden crumbed chicken schnitzel for just $18\, or make it a Parmy for $20!
URL:https://www.theq.au/event/chicken-schnitty-parmy-night-2/2025-12-16/
LOCATION:The Q\, 70 Ipswich Boonah Rd\, Purga\, QLD\, 4306\, Australia
CATEGORIES:All,Meal Specials
ATTACH;FMTTYPE=image/jpeg:https://www.theq.au/wp-content/uploads/2025/08/Untitled-design-9-1.jpg
END:VEVENT
BEGIN:VEVENT
DTSTART;TZID=Australia/Brisbane:20251217T170000
DTEND;TZID=Australia/Brisbane:20251217T210000
DTSTAMP:20260422T034455
CREATED:20250815T021420Z
LAST-MODIFIED:20250818T014915Z
UID:10037112-1765990800-1766005200@www.theq.au
SUMMARY:Steak Night
DESCRIPTION:Sink your teeth into a 250g rump steak served with chips\, salad and your choice of sauce. All for just $20!
URL:https://www.theq.au/event/steak-night/2025-12-17/
LOCATION:The Q\, 70 Ipswich Boonah Rd\, Purga\, QLD\, 4306\, Australia
CATEGORIES:All,Meal Specials
ATTACH;FMTTYPE=image/jpeg:https://www.theq.au/wp-content/uploads/2025/08/Untitled-design-9.jpg
END:VEVENT
BEGIN:VEVENT
DTSTART;TZID=Australia/Brisbane:20251221T100000
DTEND;TZID=Australia/Brisbane:20251221T210000
DTSTAMP:20260422T034455
CREATED:20250815T022559Z
LAST-MODIFIED:20250818T021348Z
UID:10037374-1766311200-1766350800@www.theq.au
SUMMARY:Sunday Roast
DESCRIPTION:Warm the soul with our hearty Sunday Roast special for just $19. Enjoy every Sunday for both lunch and dinner.
URL:https://www.theq.au/event/sunday-roast/2025-12-21/
LOCATION:The Q\, 70 Ipswich Boonah Rd\, Purga\, QLD\, 4306\, Australia
CATEGORIES:All,Meal Specials
ATTACH;FMTTYPE=image/jpeg:https://www.theq.au/wp-content/uploads/2025/08/Untitled-design-9-2.jpg
END:VEVENT
BEGIN:VEVENT
DTSTART;TZID=Australia/Brisbane:20251223T170000
DTEND;TZID=Australia/Brisbane:20251223T210000
DTSTAMP:20260422T034455
CREATED:20250818T045354Z
LAST-MODIFIED:20250818T045401Z
UID:10038356-1766509200-1766523600@www.theq.au
SUMMARY:Chicken Schnitty & Parmy Night
DESCRIPTION:Enjoy a succulent\, golden crumbed chicken schnitzel for just $18\, or make it a Parmy for $20!
URL:https://www.theq.au/event/chicken-schnitty-parmy-night-2/2025-12-23/
LOCATION:The Q\, 70 Ipswich Boonah Rd\, Purga\, QLD\, 4306\, Australia
CATEGORIES:All,Meal Specials
ATTACH;FMTTYPE=image/jpeg:https://www.theq.au/wp-content/uploads/2025/08/Untitled-design-9-1.jpg
END:VEVENT
BEGIN:VEVENT
DTSTART;TZID=Australia/Brisbane:20251224T170000
DTEND;TZID=Australia/Brisbane:20251224T210000
DTSTAMP:20260422T034455
CREATED:20250815T021420Z
LAST-MODIFIED:20250818T014915Z
UID:10037113-1766595600-1766610000@www.theq.au
SUMMARY:Steak Night
DESCRIPTION:Sink your teeth into a 250g rump steak served with chips\, salad and your choice of sauce. All for just $20!
URL:https://www.theq.au/event/steak-night/2025-12-24/
LOCATION:The Q\, 70 Ipswich Boonah Rd\, Purga\, QLD\, 4306\, Australia
CATEGORIES:All,Meal Specials
ATTACH;FMTTYPE=image/jpeg:https://www.theq.au/wp-content/uploads/2025/08/Untitled-design-9.jpg
END:VEVENT
BEGIN:VEVENT
DTSTART;TZID=Australia/Brisbane:20251228T100000
DTEND;TZID=Australia/Brisbane:20251228T210000
DTSTAMP:20260422T034455
CREATED:20250815T022559Z
LAST-MODIFIED:20250818T021348Z
UID:10037375-1766916000-1766955600@www.theq.au
SUMMARY:Sunday Roast
DESCRIPTION:Warm the soul with our hearty Sunday Roast special for just $19. Enjoy every Sunday for both lunch and dinner.
URL:https://www.theq.au/event/sunday-roast/2025-12-28/
LOCATION:The Q\, 70 Ipswich Boonah Rd\, Purga\, QLD\, 4306\, Australia
CATEGORIES:All,Meal Specials
ATTACH;FMTTYPE=image/jpeg:https://www.theq.au/wp-content/uploads/2025/08/Untitled-design-9-2.jpg
END:VEVENT
BEGIN:VEVENT
DTSTART;TZID=Australia/Brisbane:20251230T170000
DTEND;TZID=Australia/Brisbane:20251230T210000
DTSTAMP:20260422T034455
CREATED:20250818T045354Z
LAST-MODIFIED:20250818T045401Z
UID:10038357-1767114000-1767128400@www.theq.au
SUMMARY:Chicken Schnitty & Parmy Night
DESCRIPTION:Enjoy a succulent\, golden crumbed chicken schnitzel for just $18\, or make it a Parmy for $20!
URL:https://www.theq.au/event/chicken-schnitty-parmy-night-2/2025-12-30/
LOCATION:The Q\, 70 Ipswich Boonah Rd\, Purga\, QLD\, 4306\, Australia
CATEGORIES:All,Meal Specials
ATTACH;FMTTYPE=image/jpeg:https://www.theq.au/wp-content/uploads/2025/08/Untitled-design-9-1.jpg
END:VEVENT
BEGIN:VEVENT
DTSTART;TZID=Australia/Brisbane:20251231T170000
DTEND;TZID=Australia/Brisbane:20251231T210000
DTSTAMP:20260422T034455
CREATED:20250815T021420Z
LAST-MODIFIED:20250818T014915Z
UID:10037114-1767200400-1767214800@www.theq.au
SUMMARY:Steak Night
DESCRIPTION:Sink your teeth into a 250g rump steak served with chips\, salad and your choice of sauce. All for just $20!
URL:https://www.theq.au/event/steak-night/2025-12-31/
LOCATION:The Q\, 70 Ipswich Boonah Rd\, Purga\, QLD\, 4306\, Australia
CATEGORIES:All,Meal Specials
ATTACH;FMTTYPE=image/jpeg:https://www.theq.au/wp-content/uploads/2025/08/Untitled-design-9.jpg
END:VEVENT
END:VCALENDAR