BEGIN:VCALENDAR
VERSION:2.0
PRODID:-//The Q - ECPv6.15.20//NONSGML v1.0//EN
CALSCALE:GREGORIAN
METHOD:PUBLISH
X-WR-CALNAME:The Q
X-ORIGINAL-URL:https://www.theq.au
X-WR-CALDESC:Events for The Q
REFRESH-INTERVAL;VALUE=DURATION:PT1H
X-Robots-Tag:noindex
X-PUBLISHED-TTL:PT1H
BEGIN:VTIMEZONE
TZID:Australia/Brisbane
BEGIN:STANDARD
TZOFFSETFROM:+1000
TZOFFSETTO:+1000
TZNAME:AEST
DTSTART:20250101T000000
END:STANDARD
END:VTIMEZONE
BEGIN:VEVENT
DTSTART;TZID=Australia/Brisbane:20260125T190000
DTEND;TZID=Australia/Brisbane:20260125T210000
DTSTAMP:20260421T224346
CREATED:20260107T003733Z
LAST-MODIFIED:20260107T004114Z
UID:10039676-1769367600-1769374800@www.theq.au
SUMMARY:$3K Australia Day Giveaway
DESCRIPTION:$3K Australia Day Giveaway\nCelebrate Australia Day at The Q with our $3K Australia Day Giveaway\, happening in the Gaming Lounge. \nWe’re giving away four prize packs across the night\, with draws every 30 minutes from 7:00PM – 8:30PM. The more you play\, the more chances you have to win. \nHow to EnterEarn 1 virtual entry for every $10 in gaming play while your membership card is inserted in a gaming machine.Entries are automatic and start accumulating from 7 January. \nPrize Packs – Winner’s ChoiceEach winner gets to choose one of the following prize packs: \nOption 1 – Classic Aussie BBQ• Baby Q Weber• Meat Tray• 30-pack of XXXX Gold \nOption 2 – Luxe Treat Yourself Pack• AirPods• Dusk Candle• Cooler Bag• Bottle of Mumm Champagne \nSwipe\, play\, and be there for your chance to win big. \nTerms & conditions apply.
URL:https://www.theq.au/event/3k-australia-day-giveaway/
LOCATION:The Q\, 70 Ipswich Boonah Rd\, Purga\, QLD\, 4306\, Australia
CATEGORIES:All,Major Promotions,Promotions,Special Events,Weekly Gaming Promotions
ATTACH;FMTTYPE=image/jpeg:https://www.theq.au/wp-content/uploads/2026/01/White-and-Blue-Simple-Celebration-Australia-Day-Instagram-Post.jpg
END:VEVENT
END:VCALENDAR