BEGIN:VCALENDAR
VERSION:2.0
PRODID:-//The Q - ECPv6.15.20//NONSGML v1.0//EN
CALSCALE:GREGORIAN
METHOD:PUBLISH
X-ORIGINAL-URL:https://www.theq.au
X-WR-CALDESC:Events for The Q
REFRESH-INTERVAL;VALUE=DURATION:PT1H
X-Robots-Tag:noindex
X-PUBLISHED-TTL:PT1H
BEGIN:VTIMEZONE
TZID:Australia/Brisbane
BEGIN:STANDARD
TZOFFSETFROM:+1000
TZOFFSETTO:+1000
TZNAME:AEST
DTSTART:20240101T000000
END:STANDARD
END:VTIMEZONE
BEGIN:VEVENT
DTSTART;TZID=Australia/Brisbane:20251031T193000
DTEND;TZID=Australia/Brisbane:20251031T200000
DTSTAMP:20260422T035034
CREATED:20251001T033816Z
LAST-MODIFIED:20251001T035437Z
UID:10039388-1761939000-1761940800@www.theq.au
SUMMARY:Win a $2\,500 Lifestyle Makeover
DESCRIPTION:Win a Lifestyle Makeover at The Q! \nFrom 1 October\, every $10 you turn over on gaming\, or every $10 spent on food\, or drinks\, earns you virtual entries into our Win a Lifestyle Makeover draw. \nBe here on Friday\, 31 October at 8 PM for your chance to take home your choice of a $2\,500 Bunnings voucher\, $2\,500 Harvey Norman voucher\, or $2\,000 cash. \nEntries are automatically tracked through your membership\, so no tickets are required—just swipe\, play\, dine\, and you’re in the draw. \nThe winner must be present at the time of the draw. Terms and conditions apply.
URL:https://www.theq.au/event/win-a-lifestyle-makeover/
LOCATION:The Q\, 70 Ipswich Boonah Rd\, Purga\, QLD\, 4306\, Australia
CATEGORIES:All,Major Promotions,Promotions,Special Events
ATTACH;FMTTYPE=image/jpeg:https://www.theq.au/wp-content/uploads/2025/10/Lifestyle-Upgrade-1920-x-400-px-2.jpg
END:VEVENT
END:VCALENDAR