BEGIN:VCALENDAR
VERSION:2.0
PRODID:-//The Q - ECPv6.15.20//NONSGML v1.0//EN
CALSCALE:GREGORIAN
METHOD:PUBLISH
X-ORIGINAL-URL:https://www.theq.au
X-WR-CALDESC:Events for The Q
REFRESH-INTERVAL;VALUE=DURATION:PT1H
X-Robots-Tag:noindex
X-PUBLISHED-TTL:PT1H
BEGIN:VTIMEZONE
TZID:Australia/Brisbane
BEGIN:STANDARD
TZOFFSETFROM:+1000
TZOFFSETTO:+1000
TZNAME:AEST
DTSTART:20240101T000000
END:STANDARD
END:VTIMEZONE
BEGIN:VEVENT
DTSTART;TZID=Australia/Brisbane:20250928T170000
DTEND;TZID=Australia/Brisbane:20250928T170000
DTSTAMP:20260422T052609
CREATED:20250818T011527Z
LAST-MODIFIED:20250908T045902Z
UID:10038602-1759078800-1759078800@www.theq.au
SUMMARY:Win A Cruise Worth $3\,000
DESCRIPTION:Win Your Escape at The Q! \nYour chance to get away is here! Simply swipe your membership card when purchasing any food or beverage\, or use your card whilst playing the gaming machines from now until 28 September at The Q for your chance to win an unforgettable escape. \nDon’t miss out—every visit could bring you closer to your perfect escape. Drawn 5 PM 28th September.
URL:https://www.theq.au/event/win-your-escape/
LOCATION:The Q\, 70 Ipswich Boonah Rd\, Purga\, QLD\, 4306\, Australia
CATEGORIES:All,Major Promotions,Promotions
ATTACH;FMTTYPE=image/jpeg:https://www.theq.au/wp-content/uploads/2025/08/Win-a-Cruise-Worth-3K-1920-X-1020-1920-x-400-px-1.jpg
END:VEVENT
END:VCALENDAR